| Back to Long Tests report for BioC 3.14 |
This page was generated on 2022-04-09 21:00:04 -0400 (Sat, 09 Apr 2022).
| QUICK STATS | OS / Arch | CHECK | |||||||
| nebbiolo2 | Linux (Ubuntu 20.04.4 LTS) / x86_64 |
| |||||||
| riesling1 | Windows Server 2019 Standard / x64 |
| |||||||
| machv2 | macOS 10.14.6 Mojave / x86_64 |
| |||||||
| Package | Maintainer | CHECK | |||||||
| 1/19 | APAlyzer 1.8.0 (landing page) | Ruijia Wang | ERROR | ||||||
| 2/19 | autonomics 1.2.0 (landing page) | Aditya Bhagwat | ERROR | ||||||
| 3/19 | beachmat 2.10.0 (landing page) | Aaron Lun | ERROR | ||||||
| 4/19 | biodb 1.2.2 (landing page) | Pierrick Roger | OK | ||||||
| 5/19 | biodbChebi 1.0.1 (landing page) | Pierrick Roger | OK | ||||||
| 6/19 | biodbHmdb 1.0.3 (landing page) | Pierrick Roger | OK | ||||||
| 7/19 | biodbKegg 1.0.0 (landing page) | Pierrick Roger | OK | ||||||
| 8/19 | biodbLipidmaps 1.0.1 (landing page) | Pierrick Roger | OK | ||||||
| 9/19 | biodbUniprot 1.0.0 (landing page) | Pierrick Roger | OK | ||||||
| 10/19 | cBioPortalData 2.6.1 (landing page) | Marcel Ramos | WARNINGS | ||||||
| 11/19 | ChromSCape 1.4.0 (landing page) | Pacome Prompsy | ERROR | ||||||
| 12/19 | DelayedMatrixStats 1.16.0 (landing page) | Peter Hickey | OK | ||||||
| 13/19 | DropletUtils 1.14.2 (landing page) | Jonathan Griffiths | OK | ||||||
| 14/19 | GenomicFeatures 1.46.5 (landing page) | Bioconductor Package Maintainer | WARNINGS | ||||||
| 15/19 | HDF5Array 1.22.1 (landing page) | Hervé Pagès | ERROR | ||||||
| 16/19 | midasHLA 1.2.0 (landing page) | Maciej Migdał | ERROR | ||||||
| 17/19 | rhdf5 2.38.1 (landing page) | Mike Smith | OK | ||||||
| 18/19 | xcms 3.16.1 (landing page) | Steffen Neumann | ERROR | ||||||
| 19/19 | zellkonverter 1.4.0 (landing page) | Luke Zappia | ERROR | ||||||