See here for how to subscribe to these builds.
This page was generated on 2022-04-09 21:00:04 -0400 (Sat, 09 Apr 2022).
|
| Hostname | OS | Arch (*) | R version | Installed pkgs |
|---|---|---|---|---|
| nebbiolo2 | Linux (Ubuntu 20.04.4 LTS) | x86_64 | 4.1.3 (2022-03-10) -- "One Push-Up" | 4322 |
| riesling1 | Windows Server 2019 Standard | x64 | 4.1.2 (2021-11-01) -- "Bird Hippie" | 4108 |
| machv2 | macOS 10.14.6 Mojave | x86_64 | 4.1.3 (2022-03-10) -- "One Push-Up" | 4135 |
| Click on any hostname to see more info about the system (e.g. compilers) (*) as reported by 'uname -p', except on Windows and Mac OS X | ||||
| QUICK STATS | OS / Arch | CHECK | |||||||
| nebbiolo2 | Linux (Ubuntu 20.04.4 LTS) / x86_64 |
| |||||||
| riesling1 | Windows Server 2019 Standard / x64 |
| |||||||
| machv2 | macOS 10.14.6 Mojave / x86_64 |
| |||||||
| Package 1/19 | Hostname | OS / Arch | CHECK | ||||||
| APAlyzer 1.8.0 (landing page) Ruijia Wang
| nebbiolo2 | Linux (Ubuntu 20.04.4 LTS) / x86_64 | ERROR | ||||||
| riesling1 | Windows Server 2019 Standard / x64 | ERROR | |||||||
| machv2 | macOS 10.14.6 Mojave / x86_64 | ERROR | |||||||
| Package 2/19 | Hostname | OS / Arch | CHECK | ||||||
| autonomics 1.2.0 (landing page) Aditya Bhagwat
| nebbiolo2 | Linux (Ubuntu 20.04.4 LTS) / x86_64 | ERROR | ||||||
| riesling1 | Windows Server 2019 Standard / x64 | ERROR | |||||||
| machv2 | macOS 10.14.6 Mojave / x86_64 | ERROR | |||||||
| Package 3/19 | Hostname | OS / Arch | CHECK | ||||||
| beachmat 2.10.0 (landing page) Aaron Lun
| nebbiolo2 | Linux (Ubuntu 20.04.4 LTS) / x86_64 | ERROR | ||||||
| riesling1 | Windows Server 2019 Standard / x64 | ERROR | |||||||
| machv2 | macOS 10.14.6 Mojave / x86_64 | ERROR | |||||||
| Package 4/19 | Hostname | OS / Arch | CHECK | ||||||
| biodb 1.2.2 (landing page) Pierrick Roger
| nebbiolo2 | Linux (Ubuntu 20.04.4 LTS) / x86_64 | OK | ||||||
| riesling1 | Windows Server 2019 Standard / x64 | OK | |||||||
| machv2 | macOS 10.14.6 Mojave / x86_64 | OK | |||||||
| Package 5/19 | Hostname | OS / Arch | CHECK | ||||||
| biodbChebi 1.0.1 (landing page) Pierrick Roger
| nebbiolo2 | Linux (Ubuntu 20.04.4 LTS) / x86_64 | OK | ||||||
| riesling1 | Windows Server 2019 Standard / x64 | OK | |||||||
| machv2 | macOS 10.14.6 Mojave / x86_64 | OK | |||||||
| Package 6/19 | Hostname | OS / Arch | CHECK | ||||||
| biodbHmdb 1.0.3 (landing page) Pierrick Roger
| nebbiolo2 | Linux (Ubuntu 20.04.4 LTS) / x86_64 | OK | ||||||
| riesling1 | Windows Server 2019 Standard / x64 | OK | |||||||
| machv2 | macOS 10.14.6 Mojave / x86_64 | OK | |||||||
| Package 7/19 | Hostname | OS / Arch | CHECK | ||||||
| biodbKegg 1.0.0 (landing page) Pierrick Roger
| nebbiolo2 | Linux (Ubuntu 20.04.4 LTS) / x86_64 | OK | ||||||
| riesling1 | Windows Server 2019 Standard / x64 | OK | |||||||
| machv2 | macOS 10.14.6 Mojave / x86_64 | OK | |||||||
| Package 8/19 | Hostname | OS / Arch | CHECK | ||||||
| biodbLipidmaps 1.0.1 (landing page) Pierrick Roger
| nebbiolo2 | Linux (Ubuntu 20.04.4 LTS) / x86_64 | OK | ||||||
| riesling1 | Windows Server 2019 Standard / x64 | OK | |||||||
| machv2 | macOS 10.14.6 Mojave / x86_64 | OK | |||||||
| Package 9/19 | Hostname | OS / Arch | CHECK | ||||||
| biodbUniprot 1.0.0 (landing page) Pierrick Roger
| nebbiolo2 | Linux (Ubuntu 20.04.4 LTS) / x86_64 | OK | ||||||
| riesling1 | Windows Server 2019 Standard / x64 | OK | |||||||
| machv2 | macOS 10.14.6 Mojave / x86_64 | OK | |||||||
| Package 10/19 | Hostname | OS / Arch | CHECK | ||||||
| cBioPortalData 2.6.1 (landing page) Marcel Ramos
| nebbiolo2 | Linux (Ubuntu 20.04.4 LTS) / x86_64 | WARNINGS | ||||||
| riesling1 | Windows Server 2019 Standard / x64 | WARNINGS | |||||||
| machv2 | macOS 10.14.6 Mojave / x86_64 | WARNINGS | |||||||
| Package 11/19 | Hostname | OS / Arch | CHECK | ||||||
| ChromSCape 1.4.0 (landing page) Pacome Prompsy
| nebbiolo2 | Linux (Ubuntu 20.04.4 LTS) / x86_64 | ERROR | ||||||
| riesling1 | Windows Server 2019 Standard / x64 | ERROR | |||||||
| machv2 | macOS 10.14.6 Mojave / x86_64 | ERROR | |||||||
| Package 12/19 | Hostname | OS / Arch | CHECK | ||||||
| DelayedMatrixStats 1.16.0 (landing page) Peter Hickey
| nebbiolo2 | Linux (Ubuntu 20.04.4 LTS) / x86_64 | OK | ||||||
| riesling1 | Windows Server 2019 Standard / x64 | OK | |||||||
| machv2 | macOS 10.14.6 Mojave / x86_64 | OK | |||||||
| Package 13/19 | Hostname | OS / Arch | CHECK | ||||||
| DropletUtils 1.14.2 (landing page) Jonathan Griffiths
| nebbiolo2 | Linux (Ubuntu 20.04.4 LTS) / x86_64 | OK | ||||||
| riesling1 | Windows Server 2019 Standard / x64 | ERROR | |||||||
| machv2 | macOS 10.14.6 Mojave / x86_64 | OK | |||||||
| Package 14/19 | Hostname | OS / Arch | CHECK | ||||||
| GenomicFeatures 1.46.5 (landing page) Bioconductor Package Maintainer
| nebbiolo2 | Linux (Ubuntu 20.04.4 LTS) / x86_64 | WARNINGS | ||||||
| riesling1 | Windows Server 2019 Standard / x64 | WARNINGS | |||||||
| machv2 | macOS 10.14.6 Mojave / x86_64 | WARNINGS | |||||||
| Package 15/19 | Hostname | OS / Arch | CHECK | ||||||
| HDF5Array 1.22.1 (landing page) Hervé Pagès
| nebbiolo2 | Linux (Ubuntu 20.04.4 LTS) / x86_64 | ERROR | ||||||
| riesling1 | Windows Server 2019 Standard / x64 | ERROR | |||||||
| machv2 | macOS 10.14.6 Mojave / x86_64 | ERROR | |||||||
| Package 16/19 | Hostname | OS / Arch | CHECK | ||||||
| midasHLA 1.2.0 (landing page) Maciej Migdał
| nebbiolo2 | Linux (Ubuntu 20.04.4 LTS) / x86_64 | ERROR | ||||||
| riesling1 | Windows Server 2019 Standard / x64 | ERROR | |||||||
| machv2 | macOS 10.14.6 Mojave / x86_64 | ERROR | |||||||
| Package 17/19 | Hostname | OS / Arch | CHECK | ||||||
| rhdf5 2.38.1 (landing page) Mike Smith
| nebbiolo2 | Linux (Ubuntu 20.04.4 LTS) / x86_64 | OK | ||||||
| riesling1 | Windows Server 2019 Standard / x64 | ERROR | |||||||
| machv2 | macOS 10.14.6 Mojave / x86_64 | OK | |||||||
| Package 18/19 | Hostname | OS / Arch | CHECK | ||||||
| xcms 3.16.1 (landing page) Steffen Neumann
| nebbiolo2 | Linux (Ubuntu 20.04.4 LTS) / x86_64 | ERROR | ||||||
| riesling1 | Windows Server 2019 Standard / x64 | ERROR | |||||||
| machv2 | macOS 10.14.6 Mojave / x86_64 | ERROR | |||||||
| Package 19/19 | Hostname | OS / Arch | CHECK | ||||||
| zellkonverter 1.4.0 (landing page) Luke Zappia
| nebbiolo2 | Linux (Ubuntu 20.04.4 LTS) / x86_64 | ERROR | ||||||
| riesling1 | Windows Server 2019 Standard / x64 | ERROR | |||||||
| machv2 | macOS 10.14.6 Mojave / x86_64 | ERROR | |||||||