| Back to Multiple platform build/check report for BioC 3.14 |
|
This page was generated on 2022-04-13 12:07:34 -0400 (Wed, 13 Apr 2022).
| Hostname | OS | Arch (*) | R version | Installed pkgs |
|---|---|---|---|---|
| nebbiolo2 | Linux (Ubuntu 20.04.4 LTS) | x86_64 | 4.1.3 (2022-03-10) -- "One Push-Up" | 4324 |
| tokay2 | Windows Server 2012 R2 Standard | x64 | 4.1.3 (2022-03-10) -- "One Push-Up" | 4077 |
| machv2 | macOS 10.14.6 Mojave | x86_64 | 4.1.3 (2022-03-10) -- "One Push-Up" | 4137 |
| Click on any hostname to see more info about the system (e.g. compilers) (*) as reported by 'uname -p', except on Windows and Mac OS X | ||||
|
To the developers/maintainers of the zinbwave package: - Please allow up to 24 hours (and sometimes 48 hours) for your latest push to git@git.bioconductor.org:packages/zinbwave.git to reflect on this report. See How and When does the builder pull? When will my changes propagate? for more information. - Make sure to use the following settings in order to reproduce any error or warning you see on this page. |
| Package 2082/2083 | Hostname | OS / Arch | INSTALL | BUILD | CHECK | BUILD BIN | ||||||||
| zinbwave 1.16.0 (landing page) Davide Risso
| nebbiolo2 | Linux (Ubuntu 20.04.4 LTS) / x86_64 | OK | OK | OK | |||||||||
| tokay2 | Windows Server 2012 R2 Standard / x64 | OK | OK | OK | OK | |||||||||
| machv2 | macOS 10.14.6 Mojave / x86_64 | OK | OK | OK | OK | |||||||||
| Package: zinbwave |
| Version: 1.16.0 |
| Command: rm -rf zinbwave.buildbin-libdir && mkdir zinbwave.buildbin-libdir && C:\Users\biocbuild\bbs-3.14-bioc\R\bin\R.exe CMD INSTALL --merge-multiarch --build --library=zinbwave.buildbin-libdir zinbwave_1.16.0.tar.gz |
| StartedAt: 2022-04-13 07:20:40 -0400 (Wed, 13 Apr 2022) |
| EndedAt: 2022-04-13 07:21:26 -0400 (Wed, 13 Apr 2022) |
| EllapsedTime: 45.9 seconds |
| RetCode: 0 |
| Status: OK |
| PackageFile: zinbwave_1.16.0.zip |
| PackageFileSize: 927.6 KiB |
##############################################################################
##############################################################################
###
### Running command:
###
### rm -rf zinbwave.buildbin-libdir && mkdir zinbwave.buildbin-libdir && C:\Users\biocbuild\bbs-3.14-bioc\R\bin\R.exe CMD INSTALL --merge-multiarch --build --library=zinbwave.buildbin-libdir zinbwave_1.16.0.tar.gz
###
##############################################################################
##############################################################################
install for i386
* installing *source* package 'zinbwave' ...
** using staged installation
** R
** data
*** moving datasets to lazyload DB
** inst
** byte-compile and prepare package for lazy loading
** help
*** installing help indices
converting help for package 'zinbwave'
finding HTML links ... done
ZinbModel-class html
computeDevianceResiduals html
computeObservationalWeights html
getAlpha_mu html
getAlpha_pi html
getBeta_mu html
getBeta_pi html
getEpsilon_W html
getEpsilon_alpha html
getEpsilon_beta_mu html
getEpsilon_beta_pi html
getEpsilon_gamma_mu html
getEpsilon_gamma_pi html
getEpsilon_zeta html
getGamma_mu html
getGamma_pi html
getLogMu html
getLogitPi html
getMu html
getPhi html
getPi html
getTheta html
getV_mu html
getV_pi html
getW html
getX_mu html
getX_pi html
getZeta html
glmWeightedF html
imputeZeros html
independentFiltering html
loglik html
nFactors html
nFeatures html
nParams html
nSamples html
orthogonalizeTraceNorm html
penalty html
pvalueAdjustment html
solveRidgeRegression html
toydata html
zinb.loglik html
zinb.loglik.dispersion html
zinb.loglik.dispersion.gradient html
zinb.loglik.matrix html
zinb.loglik.regression html
zinb.loglik.regression.gradient html
zinb.regression.parseModel html
zinbAIC html
zinbFit html
zinbInitialize html
zinbModel html
REDIRECT:topic Previous alias or file overwritten by alias: C:/Users/biocbuild/bbs-3.14-bioc/meat/zinbwave.buildbin-libdir/00LOCK-zinbwave/00new/zinbwave/help/zinbModel.html
zinbOptimize html
zinbOptimizeDispersion html
zinbSim html
zinbsurf html
zinbwave html
** building package indices
** installing vignettes
** testing if installed package can be loaded from temporary location
** testing if installed package can be loaded from final location
** testing if installed package keeps a record of temporary installation path
install for x64
* installing *source* package 'zinbwave' ...
** testing if installed package can be loaded
* MD5 sums
packaged installation of 'zinbwave' as zinbwave_1.16.0.zip
* DONE (zinbwave)