| Back to Multiple platform build/check report for BioC 3.14 | 
  | 
This page was generated on 2022-04-13 12:07:34 -0400 (Wed, 13 Apr 2022).
| Hostname | OS | Arch (*) | R version | Installed pkgs | 
|---|---|---|---|---|
| nebbiolo2 | Linux (Ubuntu 20.04.4 LTS) | x86_64 | 4.1.3 (2022-03-10) -- "One Push-Up" | 4324 | 
| tokay2 | Windows Server 2012 R2 Standard | x64 | 4.1.3 (2022-03-10) -- "One Push-Up" | 4077 | 
| machv2 | macOS 10.14.6 Mojave | x86_64 | 4.1.3 (2022-03-10) -- "One Push-Up" | 4137 | 
| Click on any hostname to see more info about the system (e.g. compilers) (*) as reported by 'uname -p', except on Windows and Mac OS X | ||||
| 
To the developers/maintainers of the wpm package: - Please allow up to 24 hours (and sometimes 48 hours) for your latest push to git@git.bioconductor.org:packages/wpm.git to reflect on this report. See How and When does the builder pull? When will my changes propagate? for more information. - Make sure to use the following settings in order to reproduce any error or warning you see on this page.  | 
| Package 2066/2083 | Hostname | OS / Arch | INSTALL | BUILD | CHECK | BUILD BIN | ||||||||
| wpm 1.4.0  (landing page) Helene Borges 
  | nebbiolo2 | Linux (Ubuntu 20.04.4 LTS) / x86_64 | OK | OK | OK | |||||||||
| tokay2 | Windows Server 2012 R2 Standard / x64 | OK | OK | OK | OK | |||||||||
| machv2 | macOS 10.14.6 Mojave / x86_64 | OK | OK | OK | OK | |||||||||
| Package: wpm | 
| Version: 1.4.0 | 
| Command: rm -rf wpm.buildbin-libdir && mkdir wpm.buildbin-libdir && C:\Users\biocbuild\bbs-3.14-bioc\R\bin\R.exe CMD INSTALL --merge-multiarch --build --library=wpm.buildbin-libdir wpm_1.4.0.tar.gz | 
| StartedAt: 2022-04-13 07:20:02 -0400 (Wed, 13 Apr 2022) | 
| EndedAt: 2022-04-13 07:20:15 -0400 (Wed, 13 Apr 2022) | 
| EllapsedTime: 13.1 seconds | 
| RetCode: 0 | 
| Status: OK | 
| PackageFile: wpm_1.4.0.zip | 
| PackageFileSize: 1.818 MiB | 
##############################################################################
##############################################################################
###
### Running command:
###
###   rm -rf wpm.buildbin-libdir && mkdir wpm.buildbin-libdir && C:\Users\biocbuild\bbs-3.14-bioc\R\bin\R.exe CMD INSTALL --merge-multiarch --build --library=wpm.buildbin-libdir wpm_1.4.0.tar.gz
###
##############################################################################
##############################################################################
install for i386
* installing *source* package 'wpm' ...
** using staged installation
** R
** data
** inst
** byte-compile and prepare package for lazy loading
** help
*** installing help indices
  converting help for package 'wpm'
    finding HTML links ... done
    backtracking                            html  
    balancedGrpDistrib                      html  
    checkConstraints                        html  
    checkWpmInputs                          html  
    convertCSV                              html  
    convertESet                             html  
    convertSE                               html  
    convertVector2Df                        html  
    data_test                               html  
    defineBufferCoords                      html  
    drawMap                                 html  
    findNEWSneighbors                       html  
    findNSneighbors                         html  
    findWEneighbors                         html  
    generateMap                             html  
    joinDataframes                          html  
    randomWalk                              html  
    resample                                html  
    solveCell                               html  
    wpm                                     html  
    wrapperWPM                              html  
** building package indices
** installing vignettes
** testing if installed package can be loaded from temporary location
-- This is the Well-Plate Maker package. ---------------------------------------
If you want to use the shiny application, then simply run: `wpm()`.If you want
to see the Tutorial vignette and use WPM in command line, run:
`browseVignettes('wpm')`.
** testing if installed package can be loaded from final location
-- This is the Well-Plate Maker package. ---------------------------------------
If you want to use the shiny application, then simply run: `wpm()`.If you want
to see the Tutorial vignette and use WPM in command line, run:
`browseVignettes('wpm')`.
** testing if installed package keeps a record of temporary installation path
install for x64
* installing *source* package 'wpm' ...
** testing if installed package can be loaded
-- This is the Well-Plate Maker package. ---------------------------------------
If you want to use the shiny application, then simply run: `wpm()`.If you want
to see the Tutorial vignette and use WPM in command line, run:
`browseVignettes('wpm')`.
* MD5 sums
packaged installation of 'wpm' as wpm_1.4.0.zip
* DONE (wpm)