| Back to Multiple platform build/check report for BioC 3.14 | 
 | 
This page was generated on 2022-04-13 12:07:31 -0400 (Wed, 13 Apr 2022).
| Hostname | OS | Arch (*) | R version | Installed pkgs | 
|---|---|---|---|---|
| nebbiolo2 | Linux (Ubuntu 20.04.4 LTS) | x86_64 | 4.1.3 (2022-03-10) -- "One Push-Up" | 4324 | 
| tokay2 | Windows Server 2012 R2 Standard | x64 | 4.1.3 (2022-03-10) -- "One Push-Up" | 4077 | 
| machv2 | macOS 10.14.6 Mojave | x86_64 | 4.1.3 (2022-03-10) -- "One Push-Up" | 4137 | 
| Click on any hostname to see more info about the system (e.g. compilers) (*) as reported by 'uname -p', except on Windows and Mac OS X | ||||
| To the developers/maintainers of the tscR package: - Please allow up to 24 hours (and sometimes 48 hours) for your latest push to git@git.bioconductor.org:packages/tscR.git to reflect on this report. See How and When does the builder pull? When will my changes propagate? for more information. - Make sure to use the following settings in order to reproduce any error or warning you see on this page. | 
| Package 2011/2083 | Hostname | OS / Arch | INSTALL | BUILD | CHECK | BUILD BIN | ||||||||
| tscR 1.6.1  (landing page) Fernando PĂ©rez-Sanz 
 | nebbiolo2 | Linux (Ubuntu 20.04.4 LTS) / x86_64 | OK | OK | OK |  | ||||||||
| tokay2 | Windows Server 2012 R2 Standard / x64 | OK | OK | OK | OK |  | ||||||||
| machv2 | macOS 10.14.6 Mojave / x86_64 | OK | OK | OK | OK |  | ||||||||
| Package: tscR | 
| Version: 1.6.1 | 
| Command: C:\cygwin\bin\curl.exe -O http://155.52.207.166/BBS/3.14/bioc/src/contrib/tscR_1.6.1.tar.gz && rm -rf tscR.buildbin-libdir && mkdir tscR.buildbin-libdir && C:\Users\biocbuild\bbs-3.14-bioc\R\bin\R.exe CMD INSTALL --merge-multiarch --build --library=tscR.buildbin-libdir tscR_1.6.1.tar.gz && C:\Users\biocbuild\bbs-3.14-bioc\R\bin\R.exe CMD INSTALL tscR_1.6.1.zip && rm tscR_1.6.1.tar.gz tscR_1.6.1.zip | 
| StartedAt: 2022-04-12 05:47:00 -0400 (Tue, 12 Apr 2022) | 
| EndedAt: 2022-04-12 05:48:14 -0400 (Tue, 12 Apr 2022) | 
| EllapsedTime: 74.1 seconds | 
| RetCode: 0 | 
| Status: OK | 
##############################################################################
##############################################################################
###
### Running command:
###
###   C:\cygwin\bin\curl.exe -O http://155.52.207.166/BBS/3.14/bioc/src/contrib/tscR_1.6.1.tar.gz && rm -rf tscR.buildbin-libdir && mkdir tscR.buildbin-libdir && C:\Users\biocbuild\bbs-3.14-bioc\R\bin\R.exe CMD INSTALL --merge-multiarch --build --library=tscR.buildbin-libdir tscR_1.6.1.tar.gz && C:\Users\biocbuild\bbs-3.14-bioc\R\bin\R.exe CMD INSTALL tscR_1.6.1.zip && rm tscR_1.6.1.tar.gz tscR_1.6.1.zip
###
##############################################################################
##############################################################################
  % Total    % Received % Xferd  Average Speed   Time    Time     Time  Current
                                 Dload  Upload   Total   Spent    Left  Speed
  0     0    0     0    0     0      0      0 --:--:-- --:--:-- --:--:--     0
 93  161k   93  151k    0     0   402k      0 --:--:-- --:--:-- --:--:--  402k
100  161k  100  161k    0     0   428k      0 --:--:-- --:--:-- --:--:--  427k
install for i386
* installing *source* package 'tscR' ...
** using staged installation
** libs
"C:/rtools40/mingw32/bin/"gcc  -I"C:/Users/BIOCBU~1/BBS-3~1.14-/R/include" -DNDEBUG     -I"C:/extsoft/include"     -O2 -Wall  -std=gnu99 -mfpmath=sse -msse2 -mstackrealign  -c tscR.c -o tscR.o
"C:/rtools40/mingw32/bin/"gcc  -I"C:/Users/BIOCBU~1/BBS-3~1.14-/R/include" -DNDEBUG     -I"C:/extsoft/include"     -O2 -Wall  -std=gnu99 -mfpmath=sse -msse2 -mstackrealign  -c tscR_init.c -o tscR_init.o
C:/rtools40/mingw32/bin/gcc -shared -s -static-libgcc -o tscR.dll tmp.def tscR.o tscR_init.o -LC:/extsoft/lib/i386 -LC:/extsoft/lib -LC:/Users/BIOCBU~1/BBS-3~1.14-/R/bin/i386 -lR
installing to C:/Users/biocbuild/bbs-3.14-bioc/meat/tscR.buildbin-libdir/00LOCK-tscR/00new/tscR/libs/i386
** R
** data
** byte-compile and prepare package for lazy loading
** help
*** installing help indices
  converting help for package 'tscR'
    finding HTML links ... done
    combineCluster                          html  
    frechetDist                             html  
    frechetDistC                            html  
    getClusters                             html  
    importFromSE                            html  
    imputeSenator-class                     html  
    imputeSenatorToData                     html  
    imputeSenators                          html  
    plotCluster                             html  
    plotClusterSenator                      html  
    slopeDist                               html  
    tscR                                    html  
** building package indices
** installing vignettes
** testing if installed package can be loaded from temporary location
** testing if installed package can be loaded from final location
** testing if installed package keeps a record of temporary installation path
install for x64
* installing *source* package 'tscR' ...
** libs
"C:/rtools40/mingw64/bin/"gcc  -I"C:/Users/BIOCBU~1/BBS-3~1.14-/R/include" -DNDEBUG     -I"C:/extsoft/include"     -O2 -Wall  -std=gnu99 -mfpmath=sse -msse2 -mstackrealign  -c tscR.c -o tscR.o
"C:/rtools40/mingw64/bin/"gcc  -I"C:/Users/BIOCBU~1/BBS-3~1.14-/R/include" -DNDEBUG     -I"C:/extsoft/include"     -O2 -Wall  -std=gnu99 -mfpmath=sse -msse2 -mstackrealign  -c tscR_init.c -o tscR_init.o
C:/rtools40/mingw64/bin/gcc -shared -s -static-libgcc -o tscR.dll tmp.def tscR.o tscR_init.o -LC:/extsoft/lib/x64 -LC:/extsoft/lib -LC:/Users/BIOCBU~1/BBS-3~1.14-/R/bin/x64 -lR
installing to C:/Users/biocbuild/bbs-3.14-bioc/meat/tscR.buildbin-libdir/tscR/libs/x64
** testing if installed package can be loaded
* MD5 sums
packaged installation of 'tscR' as tscR_1.6.1.zip
* DONE (tscR)
* installing to library 'C:/Users/biocbuild/bbs-3.14-bioc/R/library'
package 'tscR' successfully unpacked and MD5 sums checked