| Back to Multiple platform build/check report for BioC 3.14 |
|
This page was generated on 2022-04-13 12:08:57 -0400 (Wed, 13 Apr 2022).
| Hostname | OS | Arch (*) | R version | Installed pkgs |
|---|---|---|---|---|
| nebbiolo2 | Linux (Ubuntu 20.04.4 LTS) | x86_64 | 4.1.3 (2022-03-10) -- "One Push-Up" | 4324 |
| tokay2 | Windows Server 2012 R2 Standard | x64 | 4.1.3 (2022-03-10) -- "One Push-Up" | 4077 |
| machv2 | macOS 10.14.6 Mojave | x86_64 | 4.1.3 (2022-03-10) -- "One Push-Up" | 4137 |
| Click on any hostname to see more info about the system (e.g. compilers) (*) as reported by 'uname -p', except on Windows and Mac OS X | ||||
|
To the developers/maintainers of the trio package: - Please allow up to 24 hours (and sometimes 48 hours) for your latest push to git@git.bioconductor.org:packages/trio.git to reflect on this report. See How and When does the builder pull? When will my changes propagate? for more information. - Make sure to use the following settings in order to reproduce any error or warning you see on this page. |
| Package 2003/2083 | Hostname | OS / Arch | INSTALL | BUILD | CHECK | BUILD BIN | ||||||||
| trio 3.32.0 (landing page) Holger Schwender
| nebbiolo2 | Linux (Ubuntu 20.04.4 LTS) / x86_64 | OK | OK | OK | |||||||||
| tokay2 | Windows Server 2012 R2 Standard / x64 | OK | OK | OK | OK | |||||||||
| machv2 | macOS 10.14.6 Mojave / x86_64 | OK | OK | OK | OK | |||||||||
| Package: trio |
| Version: 3.32.0 |
| Command: /Library/Frameworks/R.framework/Resources/bin/R CMD check --install=check:trio.install-out.txt --library=/Library/Frameworks/R.framework/Resources/library --no-vignettes --timings trio_3.32.0.tar.gz |
| StartedAt: 2022-04-12 19:37:59 -0400 (Tue, 12 Apr 2022) |
| EndedAt: 2022-04-12 19:41:58 -0400 (Tue, 12 Apr 2022) |
| EllapsedTime: 239.4 seconds |
| RetCode: 0 |
| Status: OK |
| CheckDir: trio.Rcheck |
| Warnings: 0 |
##############################################################################
##############################################################################
###
### Running command:
###
### /Library/Frameworks/R.framework/Resources/bin/R CMD check --install=check:trio.install-out.txt --library=/Library/Frameworks/R.framework/Resources/library --no-vignettes --timings trio_3.32.0.tar.gz
###
##############################################################################
##############################################################################
* using log directory ‘/Users/biocbuild/bbs-3.14-bioc/meat/trio.Rcheck’
* using R version 4.1.3 (2022-03-10)
* using platform: x86_64-apple-darwin17.0 (64-bit)
* using session charset: UTF-8
* using option ‘--no-vignettes’
* checking for file ‘trio/DESCRIPTION’ ... OK
* checking extension type ... Package
* this is package ‘trio’ version ‘3.32.0’
* checking package namespace information ... OK
* checking package dependencies ... OK
* checking if this is a source package ... OK
* checking if there is a namespace ... OK
* checking for hidden files and directories ... OK
* checking for portable file names ... OK
* checking for sufficient/correct file permissions ... OK
* checking whether package ‘trio’ can be installed ... OK
* checking installed package size ... OK
* checking package directory ... OK
* checking ‘build’ directory ... OK
* checking DESCRIPTION meta-information ... OK
* checking top-level files ... OK
* checking for left-over files ... OK
* checking index information ... OK
* checking package subdirectories ... OK
* checking R files for non-ASCII characters ... OK
* checking R files for syntax errors ... OK
* checking whether the package can be loaded ... OK
* checking whether the package can be loaded with stated dependencies ... OK
* checking whether the package can be unloaded cleanly ... OK
* checking whether the namespace can be loaded with stated dependencies ... OK
* checking whether the namespace can be unloaded cleanly ... OK
* checking dependencies in R code ... OK
* checking S3 generic/method consistency ... OK
* checking replacement functions ... OK
* checking foreign function calls ... NOTE
Foreign function call to a different package:
.C("clogreg", ..., PACKAGE = "LogicReg")
See chapter ‘System and foreign language interfaces’ in the ‘Writing R
Extensions’ manual.
* checking R code for possible problems ... OK
* checking Rd files ... OK
* checking Rd metadata ... OK
* checking Rd cross-references ... OK
* checking for missing documentation entries ... OK
* checking for code/documentation mismatches ... OK
* checking Rd \usage sections ... OK
* checking Rd contents ... OK
* checking for unstated dependencies in examples ... OK
* checking contents of ‘data’ directory ... OK
* checking data for non-ASCII characters ... OK
* checking data for ASCII and uncompressed saves ... OK
* checking sizes of PDF files under ‘inst/doc’ ... OK
* checking installed files from ‘inst/doc’ ... OK
* checking files in ‘vignettes’ ... OK
* checking examples ... OK
Examples with CPU (user + system) or elapsed time > 5s
user system elapsed
colGxGPerms 8.325 0.236 8.582
print.trioFS 8.457 0.044 8.508
trioFS 7.921 0.026 7.949
trio.permTest 7.474 0.022 7.502
plot.trioLR 6.676 0.142 6.825
* checking for unstated dependencies in vignettes ... OK
* checking package vignettes in ‘inst/doc’ ... OK
* checking running R code from vignettes ... SKIPPED
* checking re-building of vignette outputs ... SKIPPED
* checking PDF version of manual ... OK
* DONE
Status: 1 NOTE
See
‘/Users/biocbuild/bbs-3.14-bioc/meat/trio.Rcheck/00check.log’
for details.
trio.Rcheck/00install.out
############################################################################## ############################################################################## ### ### Running command: ### ### /Library/Frameworks/R.framework/Resources/bin/R CMD INSTALL trio ### ############################################################################## ############################################################################## * installing to library ‘/Library/Frameworks/R.framework/Versions/4.1/Resources/library’ * installing *source* package ‘trio’ ... ** using staged installation ** R ** data ** inst ** byte-compile and prepare package for lazy loading ** help *** installing help indices ** building package indices ** installing vignettes ‘trio.Rnw’ ** testing if installed package can be loaded from temporary location ** testing if installed package can be loaded from final location ** testing if installed package keeps a record of temporary installation path * DONE (trio)
trio.Rcheck/trio-Ex.timings
| name | user | system | elapsed | |
| allelicTDT | 0.044 | 0.008 | 0.052 | |
| colEMlrt | 0.189 | 0.007 | 0.197 | |
| colGxE | 0.015 | 0.002 | 0.017 | |
| colGxGPerms | 8.325 | 0.236 | 8.582 | |
| colPOlrt | 0.030 | 0.004 | 0.033 | |
| colTDTmaxTest | 0.059 | 0.008 | 0.066 | |
| colTDTsam | 0.057 | 0.003 | 0.061 | |
| findLDblocks | 0.047 | 0.011 | 0.058 | |
| getLD | 0.029 | 0.003 | 0.032 | |
| getMatPseudo | 0.015 | 0.002 | 0.017 | |
| lrControl | 0.000 | 0.001 | 0.000 | |
| ped2geno | 0.000 | 0.001 | 0.000 | |
| plot.LDblocks | 0.083 | 0.007 | 0.090 | |
| plot.getLD | 0.043 | 0.006 | 0.049 | |
| plot.trioLR | 6.676 | 0.142 | 6.825 | |
| poly4root | 0.000 | 0.000 | 0.001 | |
| print.colGxE | 0.064 | 0.006 | 0.070 | |
| print.trioFS | 8.457 | 0.044 | 8.508 | |
| print.trioLR | 4.763 | 0.022 | 4.787 | |
| probTDT | 0.071 | 0.034 | 0.104 | |
| read.pedfile | 0.000 | 0.000 | 0.001 | |
| removeSNPs | 0.011 | 0.002 | 0.014 | |
| scoreTDT | 0.020 | 0.003 | 0.022 | |
| tdt | 0.029 | 0.003 | 0.032 | |
| tdtGxG | 2.559 | 0.036 | 2.597 | |
| trio.check | 1.391 | 0.016 | 1.409 | |
| trio.data | 0.010 | 0.001 | 0.011 | |
| trio.permTest | 7.474 | 0.022 | 7.502 | |
| trio.power | 0.021 | 0.002 | 0.023 | |
| trio.prepare | 4.467 | 0.028 | 4.500 | |
| trio.sim | 0.442 | 0.003 | 0.447 | |
| trioFS | 7.921 | 0.026 | 7.949 | |
| trioLR | 4.711 | 0.014 | 4.728 | |