| Back to Multiple platform build/check report for BioC 3.14 | 
  | 
This page was generated on 2022-04-13 12:07:30 -0400 (Wed, 13 Apr 2022).
| Hostname | OS | Arch (*) | R version | Installed pkgs | 
|---|---|---|---|---|
| nebbiolo2 | Linux (Ubuntu 20.04.4 LTS) | x86_64 | 4.1.3 (2022-03-10) -- "One Push-Up" | 4324 | 
| tokay2 | Windows Server 2012 R2 Standard | x64 | 4.1.3 (2022-03-10) -- "One Push-Up" | 4077 | 
| machv2 | macOS 10.14.6 Mojave | x86_64 | 4.1.3 (2022-03-10) -- "One Push-Up" | 4137 | 
| Click on any hostname to see more info about the system (e.g. compilers) (*) as reported by 'uname -p', except on Windows and Mac OS X | ||||
| 
To the developers/maintainers of the transcriptogramer package: - Please allow up to 24 hours (and sometimes 48 hours) for your latest push to git@git.bioconductor.org:packages/transcriptogramer.git to reflect on this report. See How and When does the builder pull? When will my changes propagate? for more information. - Make sure to use the following settings in order to reproduce any error or warning you see on this page.  | 
| Package 1983/2083 | Hostname | OS / Arch | INSTALL | BUILD | CHECK | BUILD BIN | ||||||||
| transcriptogramer 1.16.0  (landing page) Diego Morais 
  | nebbiolo2 | Linux (Ubuntu 20.04.4 LTS) / x86_64 | OK | OK | OK | |||||||||
| tokay2 | Windows Server 2012 R2 Standard / x64 | OK | OK | OK | OK | |||||||||
| machv2 | macOS 10.14.6 Mojave / x86_64 | OK | OK | OK | OK | |||||||||
| Package: transcriptogramer | 
| Version: 1.16.0 | 
| Command: C:\cygwin\bin\curl.exe -O http://155.52.207.166/BBS/3.14/bioc/src/contrib/transcriptogramer_1.16.0.tar.gz && rm -rf transcriptogramer.buildbin-libdir && mkdir transcriptogramer.buildbin-libdir && C:\Users\biocbuild\bbs-3.14-bioc\R\bin\R.exe CMD INSTALL --merge-multiarch --build --library=transcriptogramer.buildbin-libdir transcriptogramer_1.16.0.tar.gz && C:\Users\biocbuild\bbs-3.14-bioc\R\bin\R.exe CMD INSTALL transcriptogramer_1.16.0.zip && rm transcriptogramer_1.16.0.tar.gz transcriptogramer_1.16.0.zip | 
| StartedAt: 2022-04-12 06:08:12 -0400 (Tue, 12 Apr 2022) | 
| EndedAt: 2022-04-12 06:09:51 -0400 (Tue, 12 Apr 2022) | 
| EllapsedTime: 99.6 seconds | 
| RetCode: 0 | 
| Status: OK | 
##############################################################################
##############################################################################
###
### Running command:
###
###   C:\cygwin\bin\curl.exe -O http://155.52.207.166/BBS/3.14/bioc/src/contrib/transcriptogramer_1.16.0.tar.gz && rm -rf transcriptogramer.buildbin-libdir && mkdir transcriptogramer.buildbin-libdir && C:\Users\biocbuild\bbs-3.14-bioc\R\bin\R.exe CMD INSTALL --merge-multiarch --build --library=transcriptogramer.buildbin-libdir transcriptogramer_1.16.0.tar.gz && C:\Users\biocbuild\bbs-3.14-bioc\R\bin\R.exe CMD INSTALL transcriptogramer_1.16.0.zip && rm transcriptogramer_1.16.0.tar.gz transcriptogramer_1.16.0.zip
###
##############################################################################
##############################################################################
  % Total    % Received % Xferd  Average Speed   Time    Time     Time  Current
                                 Dload  Upload   Total   Spent    Left  Speed
  0     0    0     0    0     0      0      0 --:--:-- --:--:-- --:--:--     0
 36 3081k   36 1128k    0     0  1209k      0  0:00:02 --:--:--  0:00:02 1209k
100 3081k  100 3081k    0     0  1661k      0  0:00:01  0:00:01 --:--:-- 1661k
install for i386
* installing *source* package 'transcriptogramer' ...
** using staged installation
** R
** data
*** moving datasets to lazyload DB
** inst
** byte-compile and prepare package for lazy loading
** help
*** installing help indices
  converting help for package 'transcriptogramer'
    finding HTML links ... done
    DE-method                               html  
    DEsymbols                               html  
    GPL570                                  html  
    GSE9988                                 html  
    Hs700                                   html  
    Hs800                                   html  
    Hs900                                   html  
    HsBPTerms                               html  
    Mm700                                   html  
    Mm800                                   html  
    Mm900                                   html  
    Rn700                                   html  
    Rn800                                   html  
    Rn900                                   html  
    Sc700                                   html  
    Sc800                                   html  
    Sc900                                   html  
    Terms-method                            html  
    Transcriptogram-class                   html  
    association                             html  
    clusterEnrichment-method                html  
    clusterVisualization-method             html  
    connectivityProperties-method           html  
    differentiallyExpressed-method          html  
    enrichmentPlot-method                   html  
    orderingProperties-method               html  
    radius-method                           html  
    transcriptogramPreprocess               html  
    transcriptogramStep1-method             html  
    transcriptogramStep2-method             html  
    transcriptogramer-package               html  
** building package indices
** installing vignettes
** testing if installed package can be loaded from temporary location
** testing if installed package can be loaded from final location
** testing if installed package keeps a record of temporary installation path
install for x64
* installing *source* package 'transcriptogramer' ...
** testing if installed package can be loaded
* MD5 sums
packaged installation of 'transcriptogramer' as transcriptogramer_1.16.0.zip
* DONE (transcriptogramer)
* installing to library 'C:/Users/biocbuild/bbs-3.14-bioc/R/library'
package 'transcriptogramer' successfully unpacked and MD5 sums checked