| Back to Multiple platform build/check report for BioC 3.14 |
|
This page was generated on 2022-04-13 12:07:29 -0400 (Wed, 13 Apr 2022).
| Hostname | OS | Arch (*) | R version | Installed pkgs |
|---|---|---|---|---|
| nebbiolo2 | Linux (Ubuntu 20.04.4 LTS) | x86_64 | 4.1.3 (2022-03-10) -- "One Push-Up" | 4324 |
| tokay2 | Windows Server 2012 R2 Standard | x64 | 4.1.3 (2022-03-10) -- "One Push-Up" | 4077 |
| machv2 | macOS 10.14.6 Mojave | x86_64 | 4.1.3 (2022-03-10) -- "One Push-Up" | 4137 |
| Click on any hostname to see more info about the system (e.g. compilers) (*) as reported by 'uname -p', except on Windows and Mac OS X | ||||
|
To the developers/maintainers of the tomoda package: - Please allow up to 24 hours (and sometimes 48 hours) for your latest push to git@git.bioconductor.org:packages/tomoda.git to reflect on this report. See How and When does the builder pull? When will my changes propagate? for more information. - Make sure to use the following settings in order to reproduce any error or warning you see on this page. |
| Package 1971/2083 | Hostname | OS / Arch | INSTALL | BUILD | CHECK | BUILD BIN | ||||||||
| tomoda 1.4.0 (landing page) Wendao Liu
| nebbiolo2 | Linux (Ubuntu 20.04.4 LTS) / x86_64 | OK | OK | OK | |||||||||
| tokay2 | Windows Server 2012 R2 Standard / x64 | OK | OK | OK | OK | |||||||||
| machv2 | macOS 10.14.6 Mojave / x86_64 | OK | OK | OK | OK | |||||||||
| Package: tomoda |
| Version: 1.4.0 |
| Command: rm -rf tomoda.buildbin-libdir && mkdir tomoda.buildbin-libdir && C:\Users\biocbuild\bbs-3.14-bioc\R\bin\R.exe CMD INSTALL --merge-multiarch --build --library=tomoda.buildbin-libdir tomoda_1.4.0.tar.gz |
| StartedAt: 2022-04-13 07:16:24 -0400 (Wed, 13 Apr 2022) |
| EndedAt: 2022-04-13 07:17:00 -0400 (Wed, 13 Apr 2022) |
| EllapsedTime: 36.6 seconds |
| RetCode: 0 |
| Status: OK |
| PackageFile: tomoda_1.4.0.zip |
| PackageFileSize: 1.986 MiB |
##############################################################################
##############################################################################
###
### Running command:
###
### rm -rf tomoda.buildbin-libdir && mkdir tomoda.buildbin-libdir && C:\Users\biocbuild\bbs-3.14-bioc\R\bin\R.exe CMD INSTALL --merge-multiarch --build --library=tomoda.buildbin-libdir tomoda_1.4.0.tar.gz
###
##############################################################################
##############################################################################
install for i386
* installing *source* package 'tomoda' ...
** using staged installation
** R
** data
** inst
** byte-compile and prepare package for lazy loading
** help
*** installing help indices
converting help for package 'tomoda'
finding HTML links ... done
corHeatmap html
createTomo html
embedPlot html
expHeatmap html
findPeak html
findPeakGene html
geneCorHeatmap html
geneEmbedPlot html
hierarchClust html
kmeansClust html
linePlot html
normalizeTomo html
runPCA html
runTSNE html
runUMAP html
scaleTomo html
tomoMatrix html
tomoSummarizedExperiment html
zh.data html
** building package indices
** installing vignettes
** testing if installed package can be loaded from temporary location
** testing if installed package can be loaded from final location
** testing if installed package keeps a record of temporary installation path
install for x64
* installing *source* package 'tomoda' ...
** testing if installed package can be loaded
* MD5 sums
packaged installation of 'tomoda' as tomoda_1.4.0.zip
* DONE (tomoda)