| Back to Multiple platform build/check report for BioC 3.14 |
|
This page was generated on 2022-04-13 12:07:24 -0400 (Wed, 13 Apr 2022).
| Hostname | OS | Arch (*) | R version | Installed pkgs |
|---|---|---|---|---|
| nebbiolo2 | Linux (Ubuntu 20.04.4 LTS) | x86_64 | 4.1.3 (2022-03-10) -- "One Push-Up" | 4324 |
| tokay2 | Windows Server 2012 R2 Standard | x64 | 4.1.3 (2022-03-10) -- "One Push-Up" | 4077 |
| machv2 | macOS 10.14.6 Mojave | x86_64 | 4.1.3 (2022-03-10) -- "One Push-Up" | 4137 |
| Click on any hostname to see more info about the system (e.g. compilers) (*) as reported by 'uname -p', except on Windows and Mac OS X | ||||
|
To the developers/maintainers of the spatialHeatmap package: - Please allow up to 24 hours (and sometimes 48 hours) for your latest push to git@git.bioconductor.org:packages/spatialHeatmap.git to reflect on this report. See How and When does the builder pull? When will my changes propagate? for more information. - Make sure to use the following settings in order to reproduce any error or warning you see on this page. |
| Package 1848/2083 | Hostname | OS / Arch | INSTALL | BUILD | CHECK | BUILD BIN | ||||||||
| spatialHeatmap 2.0.0 (landing page) Jianhai Zhang
| nebbiolo2 | Linux (Ubuntu 20.04.4 LTS) / x86_64 | OK | OK | OK | |||||||||
| tokay2 | Windows Server 2012 R2 Standard / x64 | OK | OK | OK | OK | |||||||||
| machv2 | macOS 10.14.6 Mojave / x86_64 | OK | OK | OK | OK | |||||||||
| Package: spatialHeatmap |
| Version: 2.0.0 |
| Command: C:\Users\biocbuild\bbs-3.14-bioc\R\bin\R.exe CMD check --force-multiarch --install=check:spatialHeatmap.install-out.txt --library=C:\Users\biocbuild\bbs-3.14-bioc\R\library --no-vignettes --timings spatialHeatmap_2.0.0.tar.gz |
| StartedAt: 2022-04-13 03:20:33 -0400 (Wed, 13 Apr 2022) |
| EndedAt: 2022-04-13 03:29:58 -0400 (Wed, 13 Apr 2022) |
| EllapsedTime: 564.5 seconds |
| RetCode: 0 |
| Status: OK |
| CheckDir: spatialHeatmap.Rcheck |
| Warnings: 0 |
##############################################################################
##############################################################################
###
### Running command:
###
### C:\Users\biocbuild\bbs-3.14-bioc\R\bin\R.exe CMD check --force-multiarch --install=check:spatialHeatmap.install-out.txt --library=C:\Users\biocbuild\bbs-3.14-bioc\R\library --no-vignettes --timings spatialHeatmap_2.0.0.tar.gz
###
##############################################################################
##############################################################################
* using log directory 'C:/Users/biocbuild/bbs-3.14-bioc/meat/spatialHeatmap.Rcheck'
* using R version 4.1.3 (2022-03-10)
* using platform: x86_64-w64-mingw32 (64-bit)
* using session charset: ISO8859-1
* using option '--no-vignettes'
* checking for file 'spatialHeatmap/DESCRIPTION' ... OK
* checking extension type ... Package
* this is package 'spatialHeatmap' version '2.0.0'
* package encoding: UTF-8
* checking package namespace information ... OK
* checking package dependencies ... OK
* checking if this is a source package ... OK
* checking if there is a namespace ... OK
* checking for hidden files and directories ... OK
* checking for portable file names ... OK
* checking whether package 'spatialHeatmap' can be installed ... OK
* checking installed package size ... NOTE
installed size is 13.4Mb
sub-directories of 1Mb or more:
extdata 11.4Mb
script 1.2Mb
* checking package directory ... OK
* checking 'build' directory ... OK
* checking DESCRIPTION meta-information ... OK
* checking top-level files ... OK
* checking for left-over files ... OK
* checking index information ... OK
* checking package subdirectories ... OK
* checking R files for non-ASCII characters ... OK
* checking R files for syntax errors ... OK
* loading checks for arch 'i386'
** checking whether the package can be loaded ... OK
** checking whether the package can be loaded with stated dependencies ... OK
** checking whether the package can be unloaded cleanly ... OK
** checking whether the namespace can be loaded with stated dependencies ... OK
** checking whether the namespace can be unloaded cleanly ... OK
* loading checks for arch 'x64'
** checking whether the package can be loaded ... OK
** checking whether the package can be loaded with stated dependencies ... OK
** checking whether the package can be unloaded cleanly ... OK
** checking whether the namespace can be loaded with stated dependencies ... OK
** checking whether the namespace can be unloaded cleanly ... OK
* checking dependencies in R code ... OK
* checking S3 generic/method consistency ... OK
* checking replacement functions ... OK
* checking foreign function calls ... OK
* checking R code for possible problems ... OK
* checking Rd files ... OK
* checking Rd metadata ... OK
* checking Rd cross-references ... OK
* checking for missing documentation entries ... OK
* checking for code/documentation mismatches ... OK
* checking Rd \usage sections ... OK
* checking Rd contents ... OK
* checking for unstated dependencies in examples ... OK
* checking contents of 'data' directory ... OK
* checking data for non-ASCII characters ... OK
* checking data for ASCII and uncompressed saves ... OK
* checking files in 'vignettes' ... OK
* checking examples ...
** running examples for arch 'i386' ... OK
Examples with CPU (user + system) or elapsed time > 5s
user system elapsed
write_hdf5 16.34 1.27 18.81
spatialHeatmap-package 9.97 0.48 14.01
spatial_hm 9.89 0.26 13.33
** running examples for arch 'x64' ... OK
Examples with CPU (user + system) or elapsed time > 5s
user system elapsed
write_hdf5 17.45 0.54 18.00
spatialHeatmap-package 10.22 0.15 12.78
spatial_hm 10.17 0.11 13.31
* checking for unstated dependencies in 'tests' ... OK
* checking tests ...
** running tests for arch 'i386' ...
Running 'runTests.R'
OK
** running tests for arch 'x64' ...
Running 'runTests.R'
OK
* checking for unstated dependencies in vignettes ... OK
* checking package vignettes in 'inst/doc' ... OK
* checking running R code from vignettes ... SKIPPED
* checking re-building of vignette outputs ... SKIPPED
* checking PDF version of manual ... OK
* DONE
Status: 1 NOTE
See
'C:/Users/biocbuild/bbs-3.14-bioc/meat/spatialHeatmap.Rcheck/00check.log'
for details.
spatialHeatmap.Rcheck/00install.out
##############################################################################
##############################################################################
###
### Running command:
###
### C:\cygwin\bin\curl.exe -O http://155.52.207.166/BBS/3.14/bioc/src/contrib/spatialHeatmap_2.0.0.tar.gz && rm -rf spatialHeatmap.buildbin-libdir && mkdir spatialHeatmap.buildbin-libdir && C:\Users\biocbuild\bbs-3.14-bioc\R\bin\R.exe CMD INSTALL --merge-multiarch --build --library=spatialHeatmap.buildbin-libdir spatialHeatmap_2.0.0.tar.gz && C:\Users\biocbuild\bbs-3.14-bioc\R\bin\R.exe CMD INSTALL spatialHeatmap_2.0.0.zip && rm spatialHeatmap_2.0.0.tar.gz spatialHeatmap_2.0.0.zip
###
##############################################################################
##############################################################################
% Total % Received % Xferd Average Speed Time Time Time Current
Dload Upload Total Spent Left Speed
0 0 0 0 0 0 0 0 --:--:-- --:--:-- --:--:-- 0
7 7356k 7 562k 0 0 754k 0 0:00:09 --:--:-- 0:00:09 754k
28 7356k 28 2131k 0 0 1221k 0 0:00:06 0:00:01 0:00:05 1221k
62 7356k 62 4627k 0 0 1684k 0 0:00:04 0:00:02 0:00:02 1685k
100 7356k 100 7356k 0 0 2064k 0 0:00:03 0:00:03 --:--:-- 2065k
install for i386
* installing *source* package 'spatialHeatmap' ...
** using staged installation
** R
** data
** inst
** byte-compile and prepare package for lazy loading
** help
*** installing help indices
converting help for package 'spatialHeatmap'
finding HTML links ... done
aSVG.remote.repo html
adj_mod html
aggr_rep html
com_factor html
custom_shiny html
deg.table html
deg_ovl html
edit_tar html
filter_data html
lis.deg.up.down html
matrix_hm html
network html
norm_data html
profile_gene html
read_cache html
read_fr html
read_hdf5 html
return_feature html
save_cache html
shiny_shm html
spatialHeatmap-package html
spatial_enrich html
spatial_hm html
sub_data html
submatrix html
update_feature html
write_hdf5 html
** building package indices
** installing vignettes
** testing if installed package can be loaded from temporary location
** testing if installed package can be loaded from final location
** testing if installed package keeps a record of temporary installation path
install for x64
* installing *source* package 'spatialHeatmap' ...
** testing if installed package can be loaded
* MD5 sums
packaged installation of 'spatialHeatmap' as spatialHeatmap_2.0.0.zip
* DONE (spatialHeatmap)
* installing to library 'C:/Users/biocbuild/bbs-3.14-bioc/R/library'
package 'spatialHeatmap' successfully unpacked and MD5 sums checked
|
spatialHeatmap.Rcheck/tests_i386/runTests.Rout
R version 4.1.3 (2022-03-10) -- "One Push-Up"
Copyright (C) 2022 The R Foundation for Statistical Computing
Platform: i386-w64-mingw32/i386 (32-bit)
R is free software and comes with ABSOLUTELY NO WARRANTY.
You are welcome to redistribute it under certain conditions.
Type 'license()' or 'licence()' for distribution details.
R is a collaborative project with many contributors.
Type 'contributors()' for more information and
'citation()' on how to cite R or R packages in publications.
Type 'demo()' for some demos, 'help()' for on-line help, or
'help.start()' for an HTML browser interface to help.
Type 'q()' to quit R.
> BiocGenerics:::testPackage("spatialHeatmap")
Loading required package: Biobase
Loading required package: BiocGenerics
Attaching package: 'BiocGenerics'
The following objects are masked from 'package:stats':
IQR, mad, sd, var, xtabs
The following objects are masked from 'package:base':
Filter, Find, Map, Position, Reduce, anyDuplicated, append,
as.data.frame, basename, cbind, colnames, dirname, do.call,
duplicated, eval, evalq, get, grep, grepl, intersect, is.unsorted,
lapply, mapply, match, mget, order, paste, pmax, pmax.int, pmin,
pmin.int, rank, rbind, rownames, sapply, setdiff, sort, table,
tapply, union, unique, unsplit, which.max, which.min
Welcome to Bioconductor
Vignettes contain introductory material; view with
'browseVignettes()'. To cite Bioconductor, see
'citation("Biobase")', and for packages 'citation("pkgname")'.
Loading required package: SummarizedExperiment
Loading required package: MatrixGenerics
Loading required package: matrixStats
Attaching package: 'matrixStats'
The following objects are masked from 'package:Biobase':
anyMissing, rowMedians
Attaching package: 'MatrixGenerics'
The following objects are masked from 'package:matrixStats':
colAlls, colAnyNAs, colAnys, colAvgsPerRowSet, colCollapse,
colCounts, colCummaxs, colCummins, colCumprods, colCumsums,
colDiffs, colIQRDiffs, colIQRs, colLogSumExps, colMadDiffs,
colMads, colMaxs, colMeans2, colMedians, colMins, colOrderStats,
colProds, colQuantiles, colRanges, colRanks, colSdDiffs, colSds,
colSums2, colTabulates, colVarDiffs, colVars, colWeightedMads,
colWeightedMeans, colWeightedMedians, colWeightedSds,
colWeightedVars, rowAlls, rowAnyNAs, rowAnys, rowAvgsPerColSet,
rowCollapse, rowCounts, rowCummaxs, rowCummins, rowCumprods,
rowCumsums, rowDiffs, rowIQRDiffs, rowIQRs, rowLogSumExps,
rowMadDiffs, rowMads, rowMaxs, rowMeans2, rowMedians, rowMins,
rowOrderStats, rowProds, rowQuantiles, rowRanges, rowRanks,
rowSdDiffs, rowSds, rowSums2, rowTabulates, rowVarDiffs, rowVars,
rowWeightedMads, rowWeightedMeans, rowWeightedMedians,
rowWeightedSds, rowWeightedVars
The following object is masked from 'package:Biobase':
rowMedians
Loading required package: GenomicRanges
Loading required package: stats4
Loading required package: S4Vectors
Attaching package: 'S4Vectors'
The following objects are masked from 'package:base':
I, expand.grid, unname
Loading required package: IRanges
Attaching package: 'IRanges'
The following object is masked from 'package:grDevices':
windows
Loading required package: GenomeInfoDb
Loading required package: limma
Attaching package: 'limma'
The following object is masked from 'package:BiocGenerics':
plotMA
Loading required package: xml2
Normalising: ESF
type
"ratio"
Syntactically valid column names are made!
Syntactically valid column names are made!
All values before filtering:
Min. 1st Qu. Median Mean 3rd Qu. Max.
0.000 0.000 0.287 2.442 4.268 19.991
All coefficient of variances (CVs) before filtering:
Min. 1st Qu. Median Mean 3rd Qu. Max.
0.0007742 0.0767696 0.4019655 0.6217813 0.9956157 2.0000000
All values after filtering:
Min. 1st Qu. Median Mean 3rd Qu. Max.
0.000 2.654 4.976 4.779 6.451 14.695
All coefficient of variances (CVs) after filtering:
Min. 1st Qu. Median Mean 3rd Qu. Max.
0.3001 0.3648 0.4637 0.5651 0.7392 1.1548
Warning: variables of sample/condition are less than 5!
..connectivity..
..matrix multiplication (system BLAS)..
..normalization..
..done.
..done.
..done.
Normalising: ESF
type
"ratio"
Syntactically valid column names are made!
Syntactically valid column names are made!
All values before filtering:
Min. 1st Qu. Median Mean 3rd Qu. Max.
0.000 0.000 0.287 2.442 4.268 19.991
All coefficient of variances (CVs) before filtering:
Min. 1st Qu. Median Mean 3rd Qu. Max.
0.0007742 0.0767696 0.4019655 0.6217813 0.9956157 2.0000000
All values after filtering:
Min. 1st Qu. Median Mean 3rd Qu. Max.
0.000 2.654 4.976 4.779 6.451 14.695
All coefficient of variances (CVs) after filtering:
Min. 1st Qu. Median Mean 3rd Qu. Max.
0.3001 0.3648 0.4637 0.5651 0.7392 1.1548
RUNIT TEST PROTOCOL -- Wed Apr 13 03:29:16 2022
***********************************************
Number of test functions: 2
Number of errors: 0
Number of failures: 0
1 Test Suite :
spatialHeatmap RUnit Tests - 2 test functions, 0 errors, 0 failures
Number of test functions: 2
Number of errors: 0
Number of failures: 0
>
> proc.time()
user system elapsed
27.84 2.59 30.54
|
spatialHeatmap.Rcheck/tests_x64/runTests.Rout
R version 4.1.3 (2022-03-10) -- "One Push-Up"
Copyright (C) 2022 The R Foundation for Statistical Computing
Platform: x86_64-w64-mingw32/x64 (64-bit)
R is free software and comes with ABSOLUTELY NO WARRANTY.
You are welcome to redistribute it under certain conditions.
Type 'license()' or 'licence()' for distribution details.
R is a collaborative project with many contributors.
Type 'contributors()' for more information and
'citation()' on how to cite R or R packages in publications.
Type 'demo()' for some demos, 'help()' for on-line help, or
'help.start()' for an HTML browser interface to help.
Type 'q()' to quit R.
> BiocGenerics:::testPackage("spatialHeatmap")
Loading required package: Biobase
Loading required package: BiocGenerics
Attaching package: 'BiocGenerics'
The following objects are masked from 'package:stats':
IQR, mad, sd, var, xtabs
The following objects are masked from 'package:base':
Filter, Find, Map, Position, Reduce, anyDuplicated, append,
as.data.frame, basename, cbind, colnames, dirname, do.call,
duplicated, eval, evalq, get, grep, grepl, intersect, is.unsorted,
lapply, mapply, match, mget, order, paste, pmax, pmax.int, pmin,
pmin.int, rank, rbind, rownames, sapply, setdiff, sort, table,
tapply, union, unique, unsplit, which.max, which.min
Welcome to Bioconductor
Vignettes contain introductory material; view with
'browseVignettes()'. To cite Bioconductor, see
'citation("Biobase")', and for packages 'citation("pkgname")'.
Loading required package: SummarizedExperiment
Loading required package: MatrixGenerics
Loading required package: matrixStats
Attaching package: 'matrixStats'
The following objects are masked from 'package:Biobase':
anyMissing, rowMedians
Attaching package: 'MatrixGenerics'
The following objects are masked from 'package:matrixStats':
colAlls, colAnyNAs, colAnys, colAvgsPerRowSet, colCollapse,
colCounts, colCummaxs, colCummins, colCumprods, colCumsums,
colDiffs, colIQRDiffs, colIQRs, colLogSumExps, colMadDiffs,
colMads, colMaxs, colMeans2, colMedians, colMins, colOrderStats,
colProds, colQuantiles, colRanges, colRanks, colSdDiffs, colSds,
colSums2, colTabulates, colVarDiffs, colVars, colWeightedMads,
colWeightedMeans, colWeightedMedians, colWeightedSds,
colWeightedVars, rowAlls, rowAnyNAs, rowAnys, rowAvgsPerColSet,
rowCollapse, rowCounts, rowCummaxs, rowCummins, rowCumprods,
rowCumsums, rowDiffs, rowIQRDiffs, rowIQRs, rowLogSumExps,
rowMadDiffs, rowMads, rowMaxs, rowMeans2, rowMedians, rowMins,
rowOrderStats, rowProds, rowQuantiles, rowRanges, rowRanks,
rowSdDiffs, rowSds, rowSums2, rowTabulates, rowVarDiffs, rowVars,
rowWeightedMads, rowWeightedMeans, rowWeightedMedians,
rowWeightedSds, rowWeightedVars
The following object is masked from 'package:Biobase':
rowMedians
Loading required package: GenomicRanges
Loading required package: stats4
Loading required package: S4Vectors
Attaching package: 'S4Vectors'
The following objects are masked from 'package:base':
I, expand.grid, unname
Loading required package: IRanges
Attaching package: 'IRanges'
The following object is masked from 'package:grDevices':
windows
Loading required package: GenomeInfoDb
Loading required package: limma
Attaching package: 'limma'
The following object is masked from 'package:BiocGenerics':
plotMA
Loading required package: xml2
Normalising: ESF
type
"ratio"
Syntactically valid column names are made!
Syntactically valid column names are made!
All values before filtering:
Min. 1st Qu. Median Mean 3rd Qu. Max.
0.000 0.000 0.287 2.442 4.268 19.991
All coefficient of variances (CVs) before filtering:
Min. 1st Qu. Median Mean 3rd Qu. Max.
0.0007742 0.0767696 0.4019655 0.6217813 0.9956157 2.0000000
All values after filtering:
Min. 1st Qu. Median Mean 3rd Qu. Max.
0.000 2.654 4.976 4.779 6.451 14.695
All coefficient of variances (CVs) after filtering:
Min. 1st Qu. Median Mean 3rd Qu. Max.
0.3001 0.3648 0.4637 0.5651 0.7392 1.1548
Warning: variables of sample/condition are less than 5!
..connectivity..
..matrix multiplication (system BLAS)..
..normalization..
..done.
..done.
..done.
Normalising: ESF
type
"ratio"
Syntactically valid column names are made!
Syntactically valid column names are made!
All values before filtering:
Min. 1st Qu. Median Mean 3rd Qu. Max.
0.000 0.000 0.287 2.442 4.268 19.991
All coefficient of variances (CVs) before filtering:
Min. 1st Qu. Median Mean 3rd Qu. Max.
0.0007742 0.0767696 0.4019655 0.6217813 0.9956157 2.0000000
All values after filtering:
Min. 1st Qu. Median Mean 3rd Qu. Max.
0.000 2.654 4.976 4.779 6.451 14.695
All coefficient of variances (CVs) after filtering:
Min. 1st Qu. Median Mean 3rd Qu. Max.
0.3001 0.3648 0.4637 0.5651 0.7392 1.1548
RUNIT TEST PROTOCOL -- Wed Apr 13 03:29:45 2022
***********************************************
Number of test functions: 2
Number of errors: 0
Number of failures: 0
1 Test Suite :
spatialHeatmap RUnit Tests - 2 test functions, 0 errors, 0 failures
Number of test functions: 2
Number of errors: 0
Number of failures: 0
>
> proc.time()
user system elapsed
27.81 1.20 29.01
|
|
spatialHeatmap.Rcheck/examples_i386/spatialHeatmap-Ex.timings
|
spatialHeatmap.Rcheck/examples_x64/spatialHeatmap-Ex.timings
|