| Back to Multiple platform build/check report for BioC 3.14 |
|
This page was generated on 2022-04-13 12:07:22 -0400 (Wed, 13 Apr 2022).
| Hostname | OS | Arch (*) | R version | Installed pkgs |
|---|---|---|---|---|
| nebbiolo2 | Linux (Ubuntu 20.04.4 LTS) | x86_64 | 4.1.3 (2022-03-10) -- "One Push-Up" | 4324 |
| tokay2 | Windows Server 2012 R2 Standard | x64 | 4.1.3 (2022-03-10) -- "One Push-Up" | 4077 |
| machv2 | macOS 10.14.6 Mojave | x86_64 | 4.1.3 (2022-03-10) -- "One Push-Up" | 4137 |
| Click on any hostname to see more info about the system (e.g. compilers) (*) as reported by 'uname -p', except on Windows and Mac OS X | ||||
|
To the developers/maintainers of the simplifyEnrichment package: - Please allow up to 24 hours (and sometimes 48 hours) for your latest push to git@git.bioconductor.org:packages/simplifyEnrichment.git to reflect on this report. See How and When does the builder pull? When will my changes propagate? for more information. - Make sure to use the following settings in order to reproduce any error or warning you see on this page. |
| Package 1803/2083 | Hostname | OS / Arch | INSTALL | BUILD | CHECK | BUILD BIN | ||||||||
| simplifyEnrichment 1.4.0 (landing page) Zuguang Gu
| nebbiolo2 | Linux (Ubuntu 20.04.4 LTS) / x86_64 | OK | OK | OK | |||||||||
| tokay2 | Windows Server 2012 R2 Standard / x64 | OK | OK | OK | OK | |||||||||
| machv2 | macOS 10.14.6 Mojave / x86_64 | OK | OK | OK | OK | |||||||||
| Package: simplifyEnrichment |
| Version: 1.4.0 |
| Command: C:\Users\biocbuild\bbs-3.14-bioc\R\bin\R.exe CMD check --force-multiarch --install=check:simplifyEnrichment.install-out.txt --library=C:\Users\biocbuild\bbs-3.14-bioc\R\library --no-vignettes --timings simplifyEnrichment_1.4.0.tar.gz |
| StartedAt: 2022-04-13 03:01:23 -0400 (Wed, 13 Apr 2022) |
| EndedAt: 2022-04-13 03:05:25 -0400 (Wed, 13 Apr 2022) |
| EllapsedTime: 242.4 seconds |
| RetCode: 0 |
| Status: OK |
| CheckDir: simplifyEnrichment.Rcheck |
| Warnings: 0 |
##############################################################################
##############################################################################
###
### Running command:
###
### C:\Users\biocbuild\bbs-3.14-bioc\R\bin\R.exe CMD check --force-multiarch --install=check:simplifyEnrichment.install-out.txt --library=C:\Users\biocbuild\bbs-3.14-bioc\R\library --no-vignettes --timings simplifyEnrichment_1.4.0.tar.gz
###
##############################################################################
##############################################################################
* using log directory 'C:/Users/biocbuild/bbs-3.14-bioc/meat/simplifyEnrichment.Rcheck'
* using R version 4.1.3 (2022-03-10)
* using platform: x86_64-w64-mingw32 (64-bit)
* using session charset: ISO8859-1
* using option '--no-vignettes'
* checking for file 'simplifyEnrichment/DESCRIPTION' ... OK
* checking extension type ... Package
* this is package 'simplifyEnrichment' version '1.4.0'
* checking package namespace information ... OK
* checking package dependencies ... OK
* checking if this is a source package ... OK
* checking if there is a namespace ... OK
* checking for hidden files and directories ... OK
* checking for portable file names ... OK
* checking whether package 'simplifyEnrichment' can be installed ... OK
* checking installed package size ... OK
* checking package directory ... OK
* checking 'build' directory ... OK
* checking DESCRIPTION meta-information ... OK
* checking top-level files ... OK
* checking for left-over files ... OK
* checking index information ... OK
* checking package subdirectories ... OK
* checking R files for non-ASCII characters ... OK
* checking R files for syntax errors ... OK
* loading checks for arch 'i386'
** checking whether the package can be loaded ... OK
** checking whether the package can be loaded with stated dependencies ... OK
** checking whether the package can be unloaded cleanly ... OK
** checking whether the namespace can be loaded with stated dependencies ... OK
** checking whether the namespace can be unloaded cleanly ... OK
* loading checks for arch 'x64'
** checking whether the package can be loaded ... OK
** checking whether the package can be loaded with stated dependencies ... OK
** checking whether the package can be unloaded cleanly ... OK
** checking whether the namespace can be loaded with stated dependencies ... OK
** checking whether the namespace can be unloaded cleanly ... OK
* checking dependencies in R code ... OK
* checking S3 generic/method consistency ... OK
* checking replacement functions ... OK
* checking foreign function calls ... OK
* checking R code for possible problems ... OK
* checking Rd files ... OK
* checking Rd metadata ... OK
* checking Rd cross-references ... OK
* checking for missing documentation entries ... OK
* checking for code/documentation mismatches ... OK
* checking Rd \usage sections ... OK
* checking Rd contents ... OK
* checking for unstated dependencies in examples ... OK
* checking files in 'vignettes' ... OK
* checking examples ...
** running examples for arch 'i386' ... OK
Examples with CPU (user + system) or elapsed time > 5s
user system elapsed
ht_clusters 8.84 0.16 9
** running examples for arch 'x64' ... OK
Examples with CPU (user + system) or elapsed time > 5s
user system elapsed
ht_clusters 10.07 0.25 10.72
* checking for unstated dependencies in 'tests' ... OK
* checking tests ...
** running tests for arch 'i386' ...
Running 'test-all.R'
OK
** running tests for arch 'x64' ...
Running 'test-all.R'
OK
* checking for unstated dependencies in vignettes ... OK
* checking package vignettes in 'inst/doc' ... OK
* checking running R code from vignettes ... SKIPPED
* checking re-building of vignette outputs ... SKIPPED
* checking PDF version of manual ... OK
* DONE
Status: OK
simplifyEnrichment.Rcheck/00install.out
##############################################################################
##############################################################################
###
### Running command:
###
### C:\cygwin\bin\curl.exe -O http://155.52.207.166/BBS/3.14/bioc/src/contrib/simplifyEnrichment_1.4.0.tar.gz && rm -rf simplifyEnrichment.buildbin-libdir && mkdir simplifyEnrichment.buildbin-libdir && C:\Users\biocbuild\bbs-3.14-bioc\R\bin\R.exe CMD INSTALL --merge-multiarch --build --library=simplifyEnrichment.buildbin-libdir simplifyEnrichment_1.4.0.tar.gz && C:\Users\biocbuild\bbs-3.14-bioc\R\bin\R.exe CMD INSTALL simplifyEnrichment_1.4.0.zip && rm simplifyEnrichment_1.4.0.tar.gz simplifyEnrichment_1.4.0.zip
###
##############################################################################
##############################################################################
% Total % Received % Xferd Average Speed Time Time Time Current
Dload Upload Total Spent Left Speed
0 0 0 0 0 0 0 0 --:--:-- --:--:-- --:--:-- 0
1 16.7M 1 239k 0 0 581k 0 0:00:29 --:--:-- 0:00:29 581k
9 16.7M 9 1596k 0 0 1132k 0 0:00:15 0:00:01 0:00:14 1132k
22 16.7M 22 3828k 0 0 1588k 0 0:00:10 0:00:02 0:00:08 1587k
40 16.7M 40 6989k 0 0 2039k 0 0:00:08 0:00:03 0:00:05 2039k
64 16.7M 64 10.7M 0 0 2495k 0 0:00:06 0:00:04 0:00:02 2495k
93 16.7M 93 15.6M 0 0 2953k 0 0:00:05 0:00:05 --:--:-- 3148k
100 16.7M 100 16.7M 0 0 3062k 0 0:00:05 0:00:05 --:--:-- 3710k
install for i386
* installing *source* package 'simplifyEnrichment' ...
** using staged installation
** R
** inst
** byte-compile and prepare package for lazy loading
** help
*** installing help indices
converting help for package 'simplifyEnrichment'
finding HTML links ... done
DO_similarity html
GO_similarity html
all_clustering_methods html
anno_word_cloud html
anno_word_cloud_from_GO html
binary_cut html
cluster_by_MCL html
cluster_by_apcluster html
cluster_by_dynamicTreeCut html
cluster_by_hdbscan html
cluster_by_igraph html
cluster_by_kmeans html
cluster_by_mclust html
cluster_terms html
cmp_make_clusters html
cmp_make_plot html
compare_clustering_methods html
count_word html
count_word_from_GO html
dend_node_apply html
difference_score html
edit_node html
export_to_shiny_app html
guess_ont html
heightDetails.word_cloud html
ht_clusters html
partition_by_hclust html
partition_by_kmeans html
partition_by_kmeanspp html
partition_by_pam html
plot_binary_cut html
random_DO html
random_GO html
register_clustering_methods html
remove_clustering_methods html
reset_clustering_methods html
scale_fontsize html
select_cutoff html
simplifyEnrichment html
simplifyGO html
simplifyGOFromMultipleLists html
subset_enrichResult html
term_similarity html
term_similarity_from_KEGG html
term_similarity_from_MSigDB html
term_similarity_from_Reactome html
term_similarity_from_enrichResult html
term_similarity_from_gmt html
widthDetails.word_cloud html
word_cloud_grob html
** building package indices
** installing vignettes
** testing if installed package can be loaded from temporary location
** testing if installed package can be loaded from final location
** testing if installed package keeps a record of temporary installation path
install for x64
* installing *source* package 'simplifyEnrichment' ...
** testing if installed package can be loaded
* MD5 sums
packaged installation of 'simplifyEnrichment' as simplifyEnrichment_1.4.0.zip
* DONE (simplifyEnrichment)
* installing to library 'C:/Users/biocbuild/bbs-3.14-bioc/R/library'
package 'simplifyEnrichment' successfully unpacked and MD5 sums checked
|
simplifyEnrichment.Rcheck/tests_i386/test-all.Rout
R version 4.1.3 (2022-03-10) -- "One Push-Up"
Copyright (C) 2022 The R Foundation for Statistical Computing
Platform: i386-w64-mingw32/i386 (32-bit)
R is free software and comes with ABSOLUTELY NO WARRANTY.
You are welcome to redistribute it under certain conditions.
Type 'license()' or 'licence()' for distribution details.
R is a collaborative project with many contributors.
Type 'contributors()' for more information and
'citation()' on how to cite R or R packages in publications.
Type 'demo()' for some demos, 'help()' for on-line help, or
'help.start()' for an HTML browser interface to help.
Type 'q()' to quit R.
> library(testthat)
> suppressWarnings(suppressPackageStartupMessages(library(simplifyEnrichment)))
>
> test_check("simplifyEnrichment")
[ FAIL 0 | WARN 0 | SKIP 0 | PASS 17 ]
>
> proc.time()
user system elapsed
9.79 0.89 10.67
|
simplifyEnrichment.Rcheck/tests_x64/test-all.Rout
R version 4.1.3 (2022-03-10) -- "One Push-Up"
Copyright (C) 2022 The R Foundation for Statistical Computing
Platform: x86_64-w64-mingw32/x64 (64-bit)
R is free software and comes with ABSOLUTELY NO WARRANTY.
You are welcome to redistribute it under certain conditions.
Type 'license()' or 'licence()' for distribution details.
R is a collaborative project with many contributors.
Type 'contributors()' for more information and
'citation()' on how to cite R or R packages in publications.
Type 'demo()' for some demos, 'help()' for on-line help, or
'help.start()' for an HTML browser interface to help.
Type 'q()' to quit R.
> library(testthat)
> suppressWarnings(suppressPackageStartupMessages(library(simplifyEnrichment)))
>
> test_check("simplifyEnrichment")
[ FAIL 0 | WARN 0 | SKIP 0 | PASS 17 ]
>
> proc.time()
user system elapsed
10.51 0.37 10.89
|
|
simplifyEnrichment.Rcheck/examples_i386/simplifyEnrichment-Ex.timings
|
simplifyEnrichment.Rcheck/examples_x64/simplifyEnrichment-Ex.timings
|