| Back to Multiple platform build/check report for BioC 3.14 |
|
This page was generated on 2022-04-13 12:08:47 -0400 (Wed, 13 Apr 2022).
| Hostname | OS | Arch (*) | R version | Installed pkgs |
|---|---|---|---|---|
| nebbiolo2 | Linux (Ubuntu 20.04.4 LTS) | x86_64 | 4.1.3 (2022-03-10) -- "One Push-Up" | 4324 |
| tokay2 | Windows Server 2012 R2 Standard | x64 | 4.1.3 (2022-03-10) -- "One Push-Up" | 4077 |
| machv2 | macOS 10.14.6 Mojave | x86_64 | 4.1.3 (2022-03-10) -- "One Push-Up" | 4137 |
| Click on any hostname to see more info about the system (e.g. compilers) (*) as reported by 'uname -p', except on Windows and Mac OS X | ||||
|
To the developers/maintainers of the sesame package: - Please allow up to 24 hours (and sometimes 48 hours) for your latest push to git@git.bioconductor.org:packages/sesame.git to reflect on this report. See How and When does the builder pull? When will my changes propagate? for more information. - Make sure to use the following settings in order to reproduce any error or warning you see on this page. |
| Package 1775/2083 | Hostname | OS / Arch | INSTALL | BUILD | CHECK | BUILD BIN | ||||||||
| sesame 1.12.9 (landing page) Wanding Zhou
| nebbiolo2 | Linux (Ubuntu 20.04.4 LTS) / x86_64 | OK | OK | OK | |||||||||
| tokay2 | Windows Server 2012 R2 Standard / x64 | OK | OK | OK | OK | |||||||||
| machv2 | macOS 10.14.6 Mojave / x86_64 | OK | OK | OK | OK | |||||||||
| Package: sesame |
| Version: 1.12.9 |
| Command: /Library/Frameworks/R.framework/Resources/bin/R CMD check --install=check:sesame.install-out.txt --library=/Library/Frameworks/R.framework/Resources/library --no-vignettes --timings sesame_1.12.9.tar.gz |
| StartedAt: 2022-04-12 18:28:34 -0400 (Tue, 12 Apr 2022) |
| EndedAt: 2022-04-12 18:51:51 -0400 (Tue, 12 Apr 2022) |
| EllapsedTime: 1397.4 seconds |
| RetCode: 0 |
| Status: OK |
| CheckDir: sesame.Rcheck |
| Warnings: 0 |
##############################################################################
##############################################################################
###
### Running command:
###
### /Library/Frameworks/R.framework/Resources/bin/R CMD check --install=check:sesame.install-out.txt --library=/Library/Frameworks/R.framework/Resources/library --no-vignettes --timings sesame_1.12.9.tar.gz
###
##############################################################################
##############################################################################
* using log directory ‘/Users/biocbuild/bbs-3.14-bioc/meat/sesame.Rcheck’
* using R version 4.1.3 (2022-03-10)
* using platform: x86_64-apple-darwin17.0 (64-bit)
* using session charset: UTF-8
* using option ‘--no-vignettes’
* checking for file ‘sesame/DESCRIPTION’ ... OK
* checking extension type ... Package
* this is package ‘sesame’ version ‘1.12.9’
* package encoding: UTF-8
* checking package namespace information ... OK
* checking package dependencies ... OK
* checking if this is a source package ... OK
* checking if there is a namespace ... OK
* checking for hidden files and directories ... OK
* checking for portable file names ... OK
* checking for sufficient/correct file permissions ... OK
* checking whether package ‘sesame’ can be installed ... OK
* checking installed package size ... OK
* checking package directory ... OK
* checking ‘build’ directory ... OK
* checking DESCRIPTION meta-information ... OK
* checking top-level files ... OK
* checking for left-over files ... OK
* checking index information ... OK
* checking package subdirectories ... OK
* checking R files for non-ASCII characters ... OK
* checking R files for syntax errors ... OK
* checking whether the package can be loaded ... OK
* checking whether the package can be loaded with stated dependencies ... OK
* checking whether the package can be unloaded cleanly ... OK
* checking whether the namespace can be loaded with stated dependencies ... OK
* checking whether the namespace can be unloaded cleanly ... OK
* checking dependencies in R code ... OK
* checking S3 generic/method consistency ... OK
* checking replacement functions ... OK
* checking foreign function calls ... OK
* checking R code for possible problems ... OK
* checking Rd files ... OK
* checking Rd metadata ... OK
* checking Rd cross-references ... OK
* checking for missing documentation entries ... OK
* checking for code/documentation mismatches ... OK
* checking Rd \usage sections ... OK
* checking Rd contents ... OK
* checking for unstated dependencies in examples ... OK
* checking files in ‘vignettes’ ... OK
* checking examples ... OK
Examples with CPU (user + system) or elapsed time > 5s
user system elapsed
visualizeSegments 84.244 2.635 88.136
cnSegmentation 82.960 3.445 87.458
DMR 46.795 0.734 49.034
bSubMostVariable 38.915 0.487 39.689
testEnrichment 36.664 1.700 40.178
compareMouseTissueReference 28.937 0.532 30.093
compareMouseStrainReference 25.685 0.340 27.484
diffRefSet 23.631 0.386 24.553
testEnrichmentGene 23.043 0.942 25.017
visualizeGene 18.587 0.444 20.099
createUCSCtrack 18.564 0.228 19.402
DML 17.419 0.978 19.529
deidentify 17.430 0.346 18.350
getProbesByChromosome 17.020 0.199 17.584
print.sesameQC 15.819 1.207 17.354
bSubProbes 16.655 0.332 17.512
reIdentify 16.107 0.633 17.502
sdf_read_table 15.943 0.671 17.177
attachManifest 15.979 0.354 16.970
print.DMLSummary 16.081 0.139 16.907
getProbesByGene 15.923 0.187 16.743
as.data.frame.sesameQC 14.545 1.182 16.002
getRefSet 14.862 0.121 15.238
dmContrasts 14.593 0.290 15.188
summaryExtractTest 14.496 0.146 15.178
getDatabaseSetOverlap 14.341 0.284 15.507
bisConversionControl 14.195 0.265 15.488
calcDatabaseSetStatisticsAll 13.442 0.713 16.286
inferTissue 13.533 0.426 15.710
estimateLeukocyte 13.416 0.407 14.349
sesameQC 12.088 1.203 13.571
inferStrain 12.876 0.408 14.269
inferSex 12.008 0.321 12.958
dyeBiasCorrMostBalanced 11.476 0.302 12.408
SNPcheck 11.263 0.369 12.313
getProbesByRegion 8.809 0.099 9.176
setMaskBySpecies 8.609 0.152 9.351
qualityMask 8.316 0.231 9.245
getNormCtls 8.293 0.167 9.116
getAutosomeProbes 8.239 0.097 8.592
qualityRank 8.123 0.158 9.185
dyeBiasCorr 6.613 0.185 7.549
totalIntensities 6.465 0.197 7.286
controls 6.131 0.168 7.007
probeSuccessRate 6.049 0.238 6.862
bSubComplete 6.158 0.111 6.544
SigDF 6.075 0.142 6.883
getSexInfo 5.119 0.231 5.737
predictMouseAgeInMonth 5.172 0.153 7.107
getAFTypeIbySumAlleles 5.155 0.159 5.840
setMask 5.027 0.205 5.496
sdf_write_table 4.971 0.212 5.565
dyeBiasCorrTypeINorm 4.739 0.327 5.342
createDatabaseSetNetwork 4.866 0.076 5.204
predictAgeHorvath353 4.829 0.096 5.336
compareDatbaseSetOverlap 4.656 0.099 5.014
formatVCF 3.057 0.082 5.280
* checking for unstated dependencies in ‘tests’ ... OK
* checking tests ...
Running ‘testthat.R’
OK
* checking for unstated dependencies in vignettes ... OK
* checking package vignettes in ‘inst/doc’ ... OK
* checking running R code from vignettes ... SKIPPED
* checking re-building of vignette outputs ... SKIPPED
* checking PDF version of manual ... OK
* DONE
Status: OK
sesame.Rcheck/00install.out
############################################################################## ############################################################################## ### ### Running command: ### ### /Library/Frameworks/R.framework/Resources/bin/R CMD INSTALL sesame ### ############################################################################## ############################################################################## * installing to library ‘/Library/Frameworks/R.framework/Versions/4.1/Resources/library’ * installing *source* package ‘sesame’ ... ** using staged installation ** R ** inst ** byte-compile and prepare package for lazy loading ** help *** installing help indices ** building package indices ** installing vignettes ** testing if installed package can be loaded from temporary location ** testing if installed package can be loaded from final location ** testing if installed package keeps a record of temporary installation path * DONE (sesame)
sesame.Rcheck/tests/testthat.Rout
R version 4.1.3 (2022-03-10) -- "One Push-Up"
Copyright (C) 2022 The R Foundation for Statistical Computing
Platform: x86_64-apple-darwin17.0 (64-bit)
R is free software and comes with ABSOLUTELY NO WARRANTY.
You are welcome to redistribute it under certain conditions.
Type 'license()' or 'licence()' for distribution details.
R is a collaborative project with many contributors.
Type 'contributors()' for more information and
'citation()' on how to cite R or R packages in publications.
Type 'demo()' for some demos, 'help()' for on-line help, or
'help.start()' for an HTML browser interface to help.
Type 'q()' to quit R.
> library(testthat)
> library(sesame)
Loading required package: sesameData
Loading required package: ExperimentHub
Loading required package: BiocGenerics
Attaching package: 'BiocGenerics'
The following objects are masked from 'package:stats':
IQR, mad, sd, var, xtabs
The following objects are masked from 'package:base':
Filter, Find, Map, Position, Reduce, anyDuplicated, append,
as.data.frame, basename, cbind, colnames, dirname, do.call,
duplicated, eval, evalq, get, grep, grepl, intersect, is.unsorted,
lapply, mapply, match, mget, order, paste, pmax, pmax.int, pmin,
pmin.int, rank, rbind, rownames, sapply, setdiff, sort, table,
tapply, union, unique, unsplit, which.max, which.min
Loading required package: AnnotationHub
Loading required package: BiocFileCache
Loading required package: dbplyr
Loading required package: rmarkdown
Loading sesameData.
----------------------------------------------------------
| SEnsible Step-wise Analysis of DNA MEthylation (SeSAMe)
| --------------------------------------------------------
| Please cache the annotation data for your array platform
| (e.g. EPIC) by calling "sesameDataCache("EPIC")"
| or "sesameDataCacheAll()". This needs to be done only
| once per SeSAMe installation.
----------------------------------------------------------
>
> test_check("sesame")
[ FAIL 0 | WARN 0 | SKIP 0 | PASS 1 ]
>
> proc.time()
user system elapsed
25.210 1.556 27.523
sesame.Rcheck/sesame-Ex.timings
| name | user | system | elapsed | |
| BetaValueToMValue | 0.001 | 0.001 | 0.001 | |
| DML | 17.419 | 0.978 | 19.529 | |
| DMR | 46.795 | 0.734 | 49.034 | |
| MValueToBetaValue | 0.000 | 0.000 | 0.001 | |
| RGChannelSetToSigDFs | 0.001 | 0.001 | 0.001 | |
| SNPcheck | 11.263 | 0.369 | 12.313 | |
| SigDF | 6.075 | 0.142 | 6.883 | |
| SigDFToRatioSet | 0.000 | 0.001 | 0.001 | |
| SigDFsToRGChannelSet | 0.000 | 0.000 | 0.001 | |
| addMask | 0.168 | 0.000 | 0.168 | |
| as.data.frame.sesameQC | 14.545 | 1.182 | 16.002 | |
| attachManifest | 15.979 | 0.354 | 16.970 | |
| bSubComplete | 6.158 | 0.111 | 6.544 | |
| bSubMostVariable | 38.915 | 0.487 | 39.689 | |
| bSubProbes | 16.655 | 0.332 | 17.512 | |
| bisConversionControl | 14.195 | 0.265 | 15.488 | |
| calcDatabaseSetStatisticsAll | 13.442 | 0.713 | 16.286 | |
| checkLevels | 1.043 | 0.060 | 2.655 | |
| cnSegmentation | 82.960 | 3.445 | 87.458 | |
| compareDatbaseSetOverlap | 4.656 | 0.099 | 5.014 | |
| compareMouseStrainReference | 25.685 | 0.340 | 27.484 | |
| compareMouseTissueReference | 28.937 | 0.532 | 30.093 | |
| controls | 6.131 | 0.168 | 7.007 | |
| createDatabaseSetNetwork | 4.866 | 0.076 | 5.204 | |
| createUCSCtrack | 18.564 | 0.228 | 19.402 | |
| deidentify | 17.430 | 0.346 | 18.350 | |
| detectionPnegEcdf | 0.201 | 0.001 | 0.202 | |
| detectionPoobEcdf | 1.009 | 0.012 | 1.021 | |
| detectionPoobEcdf2 | 1.258 | 0.164 | 1.424 | |
| diffRefSet | 23.631 | 0.386 | 24.553 | |
| dmContrasts | 14.593 | 0.290 | 15.188 | |
| dyeBiasCorr | 6.613 | 0.185 | 7.549 | |
| dyeBiasCorrMostBalanced | 11.476 | 0.302 | 12.408 | |
| dyeBiasCorrTypeINorm | 4.739 | 0.327 | 5.342 | |
| dyeBiasDistortion | 1.441 | 0.045 | 1.487 | |
| estimateLeukocyte | 13.416 | 0.407 | 14.349 | |
| formatVCF | 3.057 | 0.082 | 5.280 | |
| getAFTypeIbySumAlleles | 5.155 | 0.159 | 5.840 | |
| getAutosomeProbes | 8.239 | 0.097 | 8.592 | |
| getBetas | 3.691 | 0.107 | 4.154 | |
| getDatabaseSetOverlap | 14.341 | 0.284 | 15.507 | |
| getNormCtls | 8.293 | 0.167 | 9.116 | |
| getProbesByChromosome | 17.020 | 0.199 | 17.584 | |
| getProbesByGene | 15.923 | 0.187 | 16.743 | |
| getProbesByRegion | 8.809 | 0.099 | 9.176 | |
| getProbesByTSS | 0.310 | 0.001 | 0.311 | |
| getRefSet | 14.862 | 0.121 | 15.238 | |
| getSexInfo | 5.119 | 0.231 | 5.737 | |
| inferEthnicity | 2.001 | 0.144 | 2.147 | |
| inferInfiniumIChannel | 0.540 | 0.039 | 0.579 | |
| inferSex | 12.008 | 0.321 | 12.958 | |
| inferSexKaryotypes | 4.087 | 0.101 | 4.445 | |
| inferSpecies | 0.001 | 0.000 | 0.001 | |
| inferStrain | 12.876 | 0.408 | 14.269 | |
| inferTissue | 13.533 | 0.426 | 15.710 | |
| initFileSet | 0.049 | 0.004 | 0.053 | |
| mapFileSet | 0.070 | 0.005 | 0.074 | |
| meanIntensity | 1.946 | 0.055 | 2.362 | |
| medianTotalIntensity | 2.225 | 0.131 | 2.697 | |
| neob | 3.120 | 0.302 | 3.427 | |
| noMasked | 2.374 | 0.097 | 2.814 | |
| noob | 3.289 | 0.204 | 3.497 | |
| openSesame | 1.985 | 0.085 | 2.072 | |
| openSesameToFile | 2.409 | 0.081 | 2.492 | |
| plotLollipop | 1.104 | 0.037 | 1.144 | |
| plotVolcano | 0.183 | 0.001 | 0.184 | |
| predictAgeHorvath353 | 4.829 | 0.096 | 5.336 | |
| predictAgeSkinBlood | 0.190 | 0.001 | 0.191 | |
| predictMouseAgeInMonth | 5.172 | 0.153 | 7.107 | |
| print.DMLSummary | 16.081 | 0.139 | 16.907 | |
| print.SigDF | 1.825 | 0.041 | 2.129 | |
| print.fileSet | 0.054 | 0.004 | 0.058 | |
| print.sesameQC | 15.819 | 1.207 | 17.354 | |
| probeID_designType | 0.000 | 0.000 | 0.001 | |
| probeSuccessRate | 6.049 | 0.238 | 6.862 | |
| qualityMask | 8.316 | 0.231 | 9.245 | |
| qualityRank | 8.123 | 0.158 | 9.185 | |
| reIdentify | 16.107 | 0.633 | 17.502 | |
| readFileSet | 0.099 | 0.004 | 0.103 | |
| readIDATpair | 0.166 | 0.002 | 0.168 | |
| resetMask | 1.447 | 0.045 | 1.765 | |
| scrub | 2.070 | 0.400 | 2.477 | |
| scrubSoft | 3.138 | 0.396 | 3.536 | |
| sdfPlatform | 1.231 | 0.068 | 1.697 | |
| sdf_read_table | 15.943 | 0.671 | 17.177 | |
| sdf_write_table | 4.971 | 0.212 | 5.565 | |
| searchIDATprefixes | 0.006 | 0.002 | 0.009 | |
| sesame-package | 0.704 | 0.004 | 0.709 | |
| sesamePlotIntensVsBetas | 3.222 | 0.187 | 3.749 | |
| sesamePlotRedGrnQQ | 2.738 | 0.395 | 3.524 | |
| sesameQC | 12.088 | 1.203 | 13.571 | |
| sesamize | 0.000 | 0.000 | 0.001 | |
| setMask | 5.027 | 0.205 | 5.496 | |
| setMaskBySpecies | 8.609 | 0.152 | 9.351 | |
| signalMU | 1.922 | 0.042 | 2.313 | |
| sliceFileSet | 3.702 | 0.166 | 4.123 | |
| summaryExtractTest | 14.496 | 0.146 | 15.178 | |
| testEnrichment | 36.664 | 1.700 | 40.178 | |
| testEnrichmentGene | 23.043 | 0.942 | 25.017 | |
| totalIntensities | 6.465 | 0.197 | 7.286 | |
| visualizeGene | 18.587 | 0.444 | 20.099 | |
| visualizeProbes | 1.659 | 0.010 | 1.671 | |
| visualizeRegion | 0.862 | 0.009 | 0.873 | |
| visualizeSegments | 84.244 | 2.635 | 88.136 | |