| Back to Multiple platform build/check report for BioC 3.14 |
|
This page was generated on 2022-04-13 12:07:21 -0400 (Wed, 13 Apr 2022).
| Hostname | OS | Arch (*) | R version | Installed pkgs |
|---|---|---|---|---|
| nebbiolo2 | Linux (Ubuntu 20.04.4 LTS) | x86_64 | 4.1.3 (2022-03-10) -- "One Push-Up" | 4324 |
| tokay2 | Windows Server 2012 R2 Standard | x64 | 4.1.3 (2022-03-10) -- "One Push-Up" | 4077 |
| machv2 | macOS 10.14.6 Mojave | x86_64 | 4.1.3 (2022-03-10) -- "One Push-Up" | 4137 |
| Click on any hostname to see more info about the system (e.g. compilers) (*) as reported by 'uname -p', except on Windows and Mac OS X | ||||
|
To the developers/maintainers of the seqTools package: - Please allow up to 24 hours (and sometimes 48 hours) for your latest push to git@git.bioconductor.org:packages/seqTools.git to reflect on this report. See How and When does the builder pull? When will my changes propagate? for more information. - Make sure to use the following settings in order to reproduce any error or warning you see on this page. |
| Package 1773/2083 | Hostname | OS / Arch | INSTALL | BUILD | CHECK | BUILD BIN | ||||||||
| seqTools 1.28.0 (landing page) Wolfgang Kaisers
| nebbiolo2 | Linux (Ubuntu 20.04.4 LTS) / x86_64 | OK | OK | WARNINGS | |||||||||
| tokay2 | Windows Server 2012 R2 Standard / x64 | OK | OK | WARNINGS | OK | |||||||||
| machv2 | macOS 10.14.6 Mojave / x86_64 | OK | OK | WARNINGS | OK | |||||||||
| Package: seqTools |
| Version: 1.28.0 |
| Command: C:\cygwin\bin\curl.exe -O http://155.52.207.166/BBS/3.14/bioc/src/contrib/seqTools_1.28.0.tar.gz && rm -rf seqTools.buildbin-libdir && mkdir seqTools.buildbin-libdir && C:\Users\biocbuild\bbs-3.14-bioc\R\bin\R.exe CMD INSTALL --merge-multiarch --build --library=seqTools.buildbin-libdir seqTools_1.28.0.tar.gz && C:\Users\biocbuild\bbs-3.14-bioc\R\bin\R.exe CMD INSTALL seqTools_1.28.0.zip && rm seqTools_1.28.0.tar.gz seqTools_1.28.0.zip |
| StartedAt: 2022-04-12 04:08:40 -0400 (Tue, 12 Apr 2022) |
| EndedAt: 2022-04-12 04:10:18 -0400 (Tue, 12 Apr 2022) |
| EllapsedTime: 98.3 seconds |
| RetCode: 0 |
| Status: OK |
##############################################################################
##############################################################################
###
### Running command:
###
### C:\cygwin\bin\curl.exe -O http://155.52.207.166/BBS/3.14/bioc/src/contrib/seqTools_1.28.0.tar.gz && rm -rf seqTools.buildbin-libdir && mkdir seqTools.buildbin-libdir && C:\Users\biocbuild\bbs-3.14-bioc\R\bin\R.exe CMD INSTALL --merge-multiarch --build --library=seqTools.buildbin-libdir seqTools_1.28.0.tar.gz && C:\Users\biocbuild\bbs-3.14-bioc\R\bin\R.exe CMD INSTALL seqTools_1.28.0.zip && rm seqTools_1.28.0.tar.gz seqTools_1.28.0.zip
###
##############################################################################
##############################################################################
% Total % Received % Xferd Average Speed Time Time Time Current
Dload Upload Total Spent Left Speed
0 0 0 0 0 0 0 0 --:--:-- --:--:-- --:--:-- 0
100 106k 100 106k 0 0 227k 0 --:--:-- --:--:-- --:--:-- 227k
install for i386
* installing *source* package 'seqTools' ...
** using staged installation
** libs
"C:/rtools40/mingw32/bin/"gcc -I"C:/Users/biocbuild/bbs-3.14-bioc/R/library/zlibbioc/include" -I"C:/Users/BIOCBU~1/BBS-3~1.14-/R/include" -DNDEBUG -I'C:/Users/biocbuild/bbs-3.14-bioc/R/library/zlibbioc/include' -I"C:/extsoft/include" -O2 -Wall -std=gnu99 -mfpmath=sse -msse2 -mstackrealign -c seqTools.c -o seqTools.o
C:/rtools40/mingw32/bin/gcc -shared -s -static-libgcc -o seqTools.dll tmp.def seqTools.o -lm -LC:/Users/biocbuild/bbs-3.14-bioc/R/library/zlibbioc/libs/i386 -lzlib1bioc -LC:/extsoft/lib/i386 -LC:/extsoft/lib -LC:/Users/BIOCBU~1/BBS-3~1.14-/R/bin/i386 -lR
installing to C:/Users/biocbuild/bbs-3.14-bioc/meat/seqTools.buildbin-libdir/00LOCK-seqTools/00new/seqTools/libs/i386
** R
** inst
** byte-compile and prepare package for lazy loading
** help
*** installing help indices
converting help for package 'seqTools'
finding HTML links ... done
Fastqq-class html
ascii2char html
cbDistMatrix html
collectDur html
countDnaKmers html
countFastaKmers html
countGenomeKmers html
countSpliceKmers html
fastqKmerLocs html
fastqKmerSubsetLocs html
fastqq html
gcContentMatrix html
kMerIndex html
meltDownK html
mergeFastqq html
mergedPhred html
phredDist html
phredTable html
plotGCcontent html
plotKmerCount html
plotNucCount html
plotNucFreq html
plotPhredQuant html
propPhred html
revCountDnaKmers html
seqTools-package html
simFastqqRunTimes html
sim_fq html
trimFastq html
writeFai html
writeSimContFastq html
writeSimFastq html
** building package indices
** installing vignettes
** testing if installed package can be loaded from temporary location
** testing if installed package can be loaded from final location
** testing if installed package keeps a record of temporary installation path
install for x64
* installing *source* package 'seqTools' ...
** libs
"C:/rtools40/mingw64/bin/"gcc -I"C:/Users/biocbuild/bbs-3.14-bioc/R/library/zlibbioc/include" -I"C:/Users/BIOCBU~1/BBS-3~1.14-/R/include" -DNDEBUG -I'C:/Users/biocbuild/bbs-3.14-bioc/R/library/zlibbioc/include' -I"C:/extsoft/include" -O2 -Wall -std=gnu99 -mfpmath=sse -msse2 -mstackrealign -c seqTools.c -o seqTools.o
C:/rtools40/mingw64/bin/gcc -shared -s -static-libgcc -o seqTools.dll tmp.def seqTools.o -lm -LC:/Users/biocbuild/bbs-3.14-bioc/R/library/zlibbioc/libs/x64 -lzlib1bioc -LC:/extsoft/lib/x64 -LC:/extsoft/lib -LC:/Users/BIOCBU~1/BBS-3~1.14-/R/bin/x64 -lR
installing to C:/Users/biocbuild/bbs-3.14-bioc/meat/seqTools.buildbin-libdir/seqTools/libs/x64
** testing if installed package can be loaded
* MD5 sums
packaged installation of 'seqTools' as seqTools_1.28.0.zip
* DONE (seqTools)
* installing to library 'C:/Users/biocbuild/bbs-3.14-bioc/R/library'
package 'seqTools' successfully unpacked and MD5 sums checked