| Back to Multiple platform build/check report for BioC 3.14 |
|
This page was generated on 2022-04-13 12:07:20 -0400 (Wed, 13 Apr 2022).
| Hostname | OS | Arch (*) | R version | Installed pkgs |
|---|---|---|---|---|
| nebbiolo2 | Linux (Ubuntu 20.04.4 LTS) | x86_64 | 4.1.3 (2022-03-10) -- "One Push-Up" | 4324 |
| tokay2 | Windows Server 2012 R2 Standard | x64 | 4.1.3 (2022-03-10) -- "One Push-Up" | 4077 |
| machv2 | macOS 10.14.6 Mojave | x86_64 | 4.1.3 (2022-03-10) -- "One Push-Up" | 4137 |
| Click on any hostname to see more info about the system (e.g. compilers) (*) as reported by 'uname -p', except on Windows and Mac OS X | ||||
|
To the developers/maintainers of the seqCNA package: - Please allow up to 24 hours (and sometimes 48 hours) for your latest push to git@git.bioconductor.org:packages/seqCNA.git to reflect on this report. See How and When does the builder pull? When will my changes propagate? for more information. - Make sure to use the following settings in order to reproduce any error or warning you see on this page. |
| Package 1765/2083 | Hostname | OS / Arch | INSTALL | BUILD | CHECK | BUILD BIN | ||||||||
| seqCNA 1.40.0 (landing page) David Mosen-Ansorena
| nebbiolo2 | Linux (Ubuntu 20.04.4 LTS) / x86_64 | OK | OK | OK | |||||||||
| tokay2 | Windows Server 2012 R2 Standard / x64 | OK | OK | OK | OK | |||||||||
| machv2 | macOS 10.14.6 Mojave / x86_64 | OK | OK | OK | OK | |||||||||
| Package: seqCNA |
| Version: 1.40.0 |
| Command: rm -rf seqCNA.buildbin-libdir && mkdir seqCNA.buildbin-libdir && C:\Users\biocbuild\bbs-3.14-bioc\R\bin\R.exe CMD INSTALL --merge-multiarch --build --library=seqCNA.buildbin-libdir seqCNA_1.40.0.tar.gz |
| StartedAt: 2022-04-13 07:07:22 -0400 (Wed, 13 Apr 2022) |
| EndedAt: 2022-04-13 07:07:39 -0400 (Wed, 13 Apr 2022) |
| EllapsedTime: 17.0 seconds |
| RetCode: 0 |
| Status: OK |
| PackageFile: seqCNA_1.40.0.zip |
| PackageFileSize: 1.94 MiB |
##############################################################################
##############################################################################
###
### Running command:
###
### rm -rf seqCNA.buildbin-libdir && mkdir seqCNA.buildbin-libdir && C:\Users\biocbuild\bbs-3.14-bioc\R\bin\R.exe CMD INSTALL --merge-multiarch --build --library=seqCNA.buildbin-libdir seqCNA_1.40.0.tar.gz
###
##############################################################################
##############################################################################
install for i386
* installing *source* package 'seqCNA' ...
** using staged installation
** libs
"C:/rtools40/mingw32/bin/"g++ -std=gnu++11 -I"C:/Users/BIOCBU~1/BBS-3~1.14-/R/include" -DNDEBUG -I"C:/extsoft/include" -O2 -Wall -mfpmath=sse -msse2 -mstackrealign -c seqCNA.cpp -o seqCNA.o
C:/rtools40/mingw32/bin/g++ -std=gnu++11 -shared -s -static-libgcc -o seqCNA.dll tmp.def seqCNA.o -LC:/extsoft/lib/i386 -LC:/extsoft/lib -LC:/Users/BIOCBU~1/BBS-3~1.14-/R/bin/i386 -lR
installing to C:/Users/biocbuild/bbs-3.14-bioc/meat/seqCNA.buildbin-libdir/00LOCK-seqCNA/00new/seqCNA/libs/i386
** R
** data
** inst
** byte-compile and prepare package for lazy loading
** help
*** installing help indices
converting help for package 'seqCNA'
finding HTML links ... done
SeqCNAInfo-class html
applyFilters html
applyThresholds html
plotCNProfile html
readSeqsumm html
runGLAD html
runSeqnorm html
runSeqsumm html
seqCNA-package html
seqsumm_HCC1143 html
writeCNProfile html
** building package indices
** installing vignettes
** testing if installed package can be loaded from temporary location
** testing if installed package can be loaded from final location
** testing if installed package keeps a record of temporary installation path
install for x64
* installing *source* package 'seqCNA' ...
** libs
"C:/rtools40/mingw64/bin/"g++ -std=gnu++11 -I"C:/Users/BIOCBU~1/BBS-3~1.14-/R/include" -DNDEBUG -I"C:/extsoft/include" -O2 -Wall -mfpmath=sse -msse2 -mstackrealign -c seqCNA.cpp -o seqCNA.o
C:/rtools40/mingw64/bin/g++ -std=gnu++11 -shared -s -static-libgcc -o seqCNA.dll tmp.def seqCNA.o -LC:/extsoft/lib/x64 -LC:/extsoft/lib -LC:/Users/BIOCBU~1/BBS-3~1.14-/R/bin/x64 -lR
installing to C:/Users/biocbuild/bbs-3.14-bioc/meat/seqCNA.buildbin-libdir/seqCNA/libs/x64
** testing if installed package can be loaded
* MD5 sums
packaged installation of 'seqCNA' as seqCNA_1.40.0.zip
* DONE (seqCNA)