| Back to Multiple platform build/check report for BioC 3.14 | 
 | 
This page was generated on 2022-04-13 12:07:19 -0400 (Wed, 13 Apr 2022).
| Hostname | OS | Arch (*) | R version | Installed pkgs | 
|---|---|---|---|---|
| nebbiolo2 | Linux (Ubuntu 20.04.4 LTS) | x86_64 | 4.1.3 (2022-03-10) -- "One Push-Up" | 4324 | 
| tokay2 | Windows Server 2012 R2 Standard | x64 | 4.1.3 (2022-03-10) -- "One Push-Up" | 4077 | 
| machv2 | macOS 10.14.6 Mojave | x86_64 | 4.1.3 (2022-03-10) -- "One Push-Up" | 4137 | 
| Click on any hostname to see more info about the system (e.g. compilers) (*) as reported by 'uname -p', except on Windows and Mac OS X | ||||
| To the developers/maintainers of the scruff package: - Please allow up to 24 hours (and sometimes 48 hours) for your latest push to git@git.bioconductor.org:packages/scruff.git to reflect on this report. See How and When does the builder pull? When will my changes propagate? for more information. - Make sure to use the following settings in order to reproduce any error or warning you see on this page. | 
| Package 1744/2083 | Hostname | OS / Arch | INSTALL | BUILD | CHECK | BUILD BIN | ||||||||
| scruff 1.12.1  (landing page) Zhe Wang 
 | nebbiolo2 | Linux (Ubuntu 20.04.4 LTS) / x86_64 | OK | OK | OK |  | ||||||||
| tokay2 | Windows Server 2012 R2 Standard / x64 | OK | OK | OK | OK |  | ||||||||
| machv2 | macOS 10.14.6 Mojave / x86_64 | OK | OK | OK | OK |  | ||||||||
| Package: scruff | 
| Version: 1.12.1 | 
| Command: C:\cygwin\bin\curl.exe -O http://155.52.207.166/BBS/3.14/bioc/src/contrib/scruff_1.12.1.tar.gz && rm -rf scruff.buildbin-libdir && mkdir scruff.buildbin-libdir && C:\Users\biocbuild\bbs-3.14-bioc\R\bin\R.exe CMD INSTALL --merge-multiarch --build --library=scruff.buildbin-libdir scruff_1.12.1.tar.gz && C:\Users\biocbuild\bbs-3.14-bioc\R\bin\R.exe CMD INSTALL scruff_1.12.1.zip && rm scruff_1.12.1.tar.gz scruff_1.12.1.zip | 
| StartedAt: 2022-04-12 07:18:41 -0400 (Tue, 12 Apr 2022) | 
| EndedAt: 2022-04-12 07:20:14 -0400 (Tue, 12 Apr 2022) | 
| EllapsedTime: 93.8 seconds | 
| RetCode: 0 | 
| Status: OK | 
##############################################################################
##############################################################################
###
### Running command:
###
###   C:\cygwin\bin\curl.exe -O http://155.52.207.166/BBS/3.14/bioc/src/contrib/scruff_1.12.1.tar.gz && rm -rf scruff.buildbin-libdir && mkdir scruff.buildbin-libdir && C:\Users\biocbuild\bbs-3.14-bioc\R\bin\R.exe CMD INSTALL --merge-multiarch --build --library=scruff.buildbin-libdir scruff_1.12.1.tar.gz && C:\Users\biocbuild\bbs-3.14-bioc\R\bin\R.exe CMD INSTALL scruff_1.12.1.zip && rm scruff_1.12.1.tar.gz scruff_1.12.1.zip
###
##############################################################################
##############################################################################
  % Total    % Received % Xferd  Average Speed   Time    Time     Time  Current
                                 Dload  Upload   Total   Spent    Left  Speed
  0     0    0     0    0     0      0      0 --:--:-- --:--:-- --:--:--     0
  2 4409k    2 96987    0     0   492k      0  0:00:08 --:--:--  0:00:08  493k
 36 4409k   36 1625k    0     0  1358k      0  0:00:03  0:00:01  0:00:02 1357k
 90 4409k   90 3978k    0     0  1822k      0  0:00:02  0:00:02 --:--:-- 1822k
100 4409k  100 4409k    0     0  1890k      0  0:00:02  0:00:02 --:--:-- 1890k
install for i386
* installing *source* package 'scruff' ...
** using staged installation
** R
** data
*** moving datasets to lazyload DB
** inst
** byte-compile and prepare package for lazy loading
** help
*** installing help indices
  converting help for package 'scruff'
    finding HTML links ... done
    alignRsubread                           html  
    bamExample                              html  
    barcodeExample                          html  
    cbtop10000                              html  
    countUMI                                html  
    demultiplex                             html  
    gview                                   html  
    qcplots                                 html  
    rview                                   html  
    sceExample                              html  
    scruff                                  html  
    tenxBamqc                               html  
    validCb                                 html  
** building package indices
** installing vignettes
** testing if installed package can be loaded from temporary location
** testing if installed package can be loaded from final location
** testing if installed package keeps a record of temporary installation path
install for x64
* installing *source* package 'scruff' ...
** testing if installed package can be loaded
* MD5 sums
packaged installation of 'scruff' as scruff_1.12.1.zip
* DONE (scruff)
* installing to library 'C:/Users/biocbuild/bbs-3.14-bioc/R/library'
package 'scruff' successfully unpacked and MD5 sums checked