| Back to Multiple platform build/check report for BioC 3.14 |
|
This page was generated on 2022-04-13 12:07:18 -0400 (Wed, 13 Apr 2022).
| Hostname | OS | Arch (*) | R version | Installed pkgs |
|---|---|---|---|---|
| nebbiolo2 | Linux (Ubuntu 20.04.4 LTS) | x86_64 | 4.1.3 (2022-03-10) -- "One Push-Up" | 4324 |
| tokay2 | Windows Server 2012 R2 Standard | x64 | 4.1.3 (2022-03-10) -- "One Push-Up" | 4077 |
| machv2 | macOS 10.14.6 Mojave | x86_64 | 4.1.3 (2022-03-10) -- "One Push-Up" | 4137 |
| Click on any hostname to see more info about the system (e.g. compilers) (*) as reported by 'uname -p', except on Windows and Mac OS X | ||||
|
To the developers/maintainers of the scDblFinder package: - Please allow up to 24 hours (and sometimes 48 hours) for your latest push to git@git.bioconductor.org:packages/scDblFinder.git to reflect on this report. See How and When does the builder pull? When will my changes propagate? for more information. - Make sure to use the following settings in order to reproduce any error or warning you see on this page. |
| Package 1718/2083 | Hostname | OS / Arch | INSTALL | BUILD | CHECK | BUILD BIN | ||||||||
| scDblFinder 1.8.0 (landing page) Pierre-Luc Germain
| nebbiolo2 | Linux (Ubuntu 20.04.4 LTS) / x86_64 | OK | OK | OK | |||||||||
| tokay2 | Windows Server 2012 R2 Standard / x64 | OK | OK | OK | OK | |||||||||
| machv2 | macOS 10.14.6 Mojave / x86_64 | OK | OK | OK | OK | |||||||||
| Package: scDblFinder |
| Version: 1.8.0 |
| Command: C:\cygwin\bin\curl.exe -O http://155.52.207.166/BBS/3.14/bioc/src/contrib/scDblFinder_1.8.0.tar.gz && rm -rf scDblFinder.buildbin-libdir && mkdir scDblFinder.buildbin-libdir && C:\Users\biocbuild\bbs-3.14-bioc\R\bin\R.exe CMD INSTALL --merge-multiarch --build --library=scDblFinder.buildbin-libdir scDblFinder_1.8.0.tar.gz && C:\Users\biocbuild\bbs-3.14-bioc\R\bin\R.exe CMD INSTALL scDblFinder_1.8.0.zip && rm scDblFinder_1.8.0.tar.gz scDblFinder_1.8.0.zip |
| StartedAt: 2022-04-12 05:59:48 -0400 (Tue, 12 Apr 2022) |
| EndedAt: 2022-04-12 06:01:05 -0400 (Tue, 12 Apr 2022) |
| EllapsedTime: 77.6 seconds |
| RetCode: 0 |
| Status: OK |
##############################################################################
##############################################################################
###
### Running command:
###
### C:\cygwin\bin\curl.exe -O http://155.52.207.166/BBS/3.14/bioc/src/contrib/scDblFinder_1.8.0.tar.gz && rm -rf scDblFinder.buildbin-libdir && mkdir scDblFinder.buildbin-libdir && C:\Users\biocbuild\bbs-3.14-bioc\R\bin\R.exe CMD INSTALL --merge-multiarch --build --library=scDblFinder.buildbin-libdir scDblFinder_1.8.0.tar.gz && C:\Users\biocbuild\bbs-3.14-bioc\R\bin\R.exe CMD INSTALL scDblFinder_1.8.0.zip && rm scDblFinder_1.8.0.tar.gz scDblFinder_1.8.0.zip
###
##############################################################################
##############################################################################
% Total % Received % Xferd Average Speed Time Time Time Current
Dload Upload Total Spent Left Speed
0 0 0 0 0 0 0 0 --:--:-- --:--:-- --:--:-- 0
29 865k 29 251k 0 0 556k 0 0:00:01 --:--:-- 0:00:01 556k
100 865k 100 865k 0 0 673k 0 0:00:01 0:00:01 --:--:-- 674k
install for i386
* installing *source* package 'scDblFinder' ...
** using staged installation
** R
** data
** inst
** byte-compile and prepare package for lazy loading
** help
*** installing help indices
converting help for package 'scDblFinder'
finding HTML links ... done
TFIDF html
addDoublets html
aggregateFeatures html
clusterStickiness html
computeDoubletDensity html
finding level-2 HTML links ... done
createDoublets html
cxds2 html
data html
directDblClassification html
doubletPairwiseEnrichment html
doubletThresholding html
fastcluster html
findDoubletClusters html
getArtificialDoublets html
getCellPairs html
getExpectedDoublets html
mockDoubletSCE html
plotDoubletMap html
plotThresholds html
propHomotypic html
recoverDoublets html
scDblFinder html
selFeatures html
** building package indices
** installing vignettes
** testing if installed package can be loaded from temporary location
** testing if installed package can be loaded from final location
** testing if installed package keeps a record of temporary installation path
install for x64
* installing *source* package 'scDblFinder' ...
** testing if installed package can be loaded
* MD5 sums
packaged installation of 'scDblFinder' as scDblFinder_1.8.0.zip
* DONE (scDblFinder)
* installing to library 'C:/Users/biocbuild/bbs-3.14-bioc/R/library'
package 'scDblFinder' successfully unpacked and MD5 sums checked