| Back to Multiple platform build/check report for BioC 3.14 |
|
This page was generated on 2022-04-13 12:07:18 -0400 (Wed, 13 Apr 2022).
| Hostname | OS | Arch (*) | R version | Installed pkgs |
|---|---|---|---|---|
| nebbiolo2 | Linux (Ubuntu 20.04.4 LTS) | x86_64 | 4.1.3 (2022-03-10) -- "One Push-Up" | 4324 |
| tokay2 | Windows Server 2012 R2 Standard | x64 | 4.1.3 (2022-03-10) -- "One Push-Up" | 4077 |
| machv2 | macOS 10.14.6 Mojave | x86_64 | 4.1.3 (2022-03-10) -- "One Push-Up" | 4137 |
| Click on any hostname to see more info about the system (e.g. compilers) (*) as reported by 'uname -p', except on Windows and Mac OS X | ||||
|
To the developers/maintainers of the scClassify package: - Please allow up to 24 hours (and sometimes 48 hours) for your latest push to git@git.bioconductor.org:packages/scClassify.git to reflect on this report. See How and When does the builder pull? When will my changes propagate? for more information. - Make sure to use the following settings in order to reproduce any error or warning you see on this page. |
| Package 1716/2083 | Hostname | OS / Arch | INSTALL | BUILD | CHECK | BUILD BIN | ||||||||
| scClassify 1.6.0 (landing page) Yingxin Lin
| nebbiolo2 | Linux (Ubuntu 20.04.4 LTS) / x86_64 | OK | OK | OK | |||||||||
| tokay2 | Windows Server 2012 R2 Standard / x64 | OK | OK | OK | OK | |||||||||
| machv2 | macOS 10.14.6 Mojave / x86_64 | OK | OK | OK | OK | |||||||||
| Package: scClassify |
| Version: 1.6.0 |
| Command: C:\cygwin\bin\curl.exe -O http://155.52.207.166/BBS/3.14/bioc/src/contrib/scClassify_1.6.0.tar.gz && rm -rf scClassify.buildbin-libdir && mkdir scClassify.buildbin-libdir && C:\Users\biocbuild\bbs-3.14-bioc\R\bin\R.exe CMD INSTALL --merge-multiarch --build --library=scClassify.buildbin-libdir scClassify_1.6.0.tar.gz && C:\Users\biocbuild\bbs-3.14-bioc\R\bin\R.exe CMD INSTALL scClassify_1.6.0.zip && rm scClassify_1.6.0.tar.gz scClassify_1.6.0.zip |
| StartedAt: 2022-04-12 07:30:33 -0400 (Tue, 12 Apr 2022) |
| EndedAt: 2022-04-12 07:32:03 -0400 (Tue, 12 Apr 2022) |
| EllapsedTime: 89.8 seconds |
| RetCode: 0 |
| Status: OK |
##############################################################################
##############################################################################
###
### Running command:
###
### C:\cygwin\bin\curl.exe -O http://155.52.207.166/BBS/3.14/bioc/src/contrib/scClassify_1.6.0.tar.gz && rm -rf scClassify.buildbin-libdir && mkdir scClassify.buildbin-libdir && C:\Users\biocbuild\bbs-3.14-bioc\R\bin\R.exe CMD INSTALL --merge-multiarch --build --library=scClassify.buildbin-libdir scClassify_1.6.0.tar.gz && C:\Users\biocbuild\bbs-3.14-bioc\R\bin\R.exe CMD INSTALL scClassify_1.6.0.zip && rm scClassify_1.6.0.tar.gz scClassify_1.6.0.zip
###
##############################################################################
##############################################################################
% Total % Received % Xferd Average Speed Time Time Time Current
Dload Upload Total Spent Left Speed
0 0 0 0 0 0 0 0 --:--:-- --:--:-- --:--:-- 0
0 0 0 0 0 0 0 0 --:--:-- --:--:-- --:--:-- 0
43 2345k 43 1030k 0 0 995k 0 0:00:02 0:00:01 0:00:01 995k
100 2345k 100 2345k 0 0 1366k 0 0:00:01 0:00:01 --:--:-- 1366k
install for i386
* installing *source* package 'scClassify' ...
** using staged installation
** R
** data
** inst
** byte-compile and prepare package for lazy loading
** help
*** installing help indices
converting help for package 'scClassify'
finding HTML links ... done
cellTypeTrain html
cellTypeTree html
dot-scClassifyTrainModel html
features html
getN html
learningCurve html
model html
modelweights html
name html
plotCellTypeTree html
predict_scClassify html
predict_scClassifyJoint html
runHOPACH html
runSampleCal html
scClassify html
scClassifyTrainModel-class html
scClassifyTrainModelList-class html
scClassifyTrainModelList html
scClassify_example html
trainClassExample_wang html
trainClassExample_xin html
train_scClassify html
*** copying figures
** building package indices
** installing vignettes
** testing if installed package can be loaded from temporary location
** testing if installed package can be loaded from final location
** testing if installed package keeps a record of temporary installation path
install for x64
* installing *source* package 'scClassify' ...
** testing if installed package can be loaded
* MD5 sums
packaged installation of 'scClassify' as scClassify_1.6.0.zip
* DONE (scClassify)
* installing to library 'C:/Users/biocbuild/bbs-3.14-bioc/R/library'
package 'scClassify' successfully unpacked and MD5 sums checked