| Back to Multiple platform build/check report for BioC 3.14 | 
 | 
This page was generated on 2022-04-13 12:07:18 -0400 (Wed, 13 Apr 2022).
| Hostname | OS | Arch (*) | R version | Installed pkgs | 
|---|---|---|---|---|
| nebbiolo2 | Linux (Ubuntu 20.04.4 LTS) | x86_64 | 4.1.3 (2022-03-10) -- "One Push-Up" | 4324 | 
| tokay2 | Windows Server 2012 R2 Standard | x64 | 4.1.3 (2022-03-10) -- "One Push-Up" | 4077 | 
| machv2 | macOS 10.14.6 Mojave | x86_64 | 4.1.3 (2022-03-10) -- "One Push-Up" | 4137 | 
| Click on any hostname to see more info about the system (e.g. compilers) (*) as reported by 'uname -p', except on Windows and Mac OS X | ||||
| To the developers/maintainers of the scAnnotatR package: - Please allow up to 24 hours (and sometimes 48 hours) for your latest push to git@git.bioconductor.org:packages/scAnnotatR.git to reflect on this report. See How and When does the builder pull? When will my changes propagate? for more information. - Make sure to use the following settings in order to reproduce any error or warning you see on this page. | 
| Package 1706/2083 | Hostname | OS / Arch | INSTALL | BUILD | CHECK | BUILD BIN | ||||||||
| scAnnotatR 1.0.0  (landing page) Johannes Griss 
 | nebbiolo2 | Linux (Ubuntu 20.04.4 LTS) / x86_64 | OK | OK | OK |  | ||||||||
| tokay2 | Windows Server 2012 R2 Standard / x64 | OK | OK | OK | OK |  | ||||||||
| machv2 | macOS 10.14.6 Mojave / x86_64 | OK | OK | OK | OK |  | ||||||||
| Package: scAnnotatR | 
| Version: 1.0.0 | 
| Command: C:\cygwin\bin\curl.exe -O http://155.52.207.166/BBS/3.14/bioc/src/contrib/scAnnotatR_1.0.0.tar.gz && rm -rf scAnnotatR.buildbin-libdir && mkdir scAnnotatR.buildbin-libdir && C:\Users\biocbuild\bbs-3.14-bioc\R\bin\R.exe CMD INSTALL --merge-multiarch --build --library=scAnnotatR.buildbin-libdir scAnnotatR_1.0.0.tar.gz && C:\Users\biocbuild\bbs-3.14-bioc\R\bin\R.exe CMD INSTALL scAnnotatR_1.0.0.zip && rm scAnnotatR_1.0.0.tar.gz scAnnotatR_1.0.0.zip | 
| StartedAt: 2022-04-12 07:26:07 -0400 (Tue, 12 Apr 2022) | 
| EndedAt: 2022-04-12 07:27:48 -0400 (Tue, 12 Apr 2022) | 
| EllapsedTime: 100.8 seconds | 
| RetCode: 0 | 
| Status: OK | 
##############################################################################
##############################################################################
###
### Running command:
###
###   C:\cygwin\bin\curl.exe -O http://155.52.207.166/BBS/3.14/bioc/src/contrib/scAnnotatR_1.0.0.tar.gz && rm -rf scAnnotatR.buildbin-libdir && mkdir scAnnotatR.buildbin-libdir && C:\Users\biocbuild\bbs-3.14-bioc\R\bin\R.exe CMD INSTALL --merge-multiarch --build --library=scAnnotatR.buildbin-libdir scAnnotatR_1.0.0.tar.gz && C:\Users\biocbuild\bbs-3.14-bioc\R\bin\R.exe CMD INSTALL scAnnotatR_1.0.0.zip && rm scAnnotatR_1.0.0.tar.gz scAnnotatR_1.0.0.zip
###
##############################################################################
##############################################################################
  % Total    % Received % Xferd  Average Speed   Time    Time     Time  Current
                                 Dload  Upload   Total   Spent    Left  Speed
  0     0    0     0    0     0      0      0 --:--:-- --:--:-- --:--:--     0
 93  357k   93  334k    0     0   976k      0 --:--:-- --:--:-- --:--:--  975k
100  357k  100  357k    0     0  1034k      0 --:--:-- --:--:-- --:--:-- 1035k
install for i386
* installing *source* package 'scAnnotatR' ...
** using staged installation
** R
** data
*** moving datasets to lazyload DB
** byte-compile and prepare package for lazy loading
** help
*** installing help indices
  converting help for package 'scAnnotatR'
    finding HTML links ... done
    caret_model                             html  
    cell_type-set                           html  
    cell_type                               html  
    classify_cells                          html  
    delete_model                            html  
    internal                                html  
    load_models                             html  
    marker_genes                            html  
    p_thres-set                             html  
    p_thres                                 html  
    parent                                  html  
    plant_tree                              html  
    plot_roc_curve                          html  
    save_new_model                          html  
    scAnnotatR                              html  
    show                                    html  
    test_classifier                         html  
    finding level-2 HTML links ... done
    tirosh_mel80_example                    html  
    train_classifier                        html  
** building package indices
** installing vignettes
** testing if installed package can be loaded from temporary location
** testing if installed package can be loaded from final location
** testing if installed package keeps a record of temporary installation path
install for x64
* installing *source* package 'scAnnotatR' ...
** testing if installed package can be loaded
* MD5 sums
packaged installation of 'scAnnotatR' as scAnnotatR_1.0.0.zip
* DONE (scAnnotatR)
* installing to library 'C:/Users/biocbuild/bbs-3.14-bioc/R/library'
package 'scAnnotatR' successfully unpacked and MD5 sums checked