| Back to Multiple platform build/check report for BioC 3.14 |
|
This page was generated on 2022-04-13 12:07:15 -0400 (Wed, 13 Apr 2022).
| Hostname | OS | Arch (*) | R version | Installed pkgs |
|---|---|---|---|---|
| nebbiolo2 | Linux (Ubuntu 20.04.4 LTS) | x86_64 | 4.1.3 (2022-03-10) -- "One Push-Up" | 4324 |
| tokay2 | Windows Server 2012 R2 Standard | x64 | 4.1.3 (2022-03-10) -- "One Push-Up" | 4077 |
| machv2 | macOS 10.14.6 Mojave | x86_64 | 4.1.3 (2022-03-10) -- "One Push-Up" | 4137 |
| Click on any hostname to see more info about the system (e.g. compilers) (*) as reported by 'uname -p', except on Windows and Mac OS X | ||||
|
To the developers/maintainers of the ropls package: - Please allow up to 24 hours (and sometimes 48 hours) for your latest push to git@git.bioconductor.org:packages/ropls.git to reflect on this report. See How and When does the builder pull? When will my changes propagate? for more information. - Make sure to use the following settings in order to reproduce any error or warning you see on this page. |
| Package 1646/2083 | Hostname | OS / Arch | INSTALL | BUILD | CHECK | BUILD BIN | ||||||||
| ropls 1.26.4 (landing page) Etienne A. Thevenot
| nebbiolo2 | Linux (Ubuntu 20.04.4 LTS) / x86_64 | OK | OK | OK | |||||||||
| tokay2 | Windows Server 2012 R2 Standard / x64 | OK | OK | OK | OK | |||||||||
| machv2 | macOS 10.14.6 Mojave / x86_64 | OK | OK | OK | OK | |||||||||
| Package: ropls |
| Version: 1.26.4 |
| Command: rm -rf ropls.buildbin-libdir && mkdir ropls.buildbin-libdir && C:\Users\biocbuild\bbs-3.14-bioc\R\bin\R.exe CMD INSTALL --merge-multiarch --build --library=ropls.buildbin-libdir ropls_1.26.4.tar.gz |
| StartedAt: 2022-04-13 07:01:20 -0400 (Wed, 13 Apr 2022) |
| EndedAt: 2022-04-13 07:01:36 -0400 (Wed, 13 Apr 2022) |
| EllapsedTime: 16.1 seconds |
| RetCode: 0 |
| Status: OK |
| PackageFile: ropls_1.26.4.zip |
| PackageFileSize: 2.115 MiB |
##############################################################################
##############################################################################
###
### Running command:
###
### rm -rf ropls.buildbin-libdir && mkdir ropls.buildbin-libdir && C:\Users\biocbuild\bbs-3.14-bioc\R\bin\R.exe CMD INSTALL --merge-multiarch --build --library=ropls.buildbin-libdir ropls_1.26.4.tar.gz
###
##############################################################################
##############################################################################
install for i386
* installing *source* package 'ropls' ...
** using staged installation
** R
** data
** inst
** byte-compile and prepare package for lazy loading
in method for 'opls' with signature 'x="MultiDataSet"': no definition for class "MultiDataSet"
** help
*** installing help indices
converting help for package 'ropls'
finding HTML links ... done
aminoacids html
cellulose html
checkW4M html
coef html
cornell html
fitted html
foods html
fromW4M html
getEset html
getLoadingMN html
getMset html
getPcaVarVn html
getScoreMN html
getSubsetVi html
getSummaryDF html
getVipVn html
getWeightMN html
linnerud html
lowarp html
mark html
opls-class html
opls html
oplsMultiDataSet-class html
plot html
predict html
print html
residuals html
ropls-package html
sacurine html
show html
tested html
toW4M html
view html
** building package indices
** installing vignettes
** testing if installed package can be loaded from temporary location
** testing if installed package can be loaded from final location
** testing if installed package keeps a record of temporary installation path
install for x64
* installing *source* package 'ropls' ...
** testing if installed package can be loaded
* MD5 sums
packaged installation of 'ropls' as ropls_1.26.4.zip
* DONE (ropls)