| Back to Multiple platform build/check report for BioC 3.14 |
|
This page was generated on 2022-04-13 12:07:12 -0400 (Wed, 13 Apr 2022).
| Hostname | OS | Arch (*) | R version | Installed pkgs |
|---|---|---|---|---|
| nebbiolo2 | Linux (Ubuntu 20.04.4 LTS) | x86_64 | 4.1.3 (2022-03-10) -- "One Push-Up" | 4324 |
| tokay2 | Windows Server 2012 R2 Standard | x64 | 4.1.3 (2022-03-10) -- "One Push-Up" | 4077 |
| machv2 | macOS 10.14.6 Mojave | x86_64 | 4.1.3 (2022-03-10) -- "One Push-Up" | 4137 |
| Click on any hostname to see more info about the system (e.g. compilers) (*) as reported by 'uname -p', except on Windows and Mac OS X | ||||
|
To the developers/maintainers of the rfPred package: - Please allow up to 24 hours (and sometimes 48 hours) for your latest push to git@git.bioconductor.org:packages/rfPred.git to reflect on this report. See How and When does the builder pull? When will my changes propagate? for more information. - Make sure to use the following settings in order to reproduce any error or warning you see on this page. |
| Package 1587/2083 | Hostname | OS / Arch | INSTALL | BUILD | CHECK | BUILD BIN | ||||||||
| rfPred 1.32.0 (landing page) Hugo Varet
| nebbiolo2 | Linux (Ubuntu 20.04.4 LTS) / x86_64 | OK | OK | OK | |||||||||
| tokay2 | Windows Server 2012 R2 Standard / x64 | OK | ERROR | skipped | skipped | |||||||||
| machv2 | macOS 10.14.6 Mojave / x86_64 | OK | OK | OK | OK | |||||||||
| Package: rfPred |
| Version: 1.32.0 |
| Command: C:\cygwin\bin\curl.exe -O http://155.52.207.166/BBS/3.14/bioc/src/contrib/rfPred_1.32.0.tar.gz && rm -rf rfPred.buildbin-libdir && mkdir rfPred.buildbin-libdir && C:\Users\biocbuild\bbs-3.14-bioc\R\bin\R.exe CMD INSTALL --merge-multiarch --build --library=rfPred.buildbin-libdir rfPred_1.32.0.tar.gz && C:\Users\biocbuild\bbs-3.14-bioc\R\bin\R.exe CMD INSTALL rfPred_1.32.0.zip && rm rfPred_1.32.0.tar.gz rfPred_1.32.0.zip |
| StartedAt: 2022-04-12 05:09:05 -0400 (Tue, 12 Apr 2022) |
| EndedAt: 2022-04-12 05:09:48 -0400 (Tue, 12 Apr 2022) |
| EllapsedTime: 43.3 seconds |
| RetCode: 0 |
| Status: OK |
##############################################################################
##############################################################################
###
### Running command:
###
### C:\cygwin\bin\curl.exe -O http://155.52.207.166/BBS/3.14/bioc/src/contrib/rfPred_1.32.0.tar.gz && rm -rf rfPred.buildbin-libdir && mkdir rfPred.buildbin-libdir && C:\Users\biocbuild\bbs-3.14-bioc\R\bin\R.exe CMD INSTALL --merge-multiarch --build --library=rfPred.buildbin-libdir rfPred_1.32.0.tar.gz && C:\Users\biocbuild\bbs-3.14-bioc\R\bin\R.exe CMD INSTALL rfPred_1.32.0.zip && rm rfPred_1.32.0.tar.gz rfPred_1.32.0.zip
###
##############################################################################
##############################################################################
% Total % Received % Xferd Average Speed Time Time Time Current
Dload Upload Total Spent Left Speed
0 0 0 0 0 0 0 0 --:--:-- --:--:-- --:--:-- 0
17 890k 17 154k 0 0 739k 0 0:00:01 --:--:-- 0:00:01 740k
100 890k 100 890k 0 0 1955k 0 --:--:-- --:--:-- --:--:-- 1957k
install for i386
* installing *source* package 'rfPred' ...
** using staged installation
** libs
"C:/rtools40/mingw32/bin/"gcc -I"C:/Users/BIOCBU~1/BBS-3~1.14-/R/include" -DNDEBUG -I"C:/extsoft/include" -O2 -Wall -std=gnu99 -mfpmath=sse -msse2 -mstackrealign -c outstring.c -o outstring.o
C:/rtools40/mingw32/bin/gcc -shared -s -static-libgcc -o rfPred.dll tmp.def outstring.o -LC:/extsoft/lib/i386 -LC:/extsoft/lib -LC:/Users/BIOCBU~1/BBS-3~1.14-/R/bin/i386 -lR
installing to C:/Users/biocbuild/bbs-3.14-bioc/meat/rfPred.buildbin-libdir/00LOCK-rfPred/00new/rfPred/libs/i386
** R
** data
** inst
** byte-compile and prepare package for lazy loading
** help
*** installing help indices
converting help for package 'rfPred'
finding HTML links ... done
example_GRanges html
rfPred-package html
rfPred_scores-methods html
rfPred_scores_motor html
variant_list_Y html
** building package indices
** installing vignettes
** testing if installed package can be loaded from temporary location
** testing if installed package can be loaded from final location
** testing if installed package keeps a record of temporary installation path
install for x64
* installing *source* package 'rfPred' ...
** libs
"C:/rtools40/mingw64/bin/"gcc -I"C:/Users/BIOCBU~1/BBS-3~1.14-/R/include" -DNDEBUG -I"C:/extsoft/include" -O2 -Wall -std=gnu99 -mfpmath=sse -msse2 -mstackrealign -c outstring.c -o outstring.o
C:/rtools40/mingw64/bin/gcc -shared -s -static-libgcc -o rfPred.dll tmp.def outstring.o -LC:/extsoft/lib/x64 -LC:/extsoft/lib -LC:/Users/BIOCBU~1/BBS-3~1.14-/R/bin/x64 -lR
installing to C:/Users/biocbuild/bbs-3.14-bioc/meat/rfPred.buildbin-libdir/rfPred/libs/x64
** testing if installed package can be loaded
* MD5 sums
packaged installation of 'rfPred' as rfPred_1.32.0.zip
* DONE (rfPred)
* installing to library 'C:/Users/biocbuild/bbs-3.14-bioc/R/library'
package 'rfPred' successfully unpacked and MD5 sums checked