| Back to Multiple platform build/check report for BioC 3.14 |
|
This page was generated on 2022-04-13 12:07:11 -0400 (Wed, 13 Apr 2022).
| Hostname | OS | Arch (*) | R version | Installed pkgs |
|---|---|---|---|---|
| nebbiolo2 | Linux (Ubuntu 20.04.4 LTS) | x86_64 | 4.1.3 (2022-03-10) -- "One Push-Up" | 4324 |
| tokay2 | Windows Server 2012 R2 Standard | x64 | 4.1.3 (2022-03-10) -- "One Push-Up" | 4077 |
| machv2 | macOS 10.14.6 Mojave | x86_64 | 4.1.3 (2022-03-10) -- "One Push-Up" | 4137 |
| Click on any hostname to see more info about the system (e.g. compilers) (*) as reported by 'uname -p', except on Windows and Mac OS X | ||||
|
To the developers/maintainers of the rcellminer package: - Please allow up to 24 hours (and sometimes 48 hours) for your latest push to git@git.bioconductor.org:packages/rcellminer.git to reflect on this report. See How and When does the builder pull? When will my changes propagate? for more information. - Make sure to use the following settings in order to reproduce any error or warning you see on this page. |
| Package 1543/2083 | Hostname | OS / Arch | INSTALL | BUILD | CHECK | BUILD BIN | ||||||||
| rcellminer 2.16.0 (landing page) Augustin Luna
| nebbiolo2 | Linux (Ubuntu 20.04.4 LTS) / x86_64 | OK | OK | OK | |||||||||
| tokay2 | Windows Server 2012 R2 Standard / x64 | OK | OK | OK | OK | |||||||||
| machv2 | macOS 10.14.6 Mojave / x86_64 | OK | OK | OK | OK | |||||||||
| Package: rcellminer |
| Version: 2.16.0 |
| Command: rm -rf rcellminer.buildbin-libdir && mkdir rcellminer.buildbin-libdir && C:\Users\biocbuild\bbs-3.14-bioc\R\bin\R.exe CMD INSTALL --merge-multiarch --build --library=rcellminer.buildbin-libdir rcellminer_2.16.0.tar.gz |
| StartedAt: 2022-04-13 06:55:28 -0400 (Wed, 13 Apr 2022) |
| EndedAt: 2022-04-13 06:55:56 -0400 (Wed, 13 Apr 2022) |
| EllapsedTime: 28.3 seconds |
| RetCode: 0 |
| Status: OK |
| PackageFile: rcellminer_2.16.0.zip |
| PackageFileSize: 1020 KiB |
##############################################################################
##############################################################################
###
### Running command:
###
### rm -rf rcellminer.buildbin-libdir && mkdir rcellminer.buildbin-libdir && C:\Users\biocbuild\bbs-3.14-bioc\R\bin\R.exe CMD INSTALL --merge-multiarch --build --library=rcellminer.buildbin-libdir rcellminer_2.16.0.tar.gz
###
##############################################################################
##############################################################################
install for i386
* installing *source* package 'rcellminer' ...
** using staged installation
** R
** data
*** moving datasets to lazyload DB
** inst
** byte-compile and prepare package for lazy loading
** help
*** installing help indices
converting help for package 'rcellminer'
finding HTML links ... done
DrugData-class html
DrugData-eSet-eSet-MIAxE-method html
DrugData html
Drug_MOA_Key html
MolData-class html
MolData-list-MIAxE-method html
MolData html
cmVersion html
crossCors html
crossCorsSpearman html
dot-onAttach html
dot-onLoad html
drugDB html
elNetMolDataNCI60 html
fingerprintList html
getAct-DrugData-method html
getAct html
getActivityRangeStats html
getAllFeatureData-MolData-method html
getAllFeatureData html
getBinaryMutationData html
getColumnQuantiles html
getDrugActivityData html
getDrugActivityRange html
getDrugActivityRepeatData html
getDrugMoaList html
getDrugName html
getESetList-MolData-method html
getESetList html
getFeatureAnnot-DrugData-method html
getFeatureAnnot-MolData-method html
getFeatureAnnot html
getFeatureDataFromMatList html
getMedSenLineActivity html
getMinDrugActivityRepeatCor html
getMoaStr html
getMoaToCompounds html
getMolDataMatrices html
getMolDataType html
getNumDrugActivityRepeats html
getNumMissingLines html
getRepeatAct-DrugData-method html
getRepeatAct html
getRsd html
getSampleData-DrugData-method html
getSampleData-MolData-method html
getSampleData html
getSmiles html
hasMoa html
initialize-DrugData-method html
initialize-MolData-method html
isPublic html
loadCellminerPlotInfo html
loadNciColorSet html
parCorPatternComparison html
patternComparison html
plotCellMiner html
plotCellMiner2D html
plotDrugActivityRepeats html
plotDrugSets html
removeMolDataType html
restrictFeatureMat html
rowCors html
searchForNscs html
selectCorrelatedRows html
selectCorrelatedRowsFromMatrices html
sub-sub-MolData-method html
sub-subset-MolData-method html
** building package indices
** installing vignettes
** testing if installed package can be loaded from temporary location
** testing if installed package can be loaded from final location
** testing if installed package keeps a record of temporary installation path
install for x64
* installing *source* package 'rcellminer' ...
** testing if installed package can be loaded
* MD5 sums
packaged installation of 'rcellminer' as rcellminer_2.16.0.zip
* DONE (rcellminer)