| Back to Multiple platform build/check report for BioC 3.14 |
|
This page was generated on 2022-04-13 12:07:09 -0400 (Wed, 13 Apr 2022).
| Hostname | OS | Arch (*) | R version | Installed pkgs |
|---|---|---|---|---|
| nebbiolo2 | Linux (Ubuntu 20.04.4 LTS) | x86_64 | 4.1.3 (2022-03-10) -- "One Push-Up" | 4324 |
| tokay2 | Windows Server 2012 R2 Standard | x64 | 4.1.3 (2022-03-10) -- "One Push-Up" | 4077 |
| machv2 | macOS 10.14.6 Mojave | x86_64 | 4.1.3 (2022-03-10) -- "One Push-Up" | 4137 |
| Click on any hostname to see more info about the system (e.g. compilers) (*) as reported by 'uname -p', except on Windows and Mac OS X | ||||
|
To the developers/maintainers of the qusage package: - Please allow up to 24 hours (and sometimes 48 hours) for your latest push to git@git.bioconductor.org:packages/qusage.git to reflect on this report. See How and When does the builder pull? When will my changes propagate? for more information. - Make sure to use the following settings in order to reproduce any error or warning you see on this page. |
| Package 1513/2083 | Hostname | OS / Arch | INSTALL | BUILD | CHECK | BUILD BIN | ||||||||
| qusage 2.28.0 (landing page) Christopher Bolen
| nebbiolo2 | Linux (Ubuntu 20.04.4 LTS) / x86_64 | OK | OK | OK | |||||||||
| tokay2 | Windows Server 2012 R2 Standard / x64 | OK | OK | OK | OK | |||||||||
| machv2 | macOS 10.14.6 Mojave / x86_64 | OK | OK | OK | OK | |||||||||
| Package: qusage |
| Version: 2.28.0 |
| Command: C:\cygwin\bin\curl.exe -O http://155.52.207.166/BBS/3.14/bioc/src/contrib/qusage_2.28.0.tar.gz && rm -rf qusage.buildbin-libdir && mkdir qusage.buildbin-libdir && C:\Users\biocbuild\bbs-3.14-bioc\R\bin\R.exe CMD INSTALL --merge-multiarch --build --library=qusage.buildbin-libdir qusage_2.28.0.tar.gz && C:\Users\biocbuild\bbs-3.14-bioc\R\bin\R.exe CMD INSTALL qusage_2.28.0.zip && rm qusage_2.28.0.tar.gz qusage_2.28.0.zip |
| StartedAt: 2022-04-12 04:29:00 -0400 (Tue, 12 Apr 2022) |
| EndedAt: 2022-04-12 04:31:06 -0400 (Tue, 12 Apr 2022) |
| EllapsedTime: 126.1 seconds |
| RetCode: 0 |
| Status: OK |
##############################################################################
##############################################################################
###
### Running command:
###
### C:\cygwin\bin\curl.exe -O http://155.52.207.166/BBS/3.14/bioc/src/contrib/qusage_2.28.0.tar.gz && rm -rf qusage.buildbin-libdir && mkdir qusage.buildbin-libdir && C:\Users\biocbuild\bbs-3.14-bioc\R\bin\R.exe CMD INSTALL --merge-multiarch --build --library=qusage.buildbin-libdir qusage_2.28.0.tar.gz && C:\Users\biocbuild\bbs-3.14-bioc\R\bin\R.exe CMD INSTALL qusage_2.28.0.zip && rm qusage_2.28.0.tar.gz qusage_2.28.0.zip
###
##############################################################################
##############################################################################
% Total % Received % Xferd Average Speed Time Time Time Current
Dload Upload Total Spent Left Speed
0 0 0 0 0 0 0 0 --:--:-- --:--:-- --:--:-- 0
0 0 0 0 0 0 0 0 --:--:-- --:--:-- --:--:-- 0
12 8779k 12 1065k 0 0 1020k 0 0:00:08 0:00:01 0:00:07 1021k
34 8779k 34 3038k 0 0 1488k 0 0:00:05 0:00:02 0:00:03 1488k
67 8779k 67 5890k 0 0 1938k 0 0:00:04 0:00:03 0:00:01 1938k
100 8779k 100 8779k 0 0 2300k 0 0:00:03 0:00:03 --:--:-- 2300k
install for i386
* installing *source* package 'qusage' ...
** using staged installation
** R
** data
** inst
** byte-compile and prepare package for lazy loading
** help
*** installing help indices
converting help for package 'qusage'
finding HTML links ... done
GeneSets html
QSarray-class html
aggregateGeneSet html
calcBayesCI html
calcVIF html
combinePDFs html
eset.full html
fluVaccine html
getXcoords html
makeComparison html
newQSarray html
pVal html
plotCIs html
plotCIsGenes html
plotCombinedPDF html
plotDensityCurves html
plotGeneSetDistributions html
qgen html
qsTable html
qusage html
read.gmt html
** building package indices
** installing vignettes
** testing if installed package can be loaded from temporary location
** testing if installed package can be loaded from final location
** testing if installed package keeps a record of temporary installation path
install for x64
* installing *source* package 'qusage' ...
** testing if installed package can be loaded
* MD5 sums
packaged installation of 'qusage' as qusage_2.28.0.zip
* DONE (qusage)
* installing to library 'C:/Users/biocbuild/bbs-3.14-bioc/R/library'
package 'qusage' successfully unpacked and MD5 sums checked