| Back to Multiple platform build/check report for BioC 3.14 |
|
This page was generated on 2022-04-13 12:07:07 -0400 (Wed, 13 Apr 2022).
| Hostname | OS | Arch (*) | R version | Installed pkgs |
|---|---|---|---|---|
| nebbiolo2 | Linux (Ubuntu 20.04.4 LTS) | x86_64 | 4.1.3 (2022-03-10) -- "One Push-Up" | 4324 |
| tokay2 | Windows Server 2012 R2 Standard | x64 | 4.1.3 (2022-03-10) -- "One Push-Up" | 4077 |
| machv2 | macOS 10.14.6 Mojave | x86_64 | 4.1.3 (2022-03-10) -- "One Push-Up" | 4137 |
| Click on any hostname to see more info about the system (e.g. compilers) (*) as reported by 'uname -p', except on Windows and Mac OS X | ||||
|
To the developers/maintainers of the profileplyr package: - Please allow up to 24 hours (and sometimes 48 hours) for your latest push to git@git.bioconductor.org:packages/profileplyr.git to reflect on this report. See How and When does the builder pull? When will my changes propagate? for more information. - Make sure to use the following settings in order to reproduce any error or warning you see on this page. |
| Package 1464/2083 | Hostname | OS / Arch | INSTALL | BUILD | CHECK | BUILD BIN | ||||||||
| profileplyr 1.10.2 (landing page) Tom Carroll
| nebbiolo2 | Linux (Ubuntu 20.04.4 LTS) / x86_64 | OK | OK | OK | |||||||||
| tokay2 | Windows Server 2012 R2 Standard / x64 | OK | OK | OK | OK | |||||||||
| machv2 | macOS 10.14.6 Mojave / x86_64 | OK | OK | OK | OK | |||||||||
| Package: profileplyr |
| Version: 1.10.2 |
| Command: rm -rf profileplyr.buildbin-libdir && mkdir profileplyr.buildbin-libdir && C:\Users\biocbuild\bbs-3.14-bioc\R\bin\R.exe CMD INSTALL --merge-multiarch --build --library=profileplyr.buildbin-libdir profileplyr_1.10.2.tar.gz |
| StartedAt: 2022-04-13 06:51:07 -0400 (Wed, 13 Apr 2022) |
| EndedAt: 2022-04-13 06:52:32 -0400 (Wed, 13 Apr 2022) |
| EllapsedTime: 85.1 seconds |
| RetCode: 0 |
| Status: OK |
| PackageFile: profileplyr_1.10.2.zip |
| PackageFileSize: 2.4 MiB |
##############################################################################
##############################################################################
###
### Running command:
###
### rm -rf profileplyr.buildbin-libdir && mkdir profileplyr.buildbin-libdir && C:\Users\biocbuild\bbs-3.14-bioc\R\bin\R.exe CMD INSTALL --merge-multiarch --build --library=profileplyr.buildbin-libdir profileplyr_1.10.2.tar.gz
###
##############################################################################
##############################################################################
install for i386
* installing *source* package 'profileplyr' ...
** using staged installation
** R
** data
** inst
** byte-compile and prepare package for lazy loading
** help
*** installing help indices
converting help for package 'profileplyr'
finding HTML links ... done
BamBigwig_to_chipProfile html
K27ac_GRlist_hind_liver_top5000 html
annotateRanges html
annotateRanges_great html
as_profileplyr html
clusterRanges html
convertToEnrichedHeatmapMat html
export_deepToolsMat html
gene_list_character html
gene_list_dataframe html
generateEnrichedHeatmap html
generateProfilePlot html
groupBy html
inherit_group_function html
orderBy html
params html
profileplyr html
sampleData html
subset_GR_GL_common_top html
subsetbyGeneListOverlap html
subsetbyRangeOverlap html
summarize html
** building package indices
** installing vignettes
** testing if installed package can be loaded from temporary location
** testing if installed package can be loaded from final location
** testing if installed package keeps a record of temporary installation path
install for x64
* installing *source* package 'profileplyr' ...
** testing if installed package can be loaded
* MD5 sums
packaged installation of 'profileplyr' as profileplyr_1.10.2.zip
* DONE (profileplyr)