| Back to Multiple platform build/check report for BioC 3.14 |
|
This page was generated on 2022-04-13 12:07:06 -0400 (Wed, 13 Apr 2022).
| Hostname | OS | Arch (*) | R version | Installed pkgs |
|---|---|---|---|---|
| nebbiolo2 | Linux (Ubuntu 20.04.4 LTS) | x86_64 | 4.1.3 (2022-03-10) -- "One Push-Up" | 4324 |
| tokay2 | Windows Server 2012 R2 Standard | x64 | 4.1.3 (2022-03-10) -- "One Push-Up" | 4077 |
| machv2 | macOS 10.14.6 Mojave | x86_64 | 4.1.3 (2022-03-10) -- "One Push-Up" | 4137 |
| Click on any hostname to see more info about the system (e.g. compilers) (*) as reported by 'uname -p', except on Windows and Mac OS X | ||||
|
To the developers/maintainers of the polyester package: - Please allow up to 24 hours (and sometimes 48 hours) for your latest push to git@git.bioconductor.org:packages/polyester.git to reflect on this report. See How and When does the builder pull? When will my changes propagate? for more information. - Make sure to use the following settings in order to reproduce any error or warning you see on this page. |
| Package 1439/2083 | Hostname | OS / Arch | INSTALL | BUILD | CHECK | BUILD BIN | ||||||||
| polyester 1.30.0 (landing page) Jack Fu
| nebbiolo2 | Linux (Ubuntu 20.04.4 LTS) / x86_64 | OK | OK | OK | |||||||||
| tokay2 | Windows Server 2012 R2 Standard / x64 | OK | OK | OK | OK | |||||||||
| machv2 | macOS 10.14.6 Mojave / x86_64 | OK | OK | OK | OK | |||||||||
| Package: polyester |
| Version: 1.30.0 |
| Command: C:\cygwin\bin\curl.exe -O http://155.52.207.166/BBS/3.14/bioc/src/contrib/polyester_1.30.0.tar.gz && rm -rf polyester.buildbin-libdir && mkdir polyester.buildbin-libdir && C:\Users\biocbuild\bbs-3.14-bioc\R\bin\R.exe CMD INSTALL --merge-multiarch --build --library=polyester.buildbin-libdir polyester_1.30.0.tar.gz && C:\Users\biocbuild\bbs-3.14-bioc\R\bin\R.exe CMD INSTALL polyester_1.30.0.zip && rm polyester_1.30.0.tar.gz polyester_1.30.0.zip |
| StartedAt: 2022-04-12 05:01:11 -0400 (Tue, 12 Apr 2022) |
| EndedAt: 2022-04-12 05:03:33 -0400 (Tue, 12 Apr 2022) |
| EllapsedTime: 142.2 seconds |
| RetCode: 0 |
| Status: OK |
##############################################################################
##############################################################################
###
### Running command:
###
### C:\cygwin\bin\curl.exe -O http://155.52.207.166/BBS/3.14/bioc/src/contrib/polyester_1.30.0.tar.gz && rm -rf polyester.buildbin-libdir && mkdir polyester.buildbin-libdir && C:\Users\biocbuild\bbs-3.14-bioc\R\bin\R.exe CMD INSTALL --merge-multiarch --build --library=polyester.buildbin-libdir polyester_1.30.0.tar.gz && C:\Users\biocbuild\bbs-3.14-bioc\R\bin\R.exe CMD INSTALL polyester_1.30.0.zip && rm polyester_1.30.0.tar.gz polyester_1.30.0.zip
###
##############################################################################
##############################################################################
% Total % Received % Xferd Average Speed Time Time Time Current
Dload Upload Total Spent Left Speed
0 0 0 0 0 0 0 0 --:--:-- --:--:-- --:--:-- 0
11 1879k 11 219k 0 0 727k 0 0:00:02 --:--:-- 0:00:02 728k
100 1879k 100 1879k 0 0 1478k 0 0:00:01 0:00:01 --:--:-- 1478k
install for i386
* installing *source* package 'polyester' ...
** using staged installation
** R
** data
** inst
** byte-compile and prepare package for lazy loading
** help
*** installing help indices
converting help for package 'polyester'
finding HTML links ... done
NB html
add_error html
add_gc_bias html
add_platform_error html
cdnaf html
count_transcripts html
create_read_numbers html
empirical_density html
finding level-2 HTML links ... done
fpkm_to_counts html
generate_fragments html
getAttributeField html
get_params html
get_reads html
gtf_dataframe html
loessfit1 html
loessfit2 html
loessfit3 html
loessfit4 html
loessfit5 html
loessfit6 html
loessfit7 html
model1 html
model2 html
model3 html
model4 html
model5 html
model6 html
model7 html
polyester html
reverse_complement html
rnaf html
seq_gtf html
simulate_experiment html
simulate_experiment_countmat html
simulate_experiment_empirical html
write_reads html
** building package indices
** installing vignettes
** testing if installed package can be loaded from temporary location
** testing if installed package can be loaded from final location
** testing if installed package keeps a record of temporary installation path
install for x64
* installing *source* package 'polyester' ...
** testing if installed package can be loaded
* MD5 sums
packaged installation of 'polyester' as polyester_1.30.0.zip
* DONE (polyester)
* installing to library 'C:/Users/biocbuild/bbs-3.14-bioc/R/library'
package 'polyester' successfully unpacked and MD5 sums checked