| Back to Multiple platform build/check report for BioC 3.14 |
|
This page was generated on 2022-04-13 12:07:05 -0400 (Wed, 13 Apr 2022).
| Hostname | OS | Arch (*) | R version | Installed pkgs |
|---|---|---|---|---|
| nebbiolo2 | Linux (Ubuntu 20.04.4 LTS) | x86_64 | 4.1.3 (2022-03-10) -- "One Push-Up" | 4324 |
| tokay2 | Windows Server 2012 R2 Standard | x64 | 4.1.3 (2022-03-10) -- "One Push-Up" | 4077 |
| machv2 | macOS 10.14.6 Mojave | x86_64 | 4.1.3 (2022-03-10) -- "One Push-Up" | 4137 |
| Click on any hostname to see more info about the system (e.g. compilers) (*) as reported by 'uname -p', except on Windows and Mac OS X | ||||
|
To the developers/maintainers of the pipeFrame package: - Please allow up to 24 hours (and sometimes 48 hours) for your latest push to git@git.bioconductor.org:packages/pipeFrame.git to reflect on this report. See How and When does the builder pull? When will my changes propagate? for more information. - Make sure to use the following settings in order to reproduce any error or warning you see on this page. |
| Package 1423/2083 | Hostname | OS / Arch | INSTALL | BUILD | CHECK | BUILD BIN | ||||||||
| pipeFrame 1.10.0 (landing page) Zheng Wei
| nebbiolo2 | Linux (Ubuntu 20.04.4 LTS) / x86_64 | OK | OK | OK | |||||||||
| tokay2 | Windows Server 2012 R2 Standard / x64 | OK | OK | OK | OK | |||||||||
| machv2 | macOS 10.14.6 Mojave / x86_64 | OK | OK | OK | OK | |||||||||
| Package: pipeFrame |
| Version: 1.10.0 |
| Command: C:\Users\biocbuild\bbs-3.14-bioc\R\bin\R.exe CMD check --force-multiarch --install=check:pipeFrame.install-out.txt --library=C:\Users\biocbuild\bbs-3.14-bioc\R\library --no-vignettes --timings pipeFrame_1.10.0.tar.gz |
| StartedAt: 2022-04-13 00:35:11 -0400 (Wed, 13 Apr 2022) |
| EndedAt: 2022-04-13 00:40:26 -0400 (Wed, 13 Apr 2022) |
| EllapsedTime: 314.5 seconds |
| RetCode: 0 |
| Status: OK |
| CheckDir: pipeFrame.Rcheck |
| Warnings: 0 |
##############################################################################
##############################################################################
###
### Running command:
###
### C:\Users\biocbuild\bbs-3.14-bioc\R\bin\R.exe CMD check --force-multiarch --install=check:pipeFrame.install-out.txt --library=C:\Users\biocbuild\bbs-3.14-bioc\R\library --no-vignettes --timings pipeFrame_1.10.0.tar.gz
###
##############################################################################
##############################################################################
* using log directory 'C:/Users/biocbuild/bbs-3.14-bioc/meat/pipeFrame.Rcheck'
* using R version 4.1.3 (2022-03-10)
* using platform: x86_64-w64-mingw32 (64-bit)
* using session charset: ISO8859-1
* using option '--no-vignettes'
* checking for file 'pipeFrame/DESCRIPTION' ... OK
* checking extension type ... Package
* this is package 'pipeFrame' version '1.10.0'
* package encoding: UTF-8
* checking package namespace information ... OK
* checking package dependencies ... OK
* checking if this is a source package ... OK
* checking if there is a namespace ... OK
* checking for hidden files and directories ... OK
* checking for portable file names ... OK
* checking whether package 'pipeFrame' can be installed ... OK
* checking installed package size ... OK
* checking package directory ... OK
* checking 'build' directory ... OK
* checking DESCRIPTION meta-information ... OK
* checking top-level files ... OK
* checking for left-over files ... OK
* checking index information ... OK
* checking package subdirectories ... OK
* checking R files for non-ASCII characters ... OK
* checking R files for syntax errors ... OK
* loading checks for arch 'i386'
** checking whether the package can be loaded ... OK
** checking whether the package can be loaded with stated dependencies ... OK
** checking whether the package can be unloaded cleanly ... OK
** checking whether the namespace can be loaded with stated dependencies ... OK
** checking whether the namespace can be unloaded cleanly ... OK
* loading checks for arch 'x64'
** checking whether the package can be loaded ... OK
** checking whether the package can be loaded with stated dependencies ... OK
** checking whether the package can be unloaded cleanly ... OK
** checking whether the namespace can be loaded with stated dependencies ... OK
** checking whether the namespace can be unloaded cleanly ... OK
* checking dependencies in R code ... NOTE
Namespace in Imports field not imported from: 'rmarkdown'
All declared Imports should be used.
* checking S3 generic/method consistency ... OK
* checking replacement functions ... OK
* checking foreign function calls ... OK
* checking R code for possible problems ... OK
* checking Rd files ... OK
* checking Rd metadata ... OK
* checking Rd cross-references ... OK
* checking for missing documentation entries ... OK
* checking for code/documentation mismatches ... OK
* checking Rd \usage sections ... OK
* checking Rd contents ... OK
* checking for unstated dependencies in examples ... OK
* checking files in 'vignettes' ... OK
* checking examples ...
** running examples for arch 'i386' ... OK
Examples with CPU (user + system) or elapsed time > 5s
user system elapsed
Step-class 5.75 1.45 7.41
** running examples for arch 'x64' ... OK
Examples with CPU (user + system) or elapsed time > 5s
user system elapsed
Step-class 7.89 0.94 9
* checking for unstated dependencies in 'tests' ... OK
* checking tests ...
** running tests for arch 'i386' ...
Running 'testthat.R'
OK
** running tests for arch 'x64' ...
Running 'testthat.R'
OK
* checking for unstated dependencies in vignettes ... OK
* checking package vignettes in 'inst/doc' ... OK
* checking running R code from vignettes ... SKIPPED
* checking re-building of vignette outputs ... SKIPPED
* checking PDF version of manual ... OK
* DONE
Status: 1 NOTE
See
'C:/Users/biocbuild/bbs-3.14-bioc/meat/pipeFrame.Rcheck/00check.log'
for details.
pipeFrame.Rcheck/00install.out
##############################################################################
##############################################################################
###
### Running command:
###
### C:\cygwin\bin\curl.exe -O http://155.52.207.166/BBS/3.14/bioc/src/contrib/pipeFrame_1.10.0.tar.gz && rm -rf pipeFrame.buildbin-libdir && mkdir pipeFrame.buildbin-libdir && C:\Users\biocbuild\bbs-3.14-bioc\R\bin\R.exe CMD INSTALL --merge-multiarch --build --library=pipeFrame.buildbin-libdir pipeFrame_1.10.0.tar.gz && C:\Users\biocbuild\bbs-3.14-bioc\R\bin\R.exe CMD INSTALL pipeFrame_1.10.0.zip && rm pipeFrame_1.10.0.tar.gz pipeFrame_1.10.0.zip
###
##############################################################################
##############################################################################
% Total % Received % Xferd Average Speed Time Time Time Current
Dload Upload Total Spent Left Speed
0 0 0 0 0 0 0 0 --:--:-- --:--:-- --:--:-- 0
100 387k 100 387k 0 0 527k 0 --:--:-- --:--:-- --:--:-- 528k
install for i386
* installing *source* package 'pipeFrame' ...
** using staged installation
** R
** inst
** byte-compile and prepare package for lazy loading
** help
*** installing help indices
converting help for package 'pipeFrame'
finding HTML links ... done
Step-class html
Utils html
getObjsInPipe html
graphMng html
ignoreCheck html
initPipeFrame html
loadConfig html
loadStep html
runWithFinishCheck html
setGenome html
setJobName html
setPipeName html
setRefDir html
setThreads html
setTmpDir html
** building package indices
** installing vignettes
** testing if installed package can be loaded from temporary location
** testing if installed package can be loaded from final location
** testing if installed package keeps a record of temporary installation path
install for x64
* installing *source* package 'pipeFrame' ...
** testing if installed package can be loaded
* MD5 sums
packaged installation of 'pipeFrame' as pipeFrame_1.10.0.zip
* DONE (pipeFrame)
* installing to library 'C:/Users/biocbuild/bbs-3.14-bioc/R/library'
package 'pipeFrame' successfully unpacked and MD5 sums checked
|
pipeFrame.Rcheck/tests_i386/testthat.Rout
R version 4.1.3 (2022-03-10) -- "One Push-Up"
Copyright (C) 2022 The R Foundation for Statistical Computing
Platform: i386-w64-mingw32/i386 (32-bit)
R is free software and comes with ABSOLUTELY NO WARRANTY.
You are welcome to redistribute it under certain conditions.
Type 'license()' or 'licence()' for distribution details.
R is a collaborative project with many contributors.
Type 'contributors()' for more information and
'citation()' on how to cite R or R packages in publications.
Type 'demo()' for some demos, 'help()' for on-line help, or
'help.start()' for an HTML browser interface to help.
Type 'q()' to quit R.
> library(testthat)
> library(pipeFrame)
>
> test_check("pipeFrame")
[1] "2022-04-13 00:39:52 EDT"
[1] "2022-04-13 00:39:52 EDT"
[1] "2022-04-13 00:39:52 EDT"
[1] "2022-04-13 00:39:52 EDT"
[1] "2022-04-13 00:39:52 EDT"
[1] "2022-04-13 00:39:52 EDT"
[1] "2022-04-13 00:39:53 EDT"
[1] "2022-04-13 00:39:53 EDT"
[1] "2022-04-13 00:39:53 EDT"
[1] "2022-04-13 00:39:53 EDT"
[1] "2022-04-13 00:39:53 EDT"
[1] "2022-04-13 00:39:53 EDT"
[1] "2022-04-13 00:39:53 EDT"
[1] "2022-04-13 00:39:53 EDT"
[1] "2022-04-13 00:39:53 EDT"
[1] "2022-04-13 00:39:53 EDT"
[1] "2022-04-13 00:39:53 EDT"
[1] "2022-04-13 00:39:53 EDT"
[1] "2022-04-13 00:39:53 EDT"
[1] "2022-04-13 00:39:53 EDT"
[1] "2022-04-13 00:39:53 EDT"
[1] "2022-04-13 00:39:53 EDT"
[1] "2022-04-13 00:39:53 EDT"
[1] "2022-04-13 00:39:53 EDT"
[1] "2022-04-13 00:39:53 EDT"
[1] "2022-04-13 00:39:53 EDT"
[1] "2022-04-13 00:39:53 EDT"
[1] "2022-04-13 00:39:53 EDT"
[1] "2022-04-13 00:39:53 EDT"
[1] "2022-04-13 00:39:53 EDT"
[1] "C:\\Users\\biocbuild\\bbs-3.14-bioc\\meat\\pipeFrame.Rcheck\\tests_i386\\testthat\\testJobName\\Step_01_pipe_OverlappedRandomRegion\\test.bed"
[1] "2022-04-13 00:39:54 EDT"
[1] "2022-04-13 00:39:54 EDT"
[1] "2022-04-13 00:39:54 EDT"
[1] "2022-04-13 00:39:54 EDT"
[1] "2022-04-13 00:39:54 EDT"
[1] "2022-04-13 00:39:54 EDT"
[1] "2022-04-13 00:39:54 EDT"
[1] "2022-04-13 00:39:54 EDT"
[1] "2022-04-13 00:39:54 EDT"
[1] "2022-04-13 00:39:54 EDT"
[1] "2022-04-13 00:39:54 EDT"
[1] "2022-04-13 00:39:54 EDT"
[1] "C:\\Users\\biocbuild\\bbs-3.14-bioc\\meat\\pipeFrame.Rcheck\\tests_i386\\testthat\\testJobName\\Step_00_pipe_RandomRegionOnGenome\\random.bed"
[1] "2022-04-13 00:39:54 EDT"
[1] "2022-04-13 00:39:54 EDT"
[1] "C:\\Users\\biocbuild\\bbs-3.14-bioc\\meat\\pipeFrame.Rcheck\\tests_i386\\testthat\\testJobName\\Step_01_pipe_OverlappedRandomRegion\\test.bed"
[1] "2022-04-13 00:39:56 EDT"
[1] "2022-04-13 00:39:56 EDT"
[1] "2022-04-13 00:39:56 EDT"
[1] "2022-04-13 00:39:56 EDT"
[1] "2022-04-13 00:39:56 EDT"
[1] "2022-04-13 00:39:56 EDT"
[1] "2022-04-13 00:39:56 EDT"
[1] "2022-04-13 00:39:56 EDT"
[1] "2022-04-13 00:39:56 EDT"
[1] "2022-04-13 00:39:56 EDT"
[1] "2022-04-13 00:39:56 EDT"
[1] "2022-04-13 00:39:56 EDT"
[1] "2022-04-13 00:39:56 EDT"
[1] "2022-04-13 00:39:56 EDT"
[ FAIL 0 | WARN 46 | SKIP 0 | PASS 29 ]
[ FAIL 0 | WARN 46 | SKIP 0 | PASS 29 ]
>
> proc.time()
user system elapsed
17.03 2.73 19.92
|
pipeFrame.Rcheck/tests_x64/testthat.Rout
R version 4.1.3 (2022-03-10) -- "One Push-Up"
Copyright (C) 2022 The R Foundation for Statistical Computing
Platform: x86_64-w64-mingw32/x64 (64-bit)
R is free software and comes with ABSOLUTELY NO WARRANTY.
You are welcome to redistribute it under certain conditions.
Type 'license()' or 'licence()' for distribution details.
R is a collaborative project with many contributors.
Type 'contributors()' for more information and
'citation()' on how to cite R or R packages in publications.
Type 'demo()' for some demos, 'help()' for on-line help, or
'help.start()' for an HTML browser interface to help.
Type 'q()' to quit R.
> library(testthat)
> library(pipeFrame)
>
> test_check("pipeFrame")
[1] "2022-04-13 00:40:14 EDT"
[1] "2022-04-13 00:40:14 EDT"
[1] "2022-04-13 00:40:14 EDT"
[1] "2022-04-13 00:40:14 EDT"
[1] "2022-04-13 00:40:14 EDT"
[1] "2022-04-13 00:40:14 EDT"
[1] "2022-04-13 00:40:14 EDT"
[1] "2022-04-13 00:40:14 EDT"
[1] "2022-04-13 00:40:14 EDT"
[1] "2022-04-13 00:40:14 EDT"
[1] "2022-04-13 00:40:14 EDT"
[1] "2022-04-13 00:40:14 EDT"
[1] "2022-04-13 00:40:14 EDT"
[1] "2022-04-13 00:40:14 EDT"
[1] "2022-04-13 00:40:14 EDT"
[1] "2022-04-13 00:40:14 EDT"
[1] "2022-04-13 00:40:14 EDT"
[1] "2022-04-13 00:40:14 EDT"
[1] "2022-04-13 00:40:15 EDT"
[1] "2022-04-13 00:40:15 EDT"
[1] "2022-04-13 00:40:15 EDT"
[1] "2022-04-13 00:40:15 EDT"
[1] "2022-04-13 00:40:15 EDT"
[1] "2022-04-13 00:40:15 EDT"
[1] "2022-04-13 00:40:15 EDT"
[1] "2022-04-13 00:40:15 EDT"
[1] "2022-04-13 00:40:15 EDT"
[1] "2022-04-13 00:40:15 EDT"
[1] "2022-04-13 00:40:15 EDT"
[1] "2022-04-13 00:40:15 EDT"
[1] "C:\\Users\\biocbuild\\bbs-3.14-bioc\\meat\\pipeFrame.Rcheck\\tests_x64\\testthat\\testJobName\\Step_01_pipe_OverlappedRandomRegion\\test.bed"
[1] "2022-04-13 00:40:15 EDT"
[1] "2022-04-13 00:40:15 EDT"
[1] "2022-04-13 00:40:15 EDT"
[1] "2022-04-13 00:40:15 EDT"
[1] "2022-04-13 00:40:15 EDT"
[1] "2022-04-13 00:40:15 EDT"
[1] "2022-04-13 00:40:15 EDT"
[1] "2022-04-13 00:40:15 EDT"
[1] "2022-04-13 00:40:15 EDT"
[1] "2022-04-13 00:40:15 EDT"
[1] "2022-04-13 00:40:15 EDT"
[1] "2022-04-13 00:40:15 EDT"
[1] "C:\\Users\\biocbuild\\bbs-3.14-bioc\\meat\\pipeFrame.Rcheck\\tests_x64\\testthat\\testJobName\\Step_00_pipe_RandomRegionOnGenome\\random.bed"
[1] "2022-04-13 00:40:15 EDT"
[1] "2022-04-13 00:40:15 EDT"
[1] "C:\\Users\\biocbuild\\bbs-3.14-bioc\\meat\\pipeFrame.Rcheck\\tests_x64\\testthat\\testJobName\\Step_01_pipe_OverlappedRandomRegion\\test.bed"
[1] "2022-04-13 00:40:17 EDT"
[1] "2022-04-13 00:40:17 EDT"
[1] "2022-04-13 00:40:17 EDT"
[1] "2022-04-13 00:40:17 EDT"
[1] "2022-04-13 00:40:17 EDT"
[1] "2022-04-13 00:40:17 EDT"
[1] "2022-04-13 00:40:17 EDT"
[1] "2022-04-13 00:40:17 EDT"
[1] "2022-04-13 00:40:17 EDT"
[1] "2022-04-13 00:40:17 EDT"
[1] "2022-04-13 00:40:17 EDT"
[1] "2022-04-13 00:40:17 EDT"
[1] "2022-04-13 00:40:17 EDT"
[1] "2022-04-13 00:40:17 EDT"
[ FAIL 0 | WARN 46 | SKIP 0 | PASS 29 ]
[ FAIL 0 | WARN 46 | SKIP 0 | PASS 29 ]
>
> proc.time()
user system elapsed
19.23 1.42 20.81
|
|
pipeFrame.Rcheck/examples_i386/pipeFrame-Ex.timings
|
pipeFrame.Rcheck/examples_x64/pipeFrame-Ex.timings
|