| Back to Multiple platform build/check report for BioC 3.14 |
|
This page was generated on 2022-04-13 12:07:04 -0400 (Wed, 13 Apr 2022).
| Hostname | OS | Arch (*) | R version | Installed pkgs |
|---|---|---|---|---|
| nebbiolo2 | Linux (Ubuntu 20.04.4 LTS) | x86_64 | 4.1.3 (2022-03-10) -- "One Push-Up" | 4324 |
| tokay2 | Windows Server 2012 R2 Standard | x64 | 4.1.3 (2022-03-10) -- "One Push-Up" | 4077 |
| machv2 | macOS 10.14.6 Mojave | x86_64 | 4.1.3 (2022-03-10) -- "One Push-Up" | 4137 |
| Click on any hostname to see more info about the system (e.g. compilers) (*) as reported by 'uname -p', except on Windows and Mac OS X | ||||
|
To the developers/maintainers of the phemd package: - Please allow up to 24 hours (and sometimes 48 hours) for your latest push to git@git.bioconductor.org:packages/phemd.git to reflect on this report. See How and When does the builder pull? When will my changes propagate? for more information. - Make sure to use the following settings in order to reproduce any error or warning you see on this page. |
| Package 1405/2083 | Hostname | OS / Arch | INSTALL | BUILD | CHECK | BUILD BIN | ||||||||
| phemd 1.10.0 (landing page) William S Chen
| nebbiolo2 | Linux (Ubuntu 20.04.4 LTS) / x86_64 | OK | OK | OK | |||||||||
| tokay2 | Windows Server 2012 R2 Standard / x64 | OK | OK | OK | OK | |||||||||
| machv2 | macOS 10.14.6 Mojave / x86_64 | OK | OK | OK | OK | |||||||||
| Package: phemd |
| Version: 1.10.0 |
| Command: rm -rf phemd.buildbin-libdir && mkdir phemd.buildbin-libdir && C:\Users\biocbuild\bbs-3.14-bioc\R\bin\R.exe CMD INSTALL --merge-multiarch --build --library=phemd.buildbin-libdir phemd_1.10.0.tar.gz |
| StartedAt: 2022-04-13 06:48:11 -0400 (Wed, 13 Apr 2022) |
| EndedAt: 2022-04-13 06:49:21 -0400 (Wed, 13 Apr 2022) |
| EllapsedTime: 69.9 seconds |
| RetCode: 0 |
| Status: OK |
| PackageFile: phemd_1.10.0.zip |
| PackageFileSize: 1.149 MiB |
##############################################################################
##############################################################################
###
### Running command:
###
### rm -rf phemd.buildbin-libdir && mkdir phemd.buildbin-libdir && C:\Users\biocbuild\bbs-3.14-bioc\R\bin\R.exe CMD INSTALL --merge-multiarch --build --library=phemd.buildbin-libdir phemd_1.10.0.tar.gz
###
##############################################################################
##############################################################################
install for i386
* installing *source* package 'phemd' ...
** using staged installation
** R
** data
*** moving datasets to lazyload DB
** inst
** byte-compile and prepare package for lazy loading
** help
*** installing help indices
converting help for package 'phemd'
finding HTML links ... done
GDM html
Phemd-methods html
Phemd html
aggregateSamples html
all_expn_data html
all_genes html
assignCellClusterNearestNode html
batchIDs html
bindSeuratObj html
celltypeFreqs html
clusterIndividualSamples html
compareSamples html
createDataObj html
drawColnames45 html
embedCells html
gaussianffLocal html
generateGDM html
getArithmeticCentroids html
getCellYield html
getSampleCelltypeFreqs html
getSampleHistsByCluster html
getSampleSizes html
groupSamples html
heatmap_genes html
identifyCentroids html
monocleInfo html
orderCellsMonocle html
phateInfo html
plotCellYield html
plotEmbeddings html
plotGroupedSamplesDmap html
plotHeatmaps html
plotSummaryHistograms html
pooledCells html
printClusterAssignments html
rawExpn html
removeTinySamples html
retrieveRefClusters html
sNames html
selectFeatures html
selectMarkers html
selected_genes html
seuratInfo html
snames_data html
subsampledBool html
subsampledIdx html
** building package indices
** installing vignettes
** testing if installed package can be loaded from temporary location
** testing if installed package can be loaded from final location
** testing if installed package keeps a record of temporary installation path
install for x64
* installing *source* package 'phemd' ...
** testing if installed package can be loaded
* MD5 sums
packaged installation of 'phemd' as phemd_1.10.0.zip
* DONE (phemd)