| Back to Multiple platform build/check report for BioC 3.14 |
|
This page was generated on 2022-04-13 12:08:31 -0400 (Wed, 13 Apr 2022).
| Hostname | OS | Arch (*) | R version | Installed pkgs |
|---|---|---|---|---|
| nebbiolo2 | Linux (Ubuntu 20.04.4 LTS) | x86_64 | 4.1.3 (2022-03-10) -- "One Push-Up" | 4324 |
| tokay2 | Windows Server 2012 R2 Standard | x64 | 4.1.3 (2022-03-10) -- "One Push-Up" | 4077 |
| machv2 | macOS 10.14.6 Mojave | x86_64 | 4.1.3 (2022-03-10) -- "One Push-Up" | 4137 |
| Click on any hostname to see more info about the system (e.g. compilers) (*) as reported by 'uname -p', except on Windows and Mac OS X | ||||
|
To the developers/maintainers of the phantasus package: - Please allow up to 24 hours (and sometimes 48 hours) for your latest push to git@git.bioconductor.org:packages/phantasus.git to reflect on this report. See How and When does the builder pull? When will my changes propagate? for more information. - Make sure to use the following settings in order to reproduce any error or warning you see on this page. |
| Package 1403/2083 | Hostname | OS / Arch | INSTALL | BUILD | CHECK | BUILD BIN | ||||||||
| phantasus 1.14.0 (landing page) Alexey Sergushichev
| nebbiolo2 | Linux (Ubuntu 20.04.4 LTS) / x86_64 | OK | OK | OK | |||||||||
| tokay2 | Windows Server 2012 R2 Standard / x64 | OK | OK | OK | OK | |||||||||
| machv2 | macOS 10.14.6 Mojave / x86_64 | OK | OK | OK | OK | |||||||||
| Package: phantasus |
| Version: 1.14.0 |
| Command: /Library/Frameworks/R.framework/Resources/bin/R CMD check --install=check:phantasus.install-out.txt --library=/Library/Frameworks/R.framework/Resources/library --no-vignettes --timings phantasus_1.14.0.tar.gz |
| StartedAt: 2022-04-12 16:40:59 -0400 (Tue, 12 Apr 2022) |
| EndedAt: 2022-04-12 16:47:48 -0400 (Tue, 12 Apr 2022) |
| EllapsedTime: 409.8 seconds |
| RetCode: 0 |
| Status: OK |
| CheckDir: phantasus.Rcheck |
| Warnings: 0 |
##############################################################################
##############################################################################
###
### Running command:
###
### /Library/Frameworks/R.framework/Resources/bin/R CMD check --install=check:phantasus.install-out.txt --library=/Library/Frameworks/R.framework/Resources/library --no-vignettes --timings phantasus_1.14.0.tar.gz
###
##############################################################################
##############################################################################
* using log directory ‘/Users/biocbuild/bbs-3.14-bioc/meat/phantasus.Rcheck’
* using R version 4.1.3 (2022-03-10)
* using platform: x86_64-apple-darwin17.0 (64-bit)
* using session charset: UTF-8
* using option ‘--no-vignettes’
* checking for file ‘phantasus/DESCRIPTION’ ... OK
* this is package ‘phantasus’ version ‘1.14.0’
* package encoding: UTF-8
* checking package namespace information ... OK
* checking package dependencies ... OK
* checking if this is a source package ... OK
* checking if there is a namespace ... OK
* checking for hidden files and directories ... OK
* checking for portable file names ... OK
* checking for sufficient/correct file permissions ... OK
* checking whether package ‘phantasus’ can be installed ... OK
* checking installed package size ... NOTE
installed size is 28.0Mb
sub-directories of 1Mb or more:
testdata 4.3Mb
www 23.3Mb
* checking package directory ... OK
* checking DESCRIPTION meta-information ... OK
* checking top-level files ... OK
* checking for left-over files ... OK
* checking index information ... OK
* checking package subdirectories ... OK
* checking R files for non-ASCII characters ... OK
* checking R files for syntax errors ... OK
* checking whether the package can be loaded ... OK
* checking whether the package can be loaded with stated dependencies ... OK
* checking whether the package can be unloaded cleanly ... OK
* checking whether the namespace can be loaded with stated dependencies ... OK
* checking whether the namespace can be unloaded cleanly ... OK
* checking dependencies in R code ... NOTE
Unexported objects imported by ':::' calls:
'GEOquery:::getDirListing' 'opencpu:::rookhandler'
'opencpu:::tmp_root' 'opencpu:::win_or_mac'
See the note in ?`:::` about the use of this operator.
* checking S3 generic/method consistency ... OK
* checking replacement functions ... OK
* checking foreign function calls ... OK
* checking R code for possible problems ... NOTE
generatePreloadedSession: no visible binding for global variable 'es'
generatePreloadedSession: no visible binding for global variable
'heatmapJson'
loadSession: no visible binding for global variable 'es'
reproduceInR: no visible global function definition for 'object.size'
safeDownload: no visible binding for global variable 'tempDestFile'
Undefined global functions or variables:
es heatmapJson object.size tempDestFile
Consider adding
importFrom("utils", "object.size")
to your NAMESPACE file.
* checking Rd files ... NOTE
prepare_Rd: convertByAnnotationDB.Rd:27-32: Dropping empty section \examples
* checking Rd metadata ... OK
* checking Rd cross-references ... OK
* checking for missing documentation entries ... OK
* checking for code/documentation mismatches ... OK
* checking Rd \usage sections ... OK
* checking Rd contents ... OK
* checking for unstated dependencies in examples ... OK
* checking contents of ‘data’ directory ... OK
* checking data for non-ASCII characters ... OK
* checking LazyData ... OK
* checking data for ASCII and uncompressed saves ... OK
* checking files in ‘vignettes’ ... OK
* checking examples ... OK
Examples with CPU (user + system) or elapsed time > 5s
user system elapsed
getGSE 6.1 2.461 11.182
* checking for unstated dependencies in ‘tests’ ... OK
* checking tests ...
Running ‘testthat.R’
OK
* checking for unstated dependencies in vignettes ... OK
* checking package vignettes in ‘inst/doc’ ... OK
* checking running R code from vignettes ... SKIPPED
* checking re-building of vignette outputs ... SKIPPED
* checking PDF version of manual ... OK
* DONE
Status: 4 NOTEs
See
‘/Users/biocbuild/bbs-3.14-bioc/meat/phantasus.Rcheck/00check.log’
for details.
phantasus.Rcheck/00install.out
############################################################################## ############################################################################## ### ### Running command: ### ### /Library/Frameworks/R.framework/Resources/bin/R CMD INSTALL phantasus ### ############################################################################## ############################################################################## * installing to library ‘/Library/Frameworks/R.framework/Versions/4.1/Resources/library’ * installing *source* package ‘phantasus’ ... ** using staged installation ** R ** data *** moving datasets to lazyload DB ** inst ** byte-compile and prepare package for lazy loading ** help *** installing help indices ** building package indices ** installing vignettes ** testing if installed package can be loaded from temporary location ** testing if installed package can be loaded from final location ** testing if installed package keeps a record of temporary installation path * DONE (phantasus)
phantasus.Rcheck/tests/testthat.Rout
R version 4.1.3 (2022-03-10) -- "One Push-Up"
Copyright (C) 2022 The R Foundation for Statistical Computing
Platform: x86_64-apple-darwin17.0 (64-bit)
R is free software and comes with ABSOLUTELY NO WARRANTY.
You are welcome to redistribute it under certain conditions.
Type 'license()' or 'licence()' for distribution details.
R is a collaborative project with many contributors.
Type 'contributors()' for more information and
'citation()' on how to cite R or R packages in publications.
Type 'demo()' for some demos, 'help()' for on-line help, or
'help.start()' for an HTML browser interface to help.
Type 'q()' to quit R.
> library(testthat)
> library(phantasus)
Setting options('download.file.method.GEOquery'='auto')
Setting options('GEOquery.inmemory.gpl'=FALSE)
Loading config from /Library/Frameworks/R.framework/Versions/4.1/Resources/library/opencpu/config/defaults.conf
Loading config from /Users/biocbuild/Library/Preferences/org.R-project.R/R/opencpu/user.conf
>
> test_check("phantasus")
trying URL 'https://ftp.ncbi.nlm.nih.gov/geo/series/GSE53nnn/GSE53986/matrix/GSE53986_series_matrix.txt.gz'
Content type 'application/x-gzip' length 2848655 bytes (2.7 MB)
==================================================
downloaded 2.7 MB
trying URL 'https://ftp.ncbi.nlm.nih.gov/geo/platforms/GPL1nnn/GPL1261/annot/GPL1261.annot.gz'
Content type 'application/x-gzip' length 8389179 bytes (8.0 MB)
==================================================
downloaded 8.0 MB
trying URL 'https://genome.ifmo.ru/files/software/phantasus/geo/series/GSE27nnn/GSE27112/matrix/GSE27112_series_matrix.txt.gz'
trying URL 'https://genome.ifmo.ru/files/software/phantasus/geo/series/GSE27nnn/GSE27112/matrix/GSE27112-GPL6103_series_matrix.txt.gz'
Content type 'application/x-gzip' length 596707 bytes (582 KB)
==================================================
downloaded 582 KB
trying URL 'https://ftp.ncbi.nlm.nih.gov/geo/platforms/GPL6nnn/GPL6103/annot/GPL6103.annot.gz'
Content type 'application/x-gzip' length 4652589 bytes (4.4 MB)
==================================================
downloaded 4.4 MB
trying URL 'https://genome.ifmo.ru/files/software/phantasus/geo/series/GSE27nnn/GSE27112/matrix/GSE27112-GPL6885_series_matrix.txt.gz'
Content type 'application/x-gzip' length 1273889 bytes (1.2 MB)
==================================================
downloaded 1.2 MB
trying URL 'https://ftp.ncbi.nlm.nih.gov/geo/platforms/GPL6nnn/GPL6885/annot/GPL6885.annot.gz'
Content type 'application/x-gzip' length 4938348 bytes (4.7 MB)
==================================================
downloaded 4.7 MB
trying URL 'https://genome.ifmo.ru/files/software/phantasus/geo/series/GSE14nnn/GSE14308/matrix/GSE14308_series_matrix.txt.gz'
Content type 'application/x-gzip' length 1807552 bytes (1.7 MB)
==================================================
downloaded 1.7 MB
trying URL 'https://genome.ifmo.ru/files/software/phantasus/geo/datasets/GDS4nnn/GDS4885/soft/GDS4885.soft.gz'
Content type 'application/x-gzip' length 1250109 bytes (1.2 MB)
==================================================
downloaded 1.2 MB
trying URL 'https://ftp.ncbi.nlm.nih.gov/geo/series/GSE27nnn/GSE27112/matrix/GSE27112_series_matrix.txt.gz'
trying URL 'https://www.ncbi.nlm.nih.gov/geo/query/acc.cgi?targ=self&acc=GPL17021&form=text&view=quick'
downloaded 8.2 MB
[ FAIL 0 | WARN 6 | SKIP 0 | PASS 95 ]
[ FAIL 0 | WARN 6 | SKIP 0 | PASS 95 ]
>
> proc.time()
user system elapsed
94.471 23.942 161.290
phantasus.Rcheck/phantasus-Ex.timings
| name | user | system | elapsed | |
| adjustDataset | 0 | 0 | 0 | |
| annotationDBMeta | 0.000 | 0.000 | 0.001 | |
| calcPCA | 0.000 | 0.001 | 0.001 | |
| checkGPLsFallback | 0.000 | 0.000 | 0.001 | |
| collapseDataset | 0 | 0 | 0 | |
| createES | 0 | 0 | 0 | |
| es | 0 | 0 | 0 | |
| generatePreloadedSession | 0.748 | 0.047 | 2.621 | |
| getES | 2.017 | 0.604 | 3.671 | |
| getGDS | 0.569 | 0.582 | 1.157 | |
| getGSE | 6.100 | 2.461 | 11.182 | |
| limmaAnalysis | 0 | 0 | 0 | |
| loadGEO | 0 | 0 | 0 | |
| performKmeans | 0.001 | 0.000 | 0.000 | |
| queryAnnotationDBMeta | 0.001 | 0.001 | 0.000 | |
| read.gct | 0.048 | 0.002 | 0.050 | |
| reparseCachedESs | 0.793 | 0.565 | 1.380 | |
| reproduceInR | 0.000 | 0.001 | 0.000 | |
| servePhantasus | 0 | 0 | 0 | |
| write.gct | 0.047 | 0.002 | 0.049 | |