| Back to Multiple platform build/check report for BioC 3.14 | 
 | 
This page was generated on 2022-04-13 12:07:03 -0400 (Wed, 13 Apr 2022).
| Hostname | OS | Arch (*) | R version | Installed pkgs | 
|---|---|---|---|---|
| nebbiolo2 | Linux (Ubuntu 20.04.4 LTS) | x86_64 | 4.1.3 (2022-03-10) -- "One Push-Up" | 4324 | 
| tokay2 | Windows Server 2012 R2 Standard | x64 | 4.1.3 (2022-03-10) -- "One Push-Up" | 4077 | 
| machv2 | macOS 10.14.6 Mojave | x86_64 | 4.1.3 (2022-03-10) -- "One Push-Up" | 4137 | 
| Click on any hostname to see more info about the system (e.g. compilers) (*) as reported by 'uname -p', except on Windows and Mac OS X | ||||
| To the developers/maintainers of the pandaR package: - Please allow up to 24 hours (and sometimes 48 hours) for your latest push to git@git.bioconductor.org:packages/pandaR.git to reflect on this report. See How and When does the builder pull? When will my changes propagate? for more information. - Make sure to use the following settings in order to reproduce any error or warning you see on this page. | 
| Package 1366/2083 | Hostname | OS / Arch | INSTALL | BUILD | CHECK | BUILD BIN | ||||||||
| pandaR 1.26.0  (landing page) Joseph N. Paulson 
 | nebbiolo2 | Linux (Ubuntu 20.04.4 LTS) / x86_64 | OK | OK | WARNINGS |  | ||||||||
| tokay2 | Windows Server 2012 R2 Standard / x64 | OK | OK | WARNINGS | OK |  | ||||||||
| machv2 | macOS 10.14.6 Mojave / x86_64 | OK | OK | WARNINGS | OK |  | ||||||||
| Package: pandaR | 
| Version: 1.26.0 | 
| Command: C:\cygwin\bin\curl.exe -O http://155.52.207.166/BBS/3.14/bioc/src/contrib/pandaR_1.26.0.tar.gz && rm -rf pandaR.buildbin-libdir && mkdir pandaR.buildbin-libdir && C:\Users\biocbuild\bbs-3.14-bioc\R\bin\R.exe CMD INSTALL --merge-multiarch --build --library=pandaR.buildbin-libdir pandaR_1.26.0.tar.gz && C:\Users\biocbuild\bbs-3.14-bioc\R\bin\R.exe CMD INSTALL pandaR_1.26.0.zip && rm pandaR_1.26.0.tar.gz pandaR_1.26.0.zip | 
| StartedAt: 2022-04-12 04:49:04 -0400 (Tue, 12 Apr 2022) | 
| EndedAt: 2022-04-12 04:50:20 -0400 (Tue, 12 Apr 2022) | 
| EllapsedTime: 76.0 seconds | 
| RetCode: 0 | 
| Status: OK | 
##############################################################################
##############################################################################
###
### Running command:
###
###   C:\cygwin\bin\curl.exe -O http://155.52.207.166/BBS/3.14/bioc/src/contrib/pandaR_1.26.0.tar.gz && rm -rf pandaR.buildbin-libdir && mkdir pandaR.buildbin-libdir && C:\Users\biocbuild\bbs-3.14-bioc\R\bin\R.exe CMD INSTALL --merge-multiarch --build --library=pandaR.buildbin-libdir pandaR_1.26.0.tar.gz && C:\Users\biocbuild\bbs-3.14-bioc\R\bin\R.exe CMD INSTALL pandaR_1.26.0.zip && rm pandaR_1.26.0.tar.gz pandaR_1.26.0.zip
###
##############################################################################
##############################################################################
  % Total    % Received % Xferd  Average Speed   Time    Time     Time  Current
                                 Dload  Upload   Total   Spent    Left  Speed
  0     0    0     0    0     0      0      0 --:--:-- --:--:-- --:--:--     0
 12 8846k   12 1123k    0     0  1367k      0  0:00:06 --:--:--  0:00:06 1367k
 39 8846k   39 3490k    0     0  1917k      0  0:00:04  0:00:01  0:00:03 1918k
 76 8846k   76 6756k    0     0  2422k      0  0:00:03  0:00:02  0:00:01 2421k
100 8846k  100 8846k    0     0  2649k      0  0:00:03  0:00:03 --:--:-- 2650k
install for i386
* installing *source* package 'pandaR' ...
** using staged installation
** R
** data
*** moving datasets to lazyload DB
** inst
** byte-compile and prepare package for lazy loading
** help
*** installing help indices
  converting help for package 'pandaR'
    finding HTML links ... done
    calcDegree                              html  
    calcDegreeDifference                    html  
    importPandaMatlab                       html  
    multiplot                               html  
    panda                                   html  
    pandaR                                  html  
    pandaResult                             html  
    pandaResultPairs                        html  
    pandaToyData                            html  
    plotCommunityDetection                  html  
    plotGraph                               html  
    plotZ                                   html  
    plotZbyTF                               html  
    print.panda                             html  
    subnetwork                              html  
    summary.panda                           html  
    targetedGenes                           html  
    testMotif                               html  
    topedges                                html  
** building package indices
** installing vignettes
** testing if installed package can be loaded from temporary location
** testing if installed package can be loaded from final location
** testing if installed package keeps a record of temporary installation path
install for x64
* installing *source* package 'pandaR' ...
** testing if installed package can be loaded
* MD5 sums
packaged installation of 'pandaR' as pandaR_1.26.0.zip
* DONE (pandaR)
* installing to library 'C:/Users/biocbuild/bbs-3.14-bioc/R/library'
package 'pandaR' successfully unpacked and MD5 sums checked