| Back to Multiple platform build/check report for BioC 3.14 |
|
This page was generated on 2022-04-13 12:07:02 -0400 (Wed, 13 Apr 2022).
| Hostname | OS | Arch (*) | R version | Installed pkgs |
|---|---|---|---|---|
| nebbiolo2 | Linux (Ubuntu 20.04.4 LTS) | x86_64 | 4.1.3 (2022-03-10) -- "One Push-Up" | 4324 |
| tokay2 | Windows Server 2012 R2 Standard | x64 | 4.1.3 (2022-03-10) -- "One Push-Up" | 4077 |
| machv2 | macOS 10.14.6 Mojave | x86_64 | 4.1.3 (2022-03-10) -- "One Push-Up" | 4137 |
| Click on any hostname to see more info about the system (e.g. compilers) (*) as reported by 'uname -p', except on Windows and Mac OS X | ||||
|
To the developers/maintainers of the optimalFlow package: - Please allow up to 24 hours (and sometimes 48 hours) for your latest push to git@git.bioconductor.org:packages/optimalFlow.git to reflect on this report. See How and When does the builder pull? When will my changes propagate? for more information. - Make sure to use the following settings in order to reproduce any error or warning you see on this page. |
| Package 1345/2083 | Hostname | OS / Arch | INSTALL | BUILD | CHECK | BUILD BIN | ||||||||
| optimalFlow 1.6.0 (landing page) Hristo Inouzhe
| nebbiolo2 | Linux (Ubuntu 20.04.4 LTS) / x86_64 | OK | OK | OK | |||||||||
| tokay2 | Windows Server 2012 R2 Standard / x64 | OK | OK | OK | OK | |||||||||
| machv2 | macOS 10.14.6 Mojave / x86_64 | OK | OK | OK | OK | |||||||||
| Package: optimalFlow |
| Version: 1.6.0 |
| Command: C:\Users\biocbuild\bbs-3.14-bioc\R\bin\R.exe CMD check --force-multiarch --install=check:optimalFlow.install-out.txt --library=C:\Users\biocbuild\bbs-3.14-bioc\R\library --no-vignettes --timings optimalFlow_1.6.0.tar.gz |
| StartedAt: 2022-04-13 00:03:16 -0400 (Wed, 13 Apr 2022) |
| EndedAt: 2022-04-13 00:18:05 -0400 (Wed, 13 Apr 2022) |
| EllapsedTime: 889.1 seconds |
| RetCode: 0 |
| Status: OK |
| CheckDir: optimalFlow.Rcheck |
| Warnings: 0 |
##############################################################################
##############################################################################
###
### Running command:
###
### C:\Users\biocbuild\bbs-3.14-bioc\R\bin\R.exe CMD check --force-multiarch --install=check:optimalFlow.install-out.txt --library=C:\Users\biocbuild\bbs-3.14-bioc\R\library --no-vignettes --timings optimalFlow_1.6.0.tar.gz
###
##############################################################################
##############################################################################
* using log directory 'C:/Users/biocbuild/bbs-3.14-bioc/meat/optimalFlow.Rcheck'
* using R version 4.1.3 (2022-03-10)
* using platform: x86_64-w64-mingw32 (64-bit)
* using session charset: ISO8859-1
* using option '--no-vignettes'
* checking for file 'optimalFlow/DESCRIPTION' ... OK
* checking extension type ... Package
* this is package 'optimalFlow' version '1.6.0'
* package encoding: UTF-8
* checking package namespace information ... OK
* checking package dependencies ... OK
* checking if this is a source package ... OK
* checking if there is a namespace ... OK
* checking for hidden files and directories ... OK
* checking for portable file names ... OK
* checking whether package 'optimalFlow' can be installed ... OK
* checking installed package size ... OK
* checking package directory ... OK
* checking 'build' directory ... OK
* checking DESCRIPTION meta-information ... OK
* checking top-level files ... OK
* checking for left-over files ... OK
* checking index information ... OK
* checking package subdirectories ... OK
* checking R files for non-ASCII characters ... OK
* checking R files for syntax errors ... OK
* loading checks for arch 'i386'
** checking whether the package can be loaded ... OK
** checking whether the package can be loaded with stated dependencies ... OK
** checking whether the package can be unloaded cleanly ... OK
** checking whether the namespace can be loaded with stated dependencies ... OK
** checking whether the namespace can be unloaded cleanly ... OK
* loading checks for arch 'x64'
** checking whether the package can be loaded ... OK
** checking whether the package can be loaded with stated dependencies ... OK
** checking whether the package can be unloaded cleanly ... OK
** checking whether the namespace can be loaded with stated dependencies ... OK
** checking whether the namespace can be unloaded cleanly ... OK
* checking dependencies in R code ... NOTE
There are ::: calls to the package's namespace in its code. A package
almost never needs to use ::: for its own objects:
'GaussianBarycenters' 'distGaussianCov' 'distGaussianMean'
'wassersteinKBarycenter'
* checking S3 generic/method consistency ... OK
* checking replacement functions ... OK
* checking foreign function calls ... OK
* checking R code for possible problems ... NOTE
voteLabelTransfer: no visible binding for global variable 'cell'
voteLabelTransfer: no visible binding for global variable
'compound.proportion'
voteLabelTransfer: no visible binding for global variable
'vote.proportion'
voteTransformation : <anonymous>: no visible binding for global
variable 'cell'
voteTransformation : <anonymous>: no visible binding for global
variable 'simple.proportion'
voteTransformation : <anonymous>: no visible binding for global
variable 'compound.proportion'
Undefined global functions or variables:
cell compound.proportion simple.proportion vote.proportion
* checking Rd files ... OK
* checking Rd metadata ... OK
* checking Rd cross-references ... OK
* checking for missing documentation entries ... OK
* checking for code/documentation mismatches ... OK
* checking Rd \usage sections ... OK
* checking Rd contents ... OK
* checking for unstated dependencies in examples ... OK
* checking files in 'vignettes' ... OK
* checking examples ...
** running examples for arch 'i386' ... OK
Examples with CPU (user + system) or elapsed time > 5s
user system elapsed
cytoPlot 2.47 0.42 44.91
cytoPlotDatabase 1.33 0.06 35.74
f1ScoreVoting 0.84 0.06 51.11
optimalFlowClassification 0.79 0.05 52.67
cytoPlotDatabase3d 0.66 0.05 34.14
cytoPlot3d 0.62 0.07 34.17
wasserCostFunction 0.50 0.06 53.75
optimalFlowTemplates 0.47 0.02 36.51
** running examples for arch 'x64' ... OK
Examples with CPU (user + system) or elapsed time > 5s
user system elapsed
cytoPlot 2.53 0.20 70.44
f1ScoreVoting 1.10 0.06 54.96
cytoPlot3d 1.04 0.05 36.03
optimalFlowClassification 0.71 0.03 62.30
optimalFlowTemplates 0.69 0.02 36.20
cytoPlotDatabase3d 0.63 0.04 48.52
cytoPlotDatabase 0.61 0.06 36.01
wasserCostFunction 0.51 0.02 47.80
* checking for unstated dependencies in vignettes ... OK
* checking package vignettes in 'inst/doc' ... OK
* checking running R code from vignettes ... SKIPPED
* checking re-building of vignette outputs ... SKIPPED
* checking PDF version of manual ... OK
* DONE
Status: 2 NOTEs
See
'C:/Users/biocbuild/bbs-3.14-bioc/meat/optimalFlow.Rcheck/00check.log'
for details.
optimalFlow.Rcheck/00install.out
##############################################################################
##############################################################################
###
### Running command:
###
### C:\cygwin\bin\curl.exe -O http://155.52.207.166/BBS/3.14/bioc/src/contrib/optimalFlow_1.6.0.tar.gz && rm -rf optimalFlow.buildbin-libdir && mkdir optimalFlow.buildbin-libdir && C:\Users\biocbuild\bbs-3.14-bioc\R\bin\R.exe CMD INSTALL --merge-multiarch --build --library=optimalFlow.buildbin-libdir optimalFlow_1.6.0.tar.gz && C:\Users\biocbuild\bbs-3.14-bioc\R\bin\R.exe CMD INSTALL optimalFlow_1.6.0.zip && rm optimalFlow_1.6.0.tar.gz optimalFlow_1.6.0.zip
###
##############################################################################
##############################################################################
% Total % Received % Xferd Average Speed Time Time Time Current
Dload Upload Total Spent Left Speed
0 0 0 0 0 0 0 0 --:--:-- --:--:-- --:--:-- 0
22 958k 22 219k 0 0 582k 0 0:00:01 --:--:-- 0:00:01 581k
100 958k 100 958k 0 0 712k 0 0:00:01 0:00:01 --:--:-- 712k
install for i386
* installing *source* package 'optimalFlow' ...
** using staged installation
** R
** byte-compile and prepare package for lazy loading
** help
*** installing help indices
converting help for package 'optimalFlow'
finding HTML links ... done
costWasserMatchingEllipse html
cytoPlot html
cytoPlot3d html
cytoPlotDatabase html
cytoPlotDatabase3d html
estimCovCellGeneral html
estimationCellBarycenter html
f1Score html
f1ScoreVoting html
labelTransfer html
labelTransferEllipse html
optimalFlowClassification html
optimalFlowTemplates html
qdaClassification html
tclustWithInitialization html
tclust_H html
trimmedKBarycenter html
voteLabelTransfer html
w2dist html
wasserCostFunction html
** building package indices
** installing vignettes
** testing if installed package can be loaded from temporary location
** testing if installed package can be loaded from final location
** testing if installed package keeps a record of temporary installation path
install for x64
* installing *source* package 'optimalFlow' ...
** testing if installed package can be loaded
* MD5 sums
packaged installation of 'optimalFlow' as optimalFlow_1.6.0.zip
* DONE (optimalFlow)
* installing to library 'C:/Users/biocbuild/bbs-3.14-bioc/R/library'
package 'optimalFlow' successfully unpacked and MD5 sums checked
|
optimalFlow.Rcheck/examples_i386/optimalFlow-Ex.timings
|
optimalFlow.Rcheck/examples_x64/optimalFlow-Ex.timings
|