| Back to Multiple platform build/check report for BioC 3.14 |
|
This page was generated on 2022-04-13 12:08:28 -0400 (Wed, 13 Apr 2022).
| Hostname | OS | Arch (*) | R version | Installed pkgs |
|---|---|---|---|---|
| nebbiolo2 | Linux (Ubuntu 20.04.4 LTS) | x86_64 | 4.1.3 (2022-03-10) -- "One Push-Up" | 4324 |
| tokay2 | Windows Server 2012 R2 Standard | x64 | 4.1.3 (2022-03-10) -- "One Push-Up" | 4077 |
| machv2 | macOS 10.14.6 Mojave | x86_64 | 4.1.3 (2022-03-10) -- "One Push-Up" | 4137 |
| Click on any hostname to see more info about the system (e.g. compilers) (*) as reported by 'uname -p', except on Windows and Mac OS X | ||||
|
To the developers/maintainers of the ontoProc package: - Please allow up to 24 hours (and sometimes 48 hours) for your latest push to git@git.bioconductor.org:packages/ontoProc.git to reflect on this report. See How and When does the builder pull? When will my changes propagate? for more information. - Make sure to use the following settings in order to reproduce any error or warning you see on this page. |
| Package 1337/2083 | Hostname | OS / Arch | INSTALL | BUILD | CHECK | BUILD BIN | ||||||||
| ontoProc 1.16.0 (landing page) VJ Carey
| nebbiolo2 | Linux (Ubuntu 20.04.4 LTS) / x86_64 | OK | OK | OK | |||||||||
| tokay2 | Windows Server 2012 R2 Standard / x64 | OK | OK | OK | OK | |||||||||
| machv2 | macOS 10.14.6 Mojave / x86_64 | OK | OK | OK | OK | |||||||||
| Package: ontoProc |
| Version: 1.16.0 |
| Command: /Library/Frameworks/R.framework/Resources/bin/R CMD check --install=check:ontoProc.install-out.txt --library=/Library/Frameworks/R.framework/Resources/library --no-vignettes --timings ontoProc_1.16.0.tar.gz |
| StartedAt: 2022-04-12 16:20:57 -0400 (Tue, 12 Apr 2022) |
| EndedAt: 2022-04-12 16:31:36 -0400 (Tue, 12 Apr 2022) |
| EllapsedTime: 638.9 seconds |
| RetCode: 0 |
| Status: OK |
| CheckDir: ontoProc.Rcheck |
| Warnings: 0 |
##############################################################################
##############################################################################
###
### Running command:
###
### /Library/Frameworks/R.framework/Resources/bin/R CMD check --install=check:ontoProc.install-out.txt --library=/Library/Frameworks/R.framework/Resources/library --no-vignettes --timings ontoProc_1.16.0.tar.gz
###
##############################################################################
##############################################################################
* using log directory ‘/Users/biocbuild/bbs-3.14-bioc/meat/ontoProc.Rcheck’
* using R version 4.1.3 (2022-03-10)
* using platform: x86_64-apple-darwin17.0 (64-bit)
* using session charset: UTF-8
* using option ‘--no-vignettes’
* checking for file ‘ontoProc/DESCRIPTION’ ... OK
* this is package ‘ontoProc’ version ‘1.16.0’
* package encoding: UTF-8
* checking package namespace information ... OK
* checking package dependencies ... OK
* checking if this is a source package ... OK
* checking if there is a namespace ... OK
* checking for hidden files and directories ... OK
* checking for portable file names ... OK
* checking for sufficient/correct file permissions ... OK
* checking whether package ‘ontoProc’ can be installed ... OK
* checking installed package size ... NOTE
installed size is 7.2Mb
sub-directories of 1Mb or more:
app 1.9Mb
data 2.0Mb
ontoRda 2.8Mb
* checking package directory ... OK
* checking ‘build’ directory ... OK
* checking DESCRIPTION meta-information ... OK
* checking top-level files ... OK
* checking for left-over files ... OK
* checking index information ... OK
* checking package subdirectories ... OK
* checking R files for non-ASCII characters ... OK
* checking R files for syntax errors ... OK
* checking whether the package can be loaded ... OK
* checking whether the package can be loaded with stated dependencies ... OK
* checking whether the package can be unloaded cleanly ... OK
* checking whether the namespace can be loaded with stated dependencies ... OK
* checking whether the namespace can be unloaded cleanly ... OK
* checking dependencies in R code ... OK
* checking S3 generic/method consistency ... OK
* checking replacement functions ... OK
* checking foreign function calls ... OK
* checking R code for possible problems ... NOTE
CLfeat : prupdate: no visible binding for global variable ‘PRID’
CLfeat : prupdate: no visible binding for global variable ‘SYMBOL’
bind_formal_tags: no visible global function definition for ‘colData’
bind_formal_tags: no visible global function definition for ‘colData<-’
common_classes: no visible global function definition for ‘colData’
connect_classes: no visible global function definition for ‘colData’
ctmarks: no visible binding for '<<-' assignment to ‘pr’
ctmarks: no visible binding for '<<-' assignment to ‘go’
ctmarks : server: no visible binding for global variable ‘text’
ldfToTerm: no visible binding for global variable ‘PROSYM’
subset_descendants: no visible global function definition for ‘colData’
sym2CellOnto: no visible binding for global variable ‘SYMBOL’
Undefined global functions or variables:
PRID PROSYM SYMBOL colData colData<- text
Consider adding
importFrom("graphics", "text")
to your NAMESPACE file.
* checking Rd files ... OK
* checking Rd metadata ... OK
* checking Rd cross-references ... OK
* checking for missing documentation entries ... OK
* checking for code/documentation mismatches ... OK
* checking Rd \usage sections ... OK
* checking Rd contents ... OK
* checking for unstated dependencies in examples ... OK
* checking contents of ‘data’ directory ... OK
* checking data for non-ASCII characters ... NOTE
Note: found 162 marked UTF-8 strings
* checking LazyData ... OK
* checking data for ASCII and uncompressed saves ... OK
* checking files in ‘vignettes’ ... OK
* checking examples ... OK
Examples with CPU (user + system) or elapsed time > 5s
user system elapsed
getCellOnto 44.136 1.516 47.661
siblings_TAG 36.894 1.226 40.086
CLfeats 35.789 1.344 39.265
common_classes 33.694 1.257 36.577
fastGrep 30.132 0.462 31.322
getLeavesFromTerm 24.174 0.416 25.200
sym2CellOnto 17.437 0.350 28.007
TermSet-class 12.366 0.588 13.556
secLevGen 12.289 0.400 13.352
nomenCheckup 9.714 0.390 10.739
cleanCLOnames 8.642 0.341 9.599
* checking for unstated dependencies in ‘tests’ ... OK
* checking tests ...
Running ‘test.R’
OK
* checking for unstated dependencies in vignettes ... OK
* checking package vignettes in ‘inst/doc’ ... OK
* checking running R code from vignettes ... SKIPPED
* checking re-building of vignette outputs ... SKIPPED
* checking PDF version of manual ... OK
* DONE
Status: 3 NOTEs
See
‘/Users/biocbuild/bbs-3.14-bioc/meat/ontoProc.Rcheck/00check.log’
for details.
ontoProc.Rcheck/00install.out
############################################################################## ############################################################################## ### ### Running command: ### ### /Library/Frameworks/R.framework/Resources/bin/R CMD INSTALL ontoProc ### ############################################################################## ############################################################################## * installing to library ‘/Library/Frameworks/R.framework/Versions/4.1/Resources/library’ * installing *source* package ‘ontoProc’ ... ** using staged installation ** R ** data *** moving datasets to lazyload DB ** inst ** byte-compile and prepare package for lazy loading ** help *** installing help indices ** building package indices ** installing vignettes ** testing if installed package can be loaded from temporary location ** testing if installed package can be loaded from final location ** testing if installed package keeps a record of temporary installation path * DONE (ontoProc)
ontoProc.Rcheck/tests/test.Rout
R version 4.1.3 (2022-03-10) -- "One Push-Up"
Copyright (C) 2022 The R Foundation for Statistical Computing
Platform: x86_64-apple-darwin17.0 (64-bit)
R is free software and comes with ABSOLUTELY NO WARRANTY.
You are welcome to redistribute it under certain conditions.
Type 'license()' or 'licence()' for distribution details.
R is a collaborative project with many contributors.
Type 'contributors()' for more information and
'citation()' on how to cite R or R packages in publications.
Type 'demo()' for some demos, 'help()' for on-line help, or
'help.start()' for an HTML browser interface to help.
Type 'q()' to quit R.
>
> library(ontoProc)
Loading required package: ontologyIndex
> library(testthat)
>
> test_check("ontoProc")
[ FAIL 0 | WARN 0 | SKIP 0 | PASS 8 ]
>
>
> proc.time()
user system elapsed
101.012 3.334 119.970
ontoProc.Rcheck/ontoProc-Ex.timings
| name | user | system | elapsed | |
| CLfeats | 35.789 | 1.344 | 39.265 | |
| PROSYM | 0.002 | 0.001 | 0.003 | |
| TermSet-class | 12.366 | 0.588 | 13.556 | |
| allGOterms | 1.135 | 0.037 | 1.173 | |
| cellTypeToGO | 2.727 | 0.140 | 2.868 | |
| cleanCLOnames | 8.642 | 0.341 | 9.599 | |
| common_classes | 33.694 | 1.257 | 36.577 | |
| cyclicSigset | 0.014 | 0.001 | 0.015 | |
| demoApp | 0 | 0 | 0 | |
| dropStop | 0.006 | 0.002 | 0.008 | |
| fastGrep | 30.132 | 0.462 | 31.322 | |
| findCommonAncestors | 3.521 | 0.137 | 3.659 | |
| getCellOnto | 44.136 | 1.516 | 47.661 | |
| getLeavesFromTerm | 24.174 | 0.416 | 25.200 | |
| humrna | 0.008 | 0.002 | 0.011 | |
| ldfToTerms | 2.245 | 0.105 | 2.356 | |
| liberalMap | 3.006 | 0.019 | 3.028 | |
| makeSelectInput | 0.001 | 0.000 | 0.001 | |
| make_graphNEL_from_ontology_plot | 2.794 | 0.026 | 2.826 | |
| mapOneNaive | 2.852 | 0.022 | 2.878 | |
| minicorpus | 0.001 | 0.001 | 0.002 | |
| nomenCheckup | 9.714 | 0.390 | 10.739 | |
| onto_plot2 | 3.538 | 0.025 | 3.578 | |
| onto_roots | 0.000 | 0.000 | 0.001 | |
| packDesc2019 | 0.004 | 0.001 | 0.004 | |
| recognizedPredicates | 0 | 0 | 0 | |
| secLevGen | 12.289 | 0.400 | 13.352 | |
| selectFromMap | 3.292 | 0.026 | 3.337 | |
| seur3kTab | 0.005 | 0.002 | 0.007 | |
| siblings_TAG | 36.894 | 1.226 | 40.086 | |
| stopWords | 0.002 | 0.001 | 0.004 | |
| sym2CellOnto | 17.437 | 0.350 | 28.007 | |