| Back to Multiple platform build/check report for BioC 3.14 |
|
This page was generated on 2022-04-13 12:07:00 -0400 (Wed, 13 Apr 2022).
| Hostname | OS | Arch (*) | R version | Installed pkgs |
|---|---|---|---|---|
| nebbiolo2 | Linux (Ubuntu 20.04.4 LTS) | x86_64 | 4.1.3 (2022-03-10) -- "One Push-Up" | 4324 |
| tokay2 | Windows Server 2012 R2 Standard | x64 | 4.1.3 (2022-03-10) -- "One Push-Up" | 4077 |
| machv2 | macOS 10.14.6 Mojave | x86_64 | 4.1.3 (2022-03-10) -- "One Push-Up" | 4137 |
| Click on any hostname to see more info about the system (e.g. compilers) (*) as reported by 'uname -p', except on Windows and Mac OS X | ||||
|
To the developers/maintainers of the npGSEA package: - Please allow up to 24 hours (and sometimes 48 hours) for your latest push to git@git.bioconductor.org:packages/npGSEA.git to reflect on this report. See How and When does the builder pull? When will my changes propagate? for more information. - Make sure to use the following settings in order to reproduce any error or warning you see on this page. |
| Package 1305/2083 | Hostname | OS / Arch | INSTALL | BUILD | CHECK | BUILD BIN | ||||||||
| npGSEA 1.30.0 (landing page) Jessica Larson
| nebbiolo2 | Linux (Ubuntu 20.04.4 LTS) / x86_64 | OK | OK | OK | |||||||||
| tokay2 | Windows Server 2012 R2 Standard / x64 | OK | OK | OK | OK | |||||||||
| machv2 | macOS 10.14.6 Mojave / x86_64 | OK | OK | OK | OK | |||||||||
| Package: npGSEA |
| Version: 1.30.0 |
| Command: rm -rf npGSEA.buildbin-libdir && mkdir npGSEA.buildbin-libdir && C:\Users\biocbuild\bbs-3.14-bioc\R\bin\R.exe CMD INSTALL --merge-multiarch --build --library=npGSEA.buildbin-libdir npGSEA_1.30.0.tar.gz |
| StartedAt: 2022-04-13 06:43:39 -0400 (Wed, 13 Apr 2022) |
| EndedAt: 2022-04-13 06:44:19 -0400 (Wed, 13 Apr 2022) |
| EllapsedTime: 39.7 seconds |
| RetCode: 0 |
| Status: OK |
| PackageFile: npGSEA_1.30.0.zip |
| PackageFileSize: 678.9 KiB |
##############################################################################
##############################################################################
###
### Running command:
###
### rm -rf npGSEA.buildbin-libdir && mkdir npGSEA.buildbin-libdir && C:\Users\biocbuild\bbs-3.14-bioc\R\bin\R.exe CMD INSTALL --merge-multiarch --build --library=npGSEA.buildbin-libdir npGSEA_1.30.0.tar.gz
###
##############################################################################
##############################################################################
install for i386
* installing *source* package 'npGSEA' ...
** using staged installation
** R
** inst
** byte-compile and prepare package for lazy loading
No methods found in package 'BiocGenerics' for request: 'unlist' when loading 'npGSEA'
** help
*** installing help indices
converting help for package 'npGSEA'
finding HTML links ... done
DF-methods html
alphaValue-methods html
betaHats-methods html
betaStat-methods html
betaValue-methods html
chiSqStat-methods html
geneSetName-methods html
getIncidence html
npGSEA html
npGSEAPlot-methods html
npGSEAResultBeta-class html
npGSEAResultBetaCollection-class html
npGSEAResultChiSq-class html
npGSEAResultChiSqCollection-class html
npGSEAResultNorm-class html
npGSEAResultNormCollection-class html
pLeft-methods html
pRight-methods html
pTwoSided-methods html
pValues-methods html
show-methods html
sigmaSq-methods html
stat-methods html
xSet-methods html
zStat-methods html
** building package indices
** installing vignettes
** testing if installed package can be loaded from temporary location
No methods found in package 'BiocGenerics' for request: 'unlist' when loading 'npGSEA'
** testing if installed package can be loaded from final location
No methods found in package 'BiocGenerics' for request: 'unlist' when loading 'npGSEA'
** testing if installed package keeps a record of temporary installation path
install for x64
* installing *source* package 'npGSEA' ...
** testing if installed package can be loaded
No methods found in package 'BiocGenerics' for request: 'unlist' when loading 'npGSEA'
* MD5 sums
packaged installation of 'npGSEA' as npGSEA_1.30.0.zip
* DONE (npGSEA)