| Back to Multiple platform build/check report for BioC 3.14 |
|
This page was generated on 2022-04-13 12:07:00 -0400 (Wed, 13 Apr 2022).
| Hostname | OS | Arch (*) | R version | Installed pkgs |
|---|---|---|---|---|
| nebbiolo2 | Linux (Ubuntu 20.04.4 LTS) | x86_64 | 4.1.3 (2022-03-10) -- "One Push-Up" | 4324 |
| tokay2 | Windows Server 2012 R2 Standard | x64 | 4.1.3 (2022-03-10) -- "One Push-Up" | 4077 |
| machv2 | macOS 10.14.6 Mojave | x86_64 | 4.1.3 (2022-03-10) -- "One Push-Up" | 4137 |
| Click on any hostname to see more info about the system (e.g. compilers) (*) as reported by 'uname -p', except on Windows and Mac OS X | ||||
|
To the developers/maintainers of the normalize450K package: - Please allow up to 24 hours (and sometimes 48 hours) for your latest push to git@git.bioconductor.org:packages/normalize450K.git to reflect on this report. See How and When does the builder pull? When will my changes propagate? for more information. - Make sure to use the following settings in order to reproduce any error or warning you see on this page. |
| Package 1300/2083 | Hostname | OS / Arch | INSTALL | BUILD | CHECK | BUILD BIN | ||||||||
| normalize450K 1.22.0 (landing page) Jonathan Alexander Heiss
| nebbiolo2 | Linux (Ubuntu 20.04.4 LTS) / x86_64 | OK | OK | OK | |||||||||
| tokay2 | Windows Server 2012 R2 Standard / x64 | OK | OK | OK | OK | |||||||||
| machv2 | macOS 10.14.6 Mojave / x86_64 | OK | OK | OK | OK | |||||||||
| Package: normalize450K |
| Version: 1.22.0 |
| Command: C:\cygwin\bin\curl.exe -O http://155.52.207.166/BBS/3.14/bioc/src/contrib/normalize450K_1.22.0.tar.gz && rm -rf normalize450K.buildbin-libdir && mkdir normalize450K.buildbin-libdir && C:\Users\biocbuild\bbs-3.14-bioc\R\bin\R.exe CMD INSTALL --merge-multiarch --build --library=normalize450K.buildbin-libdir normalize450K_1.22.0.tar.gz && C:\Users\biocbuild\bbs-3.14-bioc\R\bin\R.exe CMD INSTALL normalize450K_1.22.0.zip && rm normalize450K_1.22.0.tar.gz normalize450K_1.22.0.zip |
| StartedAt: 2022-04-12 04:28:50 -0400 (Tue, 12 Apr 2022) |
| EndedAt: 2022-04-12 04:29:45 -0400 (Tue, 12 Apr 2022) |
| EllapsedTime: 55.7 seconds |
| RetCode: 0 |
| Status: OK |
##############################################################################
##############################################################################
###
### Running command:
###
### C:\cygwin\bin\curl.exe -O http://155.52.207.166/BBS/3.14/bioc/src/contrib/normalize450K_1.22.0.tar.gz && rm -rf normalize450K.buildbin-libdir && mkdir normalize450K.buildbin-libdir && C:\Users\biocbuild\bbs-3.14-bioc\R\bin\R.exe CMD INSTALL --merge-multiarch --build --library=normalize450K.buildbin-libdir normalize450K_1.22.0.tar.gz && C:\Users\biocbuild\bbs-3.14-bioc\R\bin\R.exe CMD INSTALL normalize450K_1.22.0.zip && rm normalize450K_1.22.0.tar.gz normalize450K_1.22.0.zip
###
##############################################################################
##############################################################################
% Total % Received % Xferd Average Speed Time Time Time Current
Dload Upload Total Spent Left Speed
0 0 0 0 0 0 0 0 --:--:-- --:--:-- --:--:-- 0
3 3039k 3 99799 0 0 464k 0 0:00:06 --:--:-- 0:00:06 464k
44 3039k 44 1364k 0 0 1141k 0 0:00:02 0:00:01 0:00:01 1140k
100 3039k 100 3039k 0 0 1496k 0 0:00:02 0:00:02 --:--:-- 1497k
install for i386
* installing *source* package 'normalize450K' ...
** using staged installation
** R
** inst
** byte-compile and prepare package for lazy loading
** help
*** installing help indices
converting help for package 'normalize450K'
finding HTML links ... done
estimateLC html
read_and_normalize450K html
** building package indices
** installing vignettes
** testing if installed package can be loaded from temporary location
** testing if installed package can be loaded from final location
** testing if installed package keeps a record of temporary installation path
install for x64
* installing *source* package 'normalize450K' ...
** testing if installed package can be loaded
* MD5 sums
packaged installation of 'normalize450K' as normalize450K_1.22.0.zip
* DONE (normalize450K)
* installing to library 'C:/Users/biocbuild/bbs-3.14-bioc/R/library'
package 'normalize450K' successfully unpacked and MD5 sums checked