| Back to Multiple platform build/check report for BioC 3.14 | 
 | 
This page was generated on 2022-04-13 12:06:59 -0400 (Wed, 13 Apr 2022).
| Hostname | OS | Arch (*) | R version | Installed pkgs | 
|---|---|---|---|---|
| nebbiolo2 | Linux (Ubuntu 20.04.4 LTS) | x86_64 | 4.1.3 (2022-03-10) -- "One Push-Up" | 4324 | 
| tokay2 | Windows Server 2012 R2 Standard | x64 | 4.1.3 (2022-03-10) -- "One Push-Up" | 4077 | 
| machv2 | macOS 10.14.6 Mojave | x86_64 | 4.1.3 (2022-03-10) -- "One Push-Up" | 4137 | 
| Click on any hostname to see more info about the system (e.g. compilers) (*) as reported by 'uname -p', except on Windows and Mac OS X | ||||
| To the developers/maintainers of the netprioR package: - Please allow up to 24 hours (and sometimes 48 hours) for your latest push to git@git.bioconductor.org:packages/netprioR.git to reflect on this report. See How and When does the builder pull? When will my changes propagate? for more information. - Make sure to use the following settings in order to reproduce any error or warning you see on this page. | 
| Package 1288/2083 | Hostname | OS / Arch | INSTALL | BUILD | CHECK | BUILD BIN | ||||||||
| netprioR 1.20.0  (landing page) Fabian Schmich 
 | nebbiolo2 | Linux (Ubuntu 20.04.4 LTS) / x86_64 | OK | OK | OK |  | ||||||||
| tokay2 | Windows Server 2012 R2 Standard / x64 | OK | OK | OK | OK |  | ||||||||
| machv2 | macOS 10.14.6 Mojave / x86_64 | OK | OK | OK | OK |  | ||||||||
| Package: netprioR | 
| Version: 1.20.0 | 
| Command: C:\cygwin\bin\curl.exe -O http://155.52.207.166/BBS/3.14/bioc/src/contrib/netprioR_1.20.0.tar.gz && rm -rf netprioR.buildbin-libdir && mkdir netprioR.buildbin-libdir && C:\Users\biocbuild\bbs-3.14-bioc\R\bin\R.exe CMD INSTALL --merge-multiarch --build --library=netprioR.buildbin-libdir netprioR_1.20.0.tar.gz && C:\Users\biocbuild\bbs-3.14-bioc\R\bin\R.exe CMD INSTALL netprioR_1.20.0.zip && rm netprioR_1.20.0.tar.gz netprioR_1.20.0.zip | 
| StartedAt: 2022-04-12 04:51:56 -0400 (Tue, 12 Apr 2022) | 
| EndedAt: 2022-04-12 04:53:31 -0400 (Tue, 12 Apr 2022) | 
| EllapsedTime: 94.3 seconds | 
| RetCode: 0 | 
| Status: OK | 
##############################################################################
##############################################################################
###
### Running command:
###
###   C:\cygwin\bin\curl.exe -O http://155.52.207.166/BBS/3.14/bioc/src/contrib/netprioR_1.20.0.tar.gz && rm -rf netprioR.buildbin-libdir && mkdir netprioR.buildbin-libdir && C:\Users\biocbuild\bbs-3.14-bioc\R\bin\R.exe CMD INSTALL --merge-multiarch --build --library=netprioR.buildbin-libdir netprioR_1.20.0.tar.gz && C:\Users\biocbuild\bbs-3.14-bioc\R\bin\R.exe CMD INSTALL netprioR_1.20.0.zip && rm netprioR_1.20.0.tar.gz netprioR_1.20.0.zip
###
##############################################################################
##############################################################################
  % Total    % Received % Xferd  Average Speed   Time    Time     Time  Current
                                 Dload  Upload   Total   Spent    Left  Speed
  0     0    0     0    0     0      0      0 --:--:-- --:--:-- --:--:--     0
 18 92426   18 17340    0     0   146k      0 --:--:-- --:--:-- --:--:--  145k
100 92426  100 92426    0     0   191k      0 --:--:-- --:--:-- --:--:--  191k
install for i386
* installing *source* package 'netprioR' ...
** using staged installation
** R
** data
*** moving datasets to lazyload DB
** inst
** byte-compile and prepare package for lazy loading
** help
*** installing help indices
  converting help for package 'netprioR'
    finding HTML links ... done
    ROC-methods                             html  
    bandwidth                               html  
    cmn                                     html  
    conjugate_gradient                      html  
    cuthill_mckee                           html  
    fit-methods                             html  
    laplacian                               html  
    learn                                   html  
    netprioR-class                          html  
    netprioR-package                        html  
    norm_kern                               html  
    plot.netprioR                           html  
    ranks-methods                           html  
    simulate_labels                         html  
    simulate_network_random                 html  
    simulate_network_scalefree              html  
    simulate_phenotype                      html  
    simulation                              html  
    weights-methods                         html  
** building package indices
** installing vignettes
** testing if installed package can be loaded from temporary location
** testing if installed package can be loaded from final location
** testing if installed package keeps a record of temporary installation path
install for x64
* installing *source* package 'netprioR' ...
** testing if installed package can be loaded
* MD5 sums
packaged installation of 'netprioR' as netprioR_1.20.0.zip
* DONE (netprioR)
* installing to library 'C:/Users/biocbuild/bbs-3.14-bioc/R/library'
package 'netprioR' successfully unpacked and MD5 sums checked