| Back to Multiple platform build/check report for BioC 3.14 |
|
This page was generated on 2022-04-13 12:06:57 -0400 (Wed, 13 Apr 2022).
| Hostname | OS | Arch (*) | R version | Installed pkgs |
|---|---|---|---|---|
| nebbiolo2 | Linux (Ubuntu 20.04.4 LTS) | x86_64 | 4.1.3 (2022-03-10) -- "One Push-Up" | 4324 |
| tokay2 | Windows Server 2012 R2 Standard | x64 | 4.1.3 (2022-03-10) -- "One Push-Up" | 4077 |
| machv2 | macOS 10.14.6 Mojave | x86_64 | 4.1.3 (2022-03-10) -- "One Push-Up" | 4137 |
| Click on any hostname to see more info about the system (e.g. compilers) (*) as reported by 'uname -p', except on Windows and Mac OS X | ||||
|
To the developers/maintainers of the msPurity package: - Please allow up to 24 hours (and sometimes 48 hours) for your latest push to git@git.bioconductor.org:packages/msPurity.git to reflect on this report. See How and When does the builder pull? When will my changes propagate? for more information. - Make sure to use the following settings in order to reproduce any error or warning you see on this page. |
| Package 1225/2083 | Hostname | OS / Arch | INSTALL | BUILD | CHECK | BUILD BIN | ||||||||
| msPurity 1.20.0 (landing page) Thomas N. Lawson
| nebbiolo2 | Linux (Ubuntu 20.04.4 LTS) / x86_64 | OK | OK | WARNINGS | |||||||||
| tokay2 | Windows Server 2012 R2 Standard / x64 | OK | OK | WARNINGS | OK | |||||||||
| machv2 | macOS 10.14.6 Mojave / x86_64 | OK | ERROR | skipped | skipped | |||||||||
| Package: msPurity |
| Version: 1.20.0 |
| Command: rm -rf msPurity.buildbin-libdir && mkdir msPurity.buildbin-libdir && C:\Users\biocbuild\bbs-3.14-bioc\R\bin\R.exe CMD INSTALL --merge-multiarch --build --library=msPurity.buildbin-libdir msPurity_1.20.0.tar.gz |
| StartedAt: 2022-04-13 06:39:41 -0400 (Wed, 13 Apr 2022) |
| EndedAt: 2022-04-13 06:40:16 -0400 (Wed, 13 Apr 2022) |
| EllapsedTime: 35.3 seconds |
| RetCode: 0 |
| Status: OK |
| PackageFile: msPurity_1.20.0.zip |
| PackageFileSize: 11.35 MiB |
##############################################################################
##############################################################################
###
### Running command:
###
### rm -rf msPurity.buildbin-libdir && mkdir msPurity.buildbin-libdir && C:\Users\biocbuild\bbs-3.14-bioc\R\bin\R.exe CMD INSTALL --merge-multiarch --build --library=msPurity.buildbin-libdir msPurity_1.20.0.tar.gz
###
##############################################################################
##############################################################################
install for i386
* installing *source* package 'msPurity' ...
** using staged installation
** R
** inst
** byte-compile and prepare package for lazy loading
** help
*** installing help indices
converting help for package 'msPurity'
finding HTML links ... done
Getfiles html
assessPuritySingle html
averageAllFragSpectra-purityA-method html
averageInterFragSpectra-purityA-method
html
averageIntraFragSpectra-purityA-method
html
averageSpectra-purityD-method html
averageSpectraSingle html
combineAnnotations html
createDatabase html
createMSP-purityA-method html
create_database html
dimsPredictPurity-purityD-method html
dimsPredictPuritySingle html
filterFragSpectra-purityA-method html
filterp-purityD-method html
flag_remove html
frag4feature-purityA-method html
getP-purityD-method html
get_additional_mzml_meta html
groupPeaks-purityD-method html
groupPeaksEx html
initialize-purityD-method html
iwNormGauss html
iwNormQE.5 html
iwNormRcosine html
msPurity html
pcalc html
purityA html
purityD-class html
purityX html
show-purityA-method html
show-purityD-method html
show-purityX-method html
spectralMatching html
spectral_matching html
subtract-purityD-method html
subtractMZ html
validate-purityA-method html
writeOut-purityD-method html
** building package indices
** installing vignettes
** testing if installed package can be loaded from temporary location
** testing if installed package can be loaded from final location
** testing if installed package keeps a record of temporary installation path
install for x64
* installing *source* package 'msPurity' ...
** testing if installed package can be loaded
* MD5 sums
packaged installation of 'msPurity' as msPurity_1.20.0.zip
* DONE (msPurity)