| Back to Multiple platform build/check report for BioC 3.14 |
|
This page was generated on 2022-04-13 12:08:22 -0400 (Wed, 13 Apr 2022).
| Hostname | OS | Arch (*) | R version | Installed pkgs |
|---|---|---|---|---|
| nebbiolo2 | Linux (Ubuntu 20.04.4 LTS) | x86_64 | 4.1.3 (2022-03-10) -- "One Push-Up" | 4324 |
| tokay2 | Windows Server 2012 R2 Standard | x64 | 4.1.3 (2022-03-10) -- "One Push-Up" | 4077 |
| machv2 | macOS 10.14.6 Mojave | x86_64 | 4.1.3 (2022-03-10) -- "One Push-Up" | 4137 |
| Click on any hostname to see more info about the system (e.g. compilers) (*) as reported by 'uname -p', except on Windows and Mac OS X | ||||
|
To the developers/maintainers of the monaLisa package: - Please allow up to 24 hours (and sometimes 48 hours) for your latest push to git@git.bioconductor.org:packages/monaLisa.git to reflect on this report. See How and When does the builder pull? When will my changes propagate? for more information. - Make sure to use the following settings in order to reproduce any error or warning you see on this page. |
| Package 1194/2083 | Hostname | OS / Arch | INSTALL | BUILD | CHECK | BUILD BIN | ||||||||
| monaLisa 1.0.0 (landing page) Michael Stadler
| nebbiolo2 | Linux (Ubuntu 20.04.4 LTS) / x86_64 | OK | OK | OK | |||||||||
| tokay2 | Windows Server 2012 R2 Standard / x64 | OK | OK | OK | OK | |||||||||
| machv2 | macOS 10.14.6 Mojave / x86_64 | OK | OK | OK | OK | |||||||||
| Package: monaLisa |
| Version: 1.0.0 |
| Command: /Library/Frameworks/R.framework/Resources/bin/R CMD check --install=check:monaLisa.install-out.txt --library=/Library/Frameworks/R.framework/Resources/library --no-vignettes --timings monaLisa_1.0.0.tar.gz |
| StartedAt: 2022-04-12 15:43:04 -0400 (Tue, 12 Apr 2022) |
| EndedAt: 2022-04-12 15:51:33 -0400 (Tue, 12 Apr 2022) |
| EllapsedTime: 508.8 seconds |
| RetCode: 0 |
| Status: OK |
| CheckDir: monaLisa.Rcheck |
| Warnings: 0 |
##############################################################################
##############################################################################
###
### Running command:
###
### /Library/Frameworks/R.framework/Resources/bin/R CMD check --install=check:monaLisa.install-out.txt --library=/Library/Frameworks/R.framework/Resources/library --no-vignettes --timings monaLisa_1.0.0.tar.gz
###
##############################################################################
##############################################################################
* using log directory ‘/Users/biocbuild/bbs-3.14-bioc/meat/monaLisa.Rcheck’
* using R version 4.1.3 (2022-03-10)
* using platform: x86_64-apple-darwin17.0 (64-bit)
* using session charset: UTF-8
* using option ‘--no-vignettes’
* checking for file ‘monaLisa/DESCRIPTION’ ... OK
* checking extension type ... Package
* this is package ‘monaLisa’ version ‘1.0.0’
* package encoding: UTF-8
* checking package namespace information ... OK
* checking package dependencies ... OK
* checking if this is a source package ... OK
* checking if there is a namespace ... OK
* checking for hidden files and directories ... OK
* checking for portable file names ... OK
* checking for sufficient/correct file permissions ... OK
* checking whether package ‘monaLisa’ can be installed ... OK
* checking installed package size ... OK
* checking package directory ... OK
* checking ‘build’ directory ... OK
* checking DESCRIPTION meta-information ... OK
* checking top-level files ... OK
* checking for left-over files ... OK
* checking index information ... OK
* checking package subdirectories ... OK
* checking R files for non-ASCII characters ... OK
* checking R files for syntax errors ... OK
* checking whether the package can be loaded ... OK
* checking whether the package can be loaded with stated dependencies ... OK
* checking whether the package can be unloaded cleanly ... OK
* checking whether the namespace can be loaded with stated dependencies ... OK
* checking whether the namespace can be unloaded cleanly ... OK
* checking dependencies in R code ... OK
* checking S3 generic/method consistency ... OK
* checking replacement functions ... OK
* checking foreign function calls ... OK
* checking R code for possible problems ... OK
* checking Rd files ... OK
* checking Rd metadata ... OK
* checking Rd cross-references ... OK
* checking for missing documentation entries ... OK
* checking for code/documentation mismatches ... OK
* checking Rd \usage sections ... OK
* checking Rd contents ... OK
* checking for unstated dependencies in examples ... OK
* checking files in ‘vignettes’ ... OK
* checking examples ... OK
Examples with CPU (user + system) or elapsed time > 5s
user system elapsed
plotMotifHeatmaps 8.685 0.141 8.835
* checking for unstated dependencies in ‘tests’ ... OK
* checking tests ...
Running ‘testthat.R’
OK
* checking for unstated dependencies in vignettes ... OK
* checking package vignettes in ‘inst/doc’ ... OK
* checking running R code from vignettes ... SKIPPED
* checking re-building of vignette outputs ... SKIPPED
* checking PDF version of manual ... OK
* DONE
Status: OK
monaLisa.Rcheck/00install.out
############################################################################## ############################################################################## ### ### Running command: ### ### /Library/Frameworks/R.framework/Resources/bin/R CMD INSTALL monaLisa ### ############################################################################## ############################################################################## * installing to library ‘/Library/Frameworks/R.framework/Versions/4.1/Resources/library’ * installing *source* package ‘monaLisa’ ... ** using staged installation ** R ** inst ** byte-compile and prepare package for lazy loading ** help *** installing help indices *** copying figures ** building package indices ** installing vignettes ** testing if installed package can be loaded from temporary location ** testing if installed package can be loaded from final location ** testing if installed package keeps a record of temporary installation path * DONE (monaLisa)
monaLisa.Rcheck/tests/testthat.Rout
R version 4.1.3 (2022-03-10) -- "One Push-Up"
Copyright (C) 2022 The R Foundation for Statistical Computing
Platform: x86_64-apple-darwin17.0 (64-bit)
R is free software and comes with ABSOLUTELY NO WARRANTY.
You are welcome to redistribute it under certain conditions.
Type 'license()' or 'licence()' for distribution details.
R is a collaborative project with many contributors.
Type 'contributors()' for more information and
'citation()' on how to cite R or R packages in publications.
Type 'demo()' for some demos, 'help()' for on-line help, or
'help.start()' for an HTML browser interface to help.
Type 'q()' to quit R.
> library(testthat)
> library(monaLisa)
>
> test_check("monaLisa")
[ FAIL 0 | WARN 1 | SKIP 1 | PASS 534 ]
══ Skipped tests ═══════════════════════════════════════════════════════════════
• empty test (1)
[ FAIL 0 | WARN 1 | SKIP 1 | PASS 534 ]
>
> proc.time()
user system elapsed
71.914 6.346 74.431
monaLisa.Rcheck/monaLisa-Ex.timings
| name | user | system | elapsed | |
| annoSeqlogo | 0.254 | 0.034 | 0.290 | |
| bin | 0.011 | 0.002 | 0.014 | |
| calcBinnedKmerEnr | 1.477 | 0.097 | 1.577 | |
| calcBinnedMotifEnrHomer | 0.004 | 0.007 | 0.014 | |
| calcBinnedMotifEnrR | 1.661 | 0.179 | 1.845 | |
| dumpJaspar | 0.047 | 0.006 | 0.053 | |
| findHomer | 0.003 | 0.007 | 0.010 | |
| findMotifHits-methods | 0.580 | 0.022 | 0.603 | |
| getColsByBin | 0.006 | 0.000 | 0.007 | |
| getKmerFreq | 0.056 | 0.001 | 0.057 | |
| getSetZeroBin | 0.003 | 0.001 | 0.003 | |
| homerToPFMatrixList | 0.087 | 0.005 | 0.093 | |
| motifKmerSimilarity | 0.030 | 0.001 | 0.031 | |
| motifSimilarity | 0.016 | 0.001 | 0.016 | |
| parseHomerOutput | 0.016 | 0.001 | 0.017 | |
| plotBinDensity | 0.018 | 0.002 | 0.019 | |
| plotBinDiagnostics | 1.215 | 0.014 | 1.231 | |
| plotBinHist | 0.009 | 0.001 | 0.010 | |
| plotBinScatter | 0.009 | 0.001 | 0.009 | |
| plotMotifHeatmaps | 8.685 | 0.141 | 8.835 | |
| plotSelectionProb | 1.488 | 0.013 | 1.505 | |
| plotStabilityPaths | 0.988 | 0.010 | 0.999 | |
| prepareHomer | 0.089 | 0.006 | 0.094 | |
| randLassoStabSel | 2.261 | 0.498 | 1.997 | |
| sampleRandomRegions | 0.135 | 0.025 | 0.161 | |
| seqLogoGrob | 0.302 | 0.058 | 0.362 | |