| Back to Multiple platform build/check report for BioC 3.14 |
|
This page was generated on 2022-04-13 12:05:37 -0400 (Wed, 13 Apr 2022).
| Hostname | OS | Arch (*) | R version | Installed pkgs |
|---|---|---|---|---|
| nebbiolo2 | Linux (Ubuntu 20.04.4 LTS) | x86_64 | 4.1.3 (2022-03-10) -- "One Push-Up" | 4324 |
| tokay2 | Windows Server 2012 R2 Standard | x64 | 4.1.3 (2022-03-10) -- "One Push-Up" | 4077 |
| machv2 | macOS 10.14.6 Mojave | x86_64 | 4.1.3 (2022-03-10) -- "One Push-Up" | 4137 |
| Click on any hostname to see more info about the system (e.g. compilers) (*) as reported by 'uname -p', except on Windows and Mac OS X | ||||
|
To the developers/maintainers of the mitoClone2 package: - Please allow up to 24 hours (and sometimes 48 hours) for your latest push to git@git.bioconductor.org:packages/mitoClone2.git to reflect on this report. See How and When does the builder pull? When will my changes propagate? for more information. - Make sure to use the following settings in order to reproduce any error or warning you see on this page. |
| Package 1177/2083 | Hostname | OS / Arch | INSTALL | BUILD | CHECK | BUILD BIN | ||||||||
| mitoClone2 1.0.0 (landing page) Benjamin Story
| nebbiolo2 | Linux (Ubuntu 20.04.4 LTS) / x86_64 | OK | OK | WARNINGS | |||||||||
| tokay2 | Windows Server 2012 R2 Standard / x64 | OK | OK | WARNINGS | OK | |||||||||
| machv2 | macOS 10.14.6 Mojave / x86_64 | OK | OK | OK | OK | |||||||||
| Package: mitoClone2 |
| Version: 1.0.0 |
| Command: /home/biocbuild/bbs-3.14-bioc/R/bin/R CMD INSTALL mitoClone2 |
| StartedAt: 2022-04-12 03:39:19 -0400 (Tue, 12 Apr 2022) |
| EndedAt: 2022-04-12 03:40:05 -0400 (Tue, 12 Apr 2022) |
| EllapsedTime: 46.0 seconds |
| RetCode: 0 |
| Status: OK |
##############################################################################
##############################################################################
###
### Running command:
###
### /home/biocbuild/bbs-3.14-bioc/R/bin/R CMD INSTALL mitoClone2
###
##############################################################################
##############################################################################
* installing to library ‘/home/biocbuild/bbs-3.14-bioc/R/library’
* installing *source* package ‘mitoClone2’ ...
** using staged installation
** libs
g++ -std=gnu++14 -D_FILE_OFFSET_BITS=64 ../inst/SCITEpkg/*.cpp -o scite
../inst/SCITEpkg/findBestTrees.cpp:56:8: warning: built-in function ‘gamma’ declared as non-function [-Wbuiltin-declaration-mismatch]
56 | double gamma = 1;
| ^~~~~
../inst/SCITEpkg/mcmcBinTreeMove.cpp: In function ‘int pickNodeToMove(int*, int)’:
../inst/SCITEpkg/mcmcBinTreeMove.cpp:75:1: warning: control reaches end of non-void function [-Wreturn-type]
75 | }
| ^
mkdir -p "/home/biocbuild/bbs-3.14-bioc/R/library/00LOCK-mitoClone2/00new/mitoClone2/SCITE/"
cp scite "/home/biocbuild/bbs-3.14-bioc/R/library/00LOCK-mitoClone2/00new/mitoClone2/SCITE/"
rm scite
g++ -std=gnu++14 -I"/home/biocbuild/bbs-3.14-bioc/R/include" -DNDEBUG -D_FILE_OFFSET_BITS=64 -I'/home/biocbuild/bbs-3.14-bioc/R/library/Rhtslib/include' -I/usr/local/include -fpic -g -O2 -Wall -c bam2R_10x.cpp -o bam2R_10x.o
bam2R_10x.cpp:6:2: warning: "/*" within comment [-Wcomment]
6 | /**************************************************************************************
|
bam2R_10x.cpp:8:1: warning: "/*" within comment [-Wcomment]
8 | /**********************************************************************
|
bam2R_10x.cpp: In function ‘void bam2R_pileup_function(const bam_pileup1_t*, int, int, nttable_t&, std::map<std::__cxx11::basic_string<char>, std::vector<int> >&)’:
bam2R_10x.cpp:75:10: warning: unused variable ‘bc_absent’ [-Wunused-variable]
75 | int bc_absent;
| ^~~~~~~~~
bam2R_10x.cpp: In function ‘SEXPREC* bam2R_10x(SEXP, SEXP, SEXP, SEXP, int*, SEXP, SEXP, SEXP, SEXP, SEXP, SEXP, SEXP, SEXP, SEXP)’:
bam2R_10x.cpp:158:16: warning: unused variable ‘iter’ [-Wunused-variable]
158 | hts_itr_t *iter = NULL;
| ^~~~
bam2R_10x.cpp:161:9: warning: unused variable ‘c’ [-Wunused-variable]
161 | int c = 0;
| ^
g++ -std=gnu++14 -shared -L/home/biocbuild/bbs-3.14-bioc/R/lib -L/usr/local/lib -o mitoClone2.so bam2R_10x.o /home/biocbuild/bbs-3.14-bioc/R/library/Rhtslib/usrlib/libhts.a -lcurl -L/home/biocbuild/bbs-3.14-bioc/R/lib -lR
installing to /home/biocbuild/bbs-3.14-bioc/R/library/00LOCK-mitoClone2/00new/mitoClone2/libs
** R
** data
** inst
** byte-compile and prepare package for lazy loading
** help
*** installing help indices
*** copying figures
** building package indices
** installing vignettes
** testing if installed package can be loaded from temporary location
** checking absolute paths in shared objects and dynamic libraries
** testing if installed package can be loaded from final location
** testing if installed package keeps a record of temporary installation path
* DONE (mitoClone2)