| Back to Multiple platform build/check report for BioC 3.14 |
|
This page was generated on 2022-04-13 12:06:55 -0400 (Wed, 13 Apr 2022).
| Hostname | OS | Arch (*) | R version | Installed pkgs |
|---|---|---|---|---|
| nebbiolo2 | Linux (Ubuntu 20.04.4 LTS) | x86_64 | 4.1.3 (2022-03-10) -- "One Push-Up" | 4324 |
| tokay2 | Windows Server 2012 R2 Standard | x64 | 4.1.3 (2022-03-10) -- "One Push-Up" | 4077 |
| machv2 | macOS 10.14.6 Mojave | x86_64 | 4.1.3 (2022-03-10) -- "One Push-Up" | 4137 |
| Click on any hostname to see more info about the system (e.g. compilers) (*) as reported by 'uname -p', except on Windows and Mac OS X | ||||
|
To the developers/maintainers of the mistyR package: - Please allow up to 24 hours (and sometimes 48 hours) for your latest push to git@git.bioconductor.org:packages/mistyR.git to reflect on this report. See How and When does the builder pull? When will my changes propagate? for more information. - Make sure to use the following settings in order to reproduce any error or warning you see on this page. |
| Package 1175/2083 | Hostname | OS / Arch | INSTALL | BUILD | CHECK | BUILD BIN | ||||||||
| mistyR 1.2.1 (landing page) Jovan Tanevski
| nebbiolo2 | Linux (Ubuntu 20.04.4 LTS) / x86_64 | OK | OK | OK | |||||||||
| tokay2 | Windows Server 2012 R2 Standard / x64 | OK | OK | OK | OK | |||||||||
| machv2 | macOS 10.14.6 Mojave / x86_64 | OK | OK | OK | OK | |||||||||
| Package: mistyR |
| Version: 1.2.1 |
| Command: rm -rf mistyR.buildbin-libdir && mkdir mistyR.buildbin-libdir && C:\Users\biocbuild\bbs-3.14-bioc\R\bin\R.exe CMD INSTALL --merge-multiarch --build --library=mistyR.buildbin-libdir mistyR_1.2.1.tar.gz |
| StartedAt: 2022-04-13 06:37:32 -0400 (Wed, 13 Apr 2022) |
| EndedAt: 2022-04-13 06:37:50 -0400 (Wed, 13 Apr 2022) |
| EllapsedTime: 18.3 seconds |
| RetCode: 0 |
| Status: OK |
| PackageFile: mistyR_1.2.1.zip |
| PackageFileSize: 3.357 MiB |
##############################################################################
##############################################################################
###
### Running command:
###
### rm -rf mistyR.buildbin-libdir && mkdir mistyR.buildbin-libdir && C:\Users\biocbuild\bbs-3.14-bioc\R\bin\R.exe CMD INSTALL --merge-multiarch --build --library=mistyR.buildbin-libdir mistyR_1.2.1.tar.gz
###
##############################################################################
##############################################################################
install for i386
* installing *source* package 'mistyR' ...
** using staged installation
** R
** data
** inst
** byte-compile and prepare package for lazy loading
** help
*** installing help indices
converting help for package 'mistyR'
finding HTML links ... done
add_juxtaview html
add_paraview html
add_views html
clear_cache html
collect_results html
create_initial_view html
create_view html
extract_signature html
filter_views html
plot_contrast_heatmap html
plot_contrast_results html
plot_improvement_stats html
plot_interaction_communities html
plot_interaction_heatmap html
plot_view_contributions html
reexports html
remove_views html
rename_view html
run_misty html
select_markers html
synthetic html
** building package indices
** installing vignettes
** testing if installed package can be loaded from temporary location
** testing if installed package can be loaded from final location
** testing if installed package keeps a record of temporary installation path
install for x64
* installing *source* package 'mistyR' ...
** testing if installed package can be loaded
* MD5 sums
packaged installation of 'mistyR' as mistyR_1.2.1.zip
* DONE (mistyR)