| Back to Multiple platform build/check report for BioC 3.14 |
|
This page was generated on 2022-04-13 12:05:36 -0400 (Wed, 13 Apr 2022).
| Hostname | OS | Arch (*) | R version | Installed pkgs |
|---|---|---|---|---|
| nebbiolo2 | Linux (Ubuntu 20.04.4 LTS) | x86_64 | 4.1.3 (2022-03-10) -- "One Push-Up" | 4324 |
| tokay2 | Windows Server 2012 R2 Standard | x64 | 4.1.3 (2022-03-10) -- "One Push-Up" | 4077 |
| machv2 | macOS 10.14.6 Mojave | x86_64 | 4.1.3 (2022-03-10) -- "One Push-Up" | 4137 |
| Click on any hostname to see more info about the system (e.g. compilers) (*) as reported by 'uname -p', except on Windows and Mac OS X | ||||
|
To the developers/maintainers of the microbiome package: - Please allow up to 24 hours (and sometimes 48 hours) for your latest push to git@git.bioconductor.org:packages/microbiome.git to reflect on this report. See How and When does the builder pull? When will my changes propagate? for more information. - Make sure to use the following settings in order to reproduce any error or warning you see on this page. |
| Package 1141/2083 | Hostname | OS / Arch | INSTALL | BUILD | CHECK | BUILD BIN | ||||||||
| microbiome 1.16.0 (landing page) Leo Lahti
| nebbiolo2 | Linux (Ubuntu 20.04.4 LTS) / x86_64 | OK | OK | OK | |||||||||
| tokay2 | Windows Server 2012 R2 Standard / x64 | OK | OK | OK | OK | |||||||||
| machv2 | macOS 10.14.6 Mojave / x86_64 | OK | OK | OK | OK | |||||||||
| Package: microbiome |
| Version: 1.16.0 |
| Command: /home/biocbuild/bbs-3.14-bioc/R/bin/R CMD check --install=check:microbiome.install-out.txt --library=/home/biocbuild/bbs-3.14-bioc/R/library --no-vignettes --timings microbiome_1.16.0.tar.gz |
| StartedAt: 2022-04-12 08:13:16 -0400 (Tue, 12 Apr 2022) |
| EndedAt: 2022-04-12 08:16:08 -0400 (Tue, 12 Apr 2022) |
| EllapsedTime: 171.3 seconds |
| RetCode: 0 |
| Status: OK |
| CheckDir: microbiome.Rcheck |
| Warnings: 0 |
##############################################################################
##############################################################################
###
### Running command:
###
### /home/biocbuild/bbs-3.14-bioc/R/bin/R CMD check --install=check:microbiome.install-out.txt --library=/home/biocbuild/bbs-3.14-bioc/R/library --no-vignettes --timings microbiome_1.16.0.tar.gz
###
##############################################################################
##############################################################################
* using log directory ‘/home/biocbuild/bbs-3.14-bioc/meat/microbiome.Rcheck’
* using R version 4.1.3 (2022-03-10)
* using platform: x86_64-pc-linux-gnu (64-bit)
* using session charset: UTF-8
* using option ‘--no-vignettes’
* checking for file ‘microbiome/DESCRIPTION’ ... OK
* checking extension type ... Package
* this is package ‘microbiome’ version ‘1.16.0’
* package encoding: UTF-8
* checking package namespace information ... OK
* checking package dependencies ... OK
* checking if this is a source package ... OK
* checking if there is a namespace ... OK
* checking for hidden files and directories ... OK
* checking for portable file names ... OK
* checking for sufficient/correct file permissions ... OK
* checking whether package ‘microbiome’ can be installed ... OK
* checking installed package size ... OK
* checking package directory ... OK
* checking ‘build’ directory ... OK
* checking DESCRIPTION meta-information ... OK
* checking top-level files ... OK
* checking for left-over files ... OK
* checking index information ... OK
* checking package subdirectories ... OK
* checking R files for non-ASCII characters ... OK
* checking R files for syntax errors ... OK
* checking whether the package can be loaded ... OK
* checking whether the package can be loaded with stated dependencies ... OK
* checking whether the package can be unloaded cleanly ... OK
* checking whether the namespace can be loaded with stated dependencies ... OK
* checking whether the namespace can be unloaded cleanly ... OK
* checking dependencies in R code ... OK
* checking S3 generic/method consistency ... OK
* checking replacement functions ... OK
* checking foreign function calls ... OK
* checking R code for possible problems ... OK
* checking Rd files ... OK
* checking Rd metadata ... OK
* checking Rd cross-references ... OK
* checking for missing documentation entries ... OK
* checking for code/documentation mismatches ... OK
* checking Rd \usage sections ... OK
* checking Rd contents ... OK
* checking for unstated dependencies in examples ... OK
* checking contents of ‘data’ directory ... OK
* checking data for non-ASCII characters ... OK
* checking data for ASCII and uncompressed saves ... OK
* checking files in ‘vignettes’ ... OK
* checking examples ... OK
Examples with CPU (user + system) or elapsed time > 5s
user system elapsed
overlap 15.407 0.22 15.628
* checking for unstated dependencies in ‘tests’ ... OK
* checking tests ...
Running ‘testthat.R’
OK
* checking for unstated dependencies in vignettes ... OK
* checking package vignettes in ‘inst/doc’ ... OK
* checking running R code from vignettes ... SKIPPED
* checking re-building of vignette outputs ... SKIPPED
* checking PDF version of manual ... OK
* DONE
Status: OK
microbiome.Rcheck/00install.out
############################################################################## ############################################################################## ### ### Running command: ### ### /home/biocbuild/bbs-3.14-bioc/R/bin/R CMD INSTALL microbiome ### ############################################################################## ############################################################################## * installing to library ‘/home/biocbuild/bbs-3.14-bioc/R/library’ * installing *source* package ‘microbiome’ ... ** using staged installation ** R ** data ** inst ** byte-compile and prepare package for lazy loading ** help *** installing help indices ** building package indices ** installing vignettes ** testing if installed package can be loaded from temporary location ** testing if installed package can be loaded from final location ** testing if installed package keeps a record of temporary installation path * DONE (microbiome)
microbiome.Rcheck/tests/testthat.Rout
R version 4.1.3 (2022-03-10) -- "One Push-Up"
Copyright (C) 2022 The R Foundation for Statistical Computing
Platform: x86_64-pc-linux-gnu (64-bit)
R is free software and comes with ABSOLUTELY NO WARRANTY.
You are welcome to redistribute it under certain conditions.
Type 'license()' or 'licence()' for distribution details.
R is a collaborative project with many contributors.
Type 'contributors()' for more information and
'citation()' on how to cite R or R packages in publications.
Type 'demo()' for some demos, 'help()' for on-line help, or
'help.start()' for an HTML browser interface to help.
Type 'q()' to quit R.
> library(testthat)
> test_check("microbiome")
Loading required package: microbiome
Loading required package: phyloseq
Loading required package: ggplot2
microbiome R package (microbiome.github.com)
Copyright (C) 2011-2021 Leo Lahti,
Sudarshan Shetty et al. <microbiome.github.io>
Attaching package: 'microbiome'
The following object is masked from 'package:ggplot2':
alpha
The following object is masked from 'package:base':
transform
[ FAIL 0 | WARN 5 | SKIP 1 | PASS 82 ]
══ Skipped tests ═══════════════════════════════════════════════════════════════
• On Bioconductor (1)
[ FAIL 0 | WARN 5 | SKIP 1 | PASS 82 ]
>
> proc.time()
user system elapsed
12.477 0.534 12.995
microbiome.Rcheck/microbiome-Ex.timings
| name | user | system | elapsed | |
| abundances | 0.014 | 0.000 | 0.014 | |
| aggregate_rare | 0.503 | 0.028 | 0.531 | |
| aggregate_taxa | 0.098 | 0.000 | 0.099 | |
| alpha | 0.012 | 0.000 | 0.012 | |
| associate | 0.036 | 0.000 | 0.036 | |
| baseline | 0.037 | 0.000 | 0.036 | |
| bfratio | 0.644 | 0.084 | 0.727 | |
| bimodality | 0.001 | 0.000 | 0.001 | |
| bimodality_sarle | 0 | 0 | 0 | |
| boxplot_abundance | 0.062 | 0.000 | 0.062 | |
| chunk_reorder | 0 | 0 | 0 | |
| cmat2table | 0.057 | 0.000 | 0.057 | |
| collapse_replicates | 0.04 | 0.00 | 0.04 | |
| core | 0.035 | 0.000 | 0.035 | |
| core_abundance | 0.028 | 0.000 | 0.028 | |
| core_matrix | 0.000 | 0.000 | 0.001 | |
| core_members | 0.008 | 0.000 | 0.008 | |
| coverage | 0.022 | 0.004 | 0.025 | |
| default_colors | 0 | 0 | 0 | |
| densityplot | 0 | 0 | 0 | |
| divergence | 0.495 | 0.020 | 0.515 | |
| diversity | 0.011 | 0.000 | 0.012 | |
| dominance | 0.01 | 0.00 | 0.01 | |
| dominant | 0.009 | 0.000 | 0.009 | |
| estimate_stability | 0 | 0 | 0 | |
| evenness | 0.004 | 0.004 | 0.007 | |
| find_optima | 0 | 0 | 0 | |
| gktau | 0.012 | 0.000 | 0.012 | |
| group_age | 0.024 | 0.000 | 0.023 | |
| group_bmi | 0.001 | 0.000 | 0.000 | |
| heat | 0.049 | 0.000 | 0.048 | |
| hotplot | 0.102 | 0.004 | 0.106 | |
| inequality | 0.019 | 0.000 | 0.019 | |
| intermediate_stability | 0.396 | 0.004 | 0.399 | |
| is_compositional | 0.047 | 0.000 | 0.046 | |
| log_modulo_skewness | 0.099 | 0.000 | 0.099 | |
| low_abundance | 0.008 | 0.004 | 0.012 | |
| map_levels | 0.04 | 0.00 | 0.04 | |
| merge_taxa2 | 0.022 | 0.000 | 0.023 | |
| meta | 0.006 | 0.000 | 0.007 | |
| microbiome-package | 0.009 | 0.000 | 0.010 | |
| multimodality | 0 | 0 | 0 | |
| neat | 0.061 | 0.000 | 0.061 | |
| neatsort | 0.178 | 0.000 | 0.179 | |
| overlap | 15.407 | 0.220 | 15.628 | |
| plot_atlas | 0.043 | 0.000 | 0.043 | |
| plot_composition | 0.194 | 0.008 | 0.201 | |
| plot_core | 0.061 | 0.000 | 0.061 | |
| plot_density | 0.032 | 0.004 | 0.035 | |
| plot_frequencies | 0.028 | 0.000 | 0.027 | |
| plot_landscape | 0.745 | 0.004 | 0.748 | |
| plot_regression | 0.192 | 0.004 | 0.195 | |
| plot_taxa_prevalence | 0.256 | 0.008 | 0.264 | |
| plot_tipping | 0.085 | 0.000 | 0.086 | |
| potential_analysis | 0.031 | 0.000 | 0.032 | |
| potential_univariate | 0.000 | 0.000 | 0.001 | |
| prevalence | 0.012 | 0.000 | 0.012 | |
| quiet | 0.000 | 0.000 | 0.001 | |
| rare | 0.019 | 0.000 | 0.019 | |
| rare_abundance | 0.029 | 0.000 | 0.028 | |
| rare_members | 0.009 | 0.000 | 0.008 | |
| rarity | 0.078 | 0.004 | 0.081 | |
| read_biom2phyloseq | 0.001 | 0.000 | 0.000 | |
| read_csv2phyloseq | 0 | 0 | 0 | |
| read_mothur2phyloseq | 0 | 0 | 0 | |
| read_phyloseq | 0 | 0 | 0 | |
| readcount | 0.007 | 0.000 | 0.007 | |
| remove_samples | 0.013 | 0.000 | 0.013 | |
| remove_taxa | 0.016 | 0.000 | 0.015 | |
| richness | 0.010 | 0.000 | 0.009 | |
| spreadplot | 0.055 | 0.000 | 0.054 | |
| summarize_phyloseq | 0.016 | 0.000 | 0.016 | |
| taxa | 0.006 | 0.000 | 0.006 | |
| time_normalize | 0.030 | 0.000 | 0.029 | |
| time_sort | 0.104 | 0.000 | 0.104 | |
| timesplit | 0.094 | 0.000 | 0.094 | |
| top | 0.006 | 0.000 | 0.007 | |
| top_taxa | 0.007 | 0.000 | 0.007 | |
| transform | 0.051 | 0.000 | 0.050 | |
| ztransform | 0 | 0 | 0 | |