| Back to Multiple platform build/check report for BioC 3.14 |
|
This page was generated on 2022-04-13 12:06:53 -0400 (Wed, 13 Apr 2022).
| Hostname | OS | Arch (*) | R version | Installed pkgs |
|---|---|---|---|---|
| nebbiolo2 | Linux (Ubuntu 20.04.4 LTS) | x86_64 | 4.1.3 (2022-03-10) -- "One Push-Up" | 4324 |
| tokay2 | Windows Server 2012 R2 Standard | x64 | 4.1.3 (2022-03-10) -- "One Push-Up" | 4077 |
| machv2 | macOS 10.14.6 Mojave | x86_64 | 4.1.3 (2022-03-10) -- "One Push-Up" | 4137 |
| Click on any hostname to see more info about the system (e.g. compilers) (*) as reported by 'uname -p', except on Windows and Mac OS X | ||||
|
To the developers/maintainers of the microRNA package: - Please allow up to 24 hours (and sometimes 48 hours) for your latest push to git@git.bioconductor.org:packages/microRNA.git to reflect on this report. See How and When does the builder pull? When will my changes propagate? for more information. - Make sure to use the following settings in order to reproduce any error or warning you see on this page. |
| Package 1147/2083 | Hostname | OS / Arch | INSTALL | BUILD | CHECK | BUILD BIN | ||||||||
| microRNA 1.52.0 (landing page) "James F. Reid"
| nebbiolo2 | Linux (Ubuntu 20.04.4 LTS) / x86_64 | OK | OK | OK | |||||||||
| tokay2 | Windows Server 2012 R2 Standard / x64 | OK | OK | OK | OK | |||||||||
| machv2 | macOS 10.14.6 Mojave / x86_64 | OK | OK | OK | OK | |||||||||
| Package: microRNA |
| Version: 1.52.0 |
| Command: C:\cygwin\bin\curl.exe -O http://155.52.207.166/BBS/3.14/bioc/src/contrib/microRNA_1.52.0.tar.gz && rm -rf microRNA.buildbin-libdir && mkdir microRNA.buildbin-libdir && C:\Users\biocbuild\bbs-3.14-bioc\R\bin\R.exe CMD INSTALL --merge-multiarch --build --library=microRNA.buildbin-libdir microRNA_1.52.0.tar.gz && C:\Users\biocbuild\bbs-3.14-bioc\R\bin\R.exe CMD INSTALL microRNA_1.52.0.zip && rm microRNA_1.52.0.tar.gz microRNA_1.52.0.zip |
| StartedAt: 2022-04-12 04:55:26 -0400 (Tue, 12 Apr 2022) |
| EndedAt: 2022-04-12 04:57:12 -0400 (Tue, 12 Apr 2022) |
| EllapsedTime: 105.4 seconds |
| RetCode: 0 |
| Status: OK |
##############################################################################
##############################################################################
###
### Running command:
###
### C:\cygwin\bin\curl.exe -O http://155.52.207.166/BBS/3.14/bioc/src/contrib/microRNA_1.52.0.tar.gz && rm -rf microRNA.buildbin-libdir && mkdir microRNA.buildbin-libdir && C:\Users\biocbuild\bbs-3.14-bioc\R\bin\R.exe CMD INSTALL --merge-multiarch --build --library=microRNA.buildbin-libdir microRNA_1.52.0.tar.gz && C:\Users\biocbuild\bbs-3.14-bioc\R\bin\R.exe CMD INSTALL microRNA_1.52.0.zip && rm microRNA_1.52.0.tar.gz microRNA_1.52.0.zip
###
##############################################################################
##############################################################################
% Total % Received % Xferd Average Speed Time Time Time Current
Dload Upload Total Spent Left Speed
0 0 0 0 0 0 0 0 --:--:-- --:--:-- --:--:-- 0
0 0 0 0 0 0 0 0 --:--:-- --:--:-- --:--:-- 0
19 5885k 19 1174k 0 0 1127k 0 0:00:05 0:00:01 0:00:04 1127k
55 5885k 55 3261k 0 0 1597k 0 0:00:03 0:00:02 0:00:01 1597k
100 5885k 100 5885k 0 0 2011k 0 0:00:02 0:00:02 --:--:-- 2011k
install for i386
* installing *source* package 'microRNA' ...
** using staged installation
** libs
"C:/rtools40/mingw32/bin/"g++ -std=gnu++11 -I"C:/Users/BIOCBU~1/BBS-3~1.14-/R/include" -DNDEBUG -I"C:/extsoft/include" -O2 -Wall -mfpmath=sse -msse2 -mstackrealign -c longest_common_substring.cpp -o longest_common_substring.o
longest_common_substring.cpp: In function 'SEXPREC* longest_common_substring(SEXP)':
longest_common_substring.cpp:55:15: warning: comparison of integer expressions of different signedness: 'size_t' {aka 'unsigned int'} and '__gnu_cxx::__alloc_traits<std::allocator<int>, int>::value_type' {aka 'int'} [-Wsign-compare]
if (i == len[index] - 1) { // ignore null termination character
~~^~~~~~~~~~~~~~~~~
C:/rtools40/mingw32/bin/g++ -std=gnu++11 -shared -s -static-libgcc -o microRNA.dll tmp.def longest_common_substring.o -LC:/extsoft/lib/i386 -LC:/extsoft/lib -LC:/Users/BIOCBU~1/BBS-3~1.14-/R/bin/i386 -lR
installing to C:/Users/biocbuild/bbs-3.14-bioc/meat/microRNA.buildbin-libdir/00LOCK-microRNA/00new/microRNA/libs/i386
** R
** data
** inst
** byte-compile and prepare package for lazy loading
** help
*** installing help indices
converting help for package 'microRNA'
finding HTML links ... done
RNA2DNA html
get_selfhyb_subseq html
hsSeqs html
hsTargets html
matchSeeds html
mmSeqs html
mmTargets html
s3utr html
seedRegions html
** building package indices
** testing if installed package can be loaded from temporary location
** testing if installed package can be loaded from final location
** testing if installed package keeps a record of temporary installation path
install for x64
* installing *source* package 'microRNA' ...
** libs
"C:/rtools40/mingw64/bin/"g++ -std=gnu++11 -I"C:/Users/BIOCBU~1/BBS-3~1.14-/R/include" -DNDEBUG -I"C:/extsoft/include" -O2 -Wall -mfpmath=sse -msse2 -mstackrealign -c longest_common_substring.cpp -o longest_common_substring.o
longest_common_substring.cpp: In function 'SEXPREC* longest_common_substring(SEXP)':
longest_common_substring.cpp:55:15: warning: comparison of integer expressions of different signedness: 'size_t' {aka 'long long unsigned int'} and '__gnu_cxx::__alloc_traits<std::allocator<int>, int>::value_type' {aka 'int'} [-Wsign-compare]
if (i == len[index] - 1) { // ignore null termination character
~~^~~~~~~~~~~~~~~~~
C:/rtools40/mingw64/bin/g++ -std=gnu++11 -shared -s -static-libgcc -o microRNA.dll tmp.def longest_common_substring.o -LC:/extsoft/lib/x64 -LC:/extsoft/lib -LC:/Users/BIOCBU~1/BBS-3~1.14-/R/bin/x64 -lR
installing to C:/Users/biocbuild/bbs-3.14-bioc/meat/microRNA.buildbin-libdir/microRNA/libs/x64
** testing if installed package can be loaded
* MD5 sums
packaged installation of 'microRNA' as microRNA_1.52.0.zip
* DONE (microRNA)
* installing to library 'C:/Users/biocbuild/bbs-3.14-bioc/R/library'
package 'microRNA' successfully unpacked and MD5 sums checked