| Back to Multiple platform build/check report for BioC 3.14 |
|
This page was generated on 2022-04-13 12:05:37 -0400 (Wed, 13 Apr 2022).
| Hostname | OS | Arch (*) | R version | Installed pkgs |
|---|---|---|---|---|
| nebbiolo2 | Linux (Ubuntu 20.04.4 LTS) | x86_64 | 4.1.3 (2022-03-10) -- "One Push-Up" | 4324 |
| tokay2 | Windows Server 2012 R2 Standard | x64 | 4.1.3 (2022-03-10) -- "One Push-Up" | 4077 |
| machv2 | macOS 10.14.6 Mojave | x86_64 | 4.1.3 (2022-03-10) -- "One Push-Up" | 4137 |
| Click on any hostname to see more info about the system (e.g. compilers) (*) as reported by 'uname -p', except on Windows and Mac OS X | ||||
|
To the developers/maintainers of the miRSM package: - Please allow up to 24 hours (and sometimes 48 hours) for your latest push to git@git.bioconductor.org:packages/miRSM.git to reflect on this report. See How and When does the builder pull? When will my changes propagate? for more information. - Make sure to use the following settings in order to reproduce any error or warning you see on this page. |
| Package 1170/2083 | Hostname | OS / Arch | INSTALL | BUILD | CHECK | BUILD BIN | ||||||||
| miRSM 1.12.0 (landing page) Junpeng Zhang
| nebbiolo2 | Linux (Ubuntu 20.04.4 LTS) / x86_64 | OK | OK | OK | |||||||||
| tokay2 | Windows Server 2012 R2 Standard / x64 | OK | OK | OK | OK | |||||||||
| machv2 | macOS 10.14.6 Mojave / x86_64 | OK | OK | OK | OK | |||||||||
| Package: miRSM |
| Version: 1.12.0 |
| Command: /home/biocbuild/bbs-3.14-bioc/R/bin/R CMD check --install=check:miRSM.install-out.txt --library=/home/biocbuild/bbs-3.14-bioc/R/library --no-vignettes --timings miRSM_1.12.0.tar.gz |
| StartedAt: 2022-04-12 08:16:27 -0400 (Tue, 12 Apr 2022) |
| EndedAt: 2022-04-12 08:21:13 -0400 (Tue, 12 Apr 2022) |
| EllapsedTime: 285.2 seconds |
| RetCode: 0 |
| Status: OK |
| CheckDir: miRSM.Rcheck |
| Warnings: 0 |
############################################################################## ############################################################################## ### ### Running command: ### ### /home/biocbuild/bbs-3.14-bioc/R/bin/R CMD check --install=check:miRSM.install-out.txt --library=/home/biocbuild/bbs-3.14-bioc/R/library --no-vignettes --timings miRSM_1.12.0.tar.gz ### ############################################################################## ############################################################################## * using log directory ‘/home/biocbuild/bbs-3.14-bioc/meat/miRSM.Rcheck’ * using R version 4.1.3 (2022-03-10) * using platform: x86_64-pc-linux-gnu (64-bit) * using session charset: UTF-8 * using option ‘--no-vignettes’ * checking for file ‘miRSM/DESCRIPTION’ ... OK * checking extension type ... Package * this is package ‘miRSM’ version ‘1.12.0’ * package encoding: UTF-8 * checking package namespace information ... OK * checking package dependencies ... OK * checking if this is a source package ... OK * checking if there is a namespace ... OK * checking for hidden files and directories ... NOTE Found the following hidden files and directories: .BBSoptions These were most likely included in error. See section ‘Package structure’ in the ‘Writing R Extensions’ manual. * checking for portable file names ... OK * checking for sufficient/correct file permissions ... OK * checking whether package ‘miRSM’ can be installed ... OK * checking installed package size ... OK * checking package directory ... OK * checking ‘build’ directory ... OK * checking DESCRIPTION meta-information ... OK * checking top-level files ... OK * checking for left-over files ... OK * checking index information ... OK * checking package subdirectories ... OK * checking R files for non-ASCII characters ... OK * checking R files for syntax errors ... OK * checking whether the package can be loaded ... OK * checking whether the package can be loaded with stated dependencies ... OK * checking whether the package can be unloaded cleanly ... OK * checking whether the namespace can be loaded with stated dependencies ... OK * checking whether the namespace can be unloaded cleanly ... OK * checking dependencies in R code ... NOTE Namespace in Imports field not imported from: ‘org.Hs.eg.db’ All declared Imports should be used. * checking S3 generic/method consistency ... OK * checking replacement functions ... OK * checking foreign function calls ... OK * checking R code for possible problems ... OK * checking Rd files ... OK * checking Rd metadata ... OK * checking Rd cross-references ... OK * checking for missing documentation entries ... OK * checking for code/documentation mismatches ... OK * checking Rd \usage sections ... OK * checking Rd contents ... OK * checking for unstated dependencies in examples ... OK * checking contents of ‘data’ directory ... OK * checking data for non-ASCII characters ... OK * checking data for ASCII and uncompressed saves ... OK * checking line endings in C/C++/Fortran sources/headers ... OK * checking compiled code ... NOTE Note: information on .o files is not available * checking files in ‘vignettes’ ... OK * checking examples ... OK * checking for unstated dependencies in ‘tests’ ... OK * checking tests ... Running ‘test_miRSM.R’ OK * checking for unstated dependencies in vignettes ... OK * checking package vignettes in ‘inst/doc’ ... OK * checking running R code from vignettes ... SKIPPED * checking re-building of vignette outputs ... SKIPPED * checking PDF version of manual ... OK * DONE Status: 3 NOTEs See ‘/home/biocbuild/bbs-3.14-bioc/meat/miRSM.Rcheck/00check.log’ for details.
miRSM.Rcheck/00install.out
############################################################################## ############################################################################## ### ### Running command: ### ### /home/biocbuild/bbs-3.14-bioc/R/bin/R CMD INSTALL miRSM ### ############################################################################## ############################################################################## * installing to library ‘/home/biocbuild/bbs-3.14-bioc/R/library’ * installing *source* package ‘miRSM’ ... ** using staged installation ** libs gcc -I"/home/biocbuild/bbs-3.14-bioc/R/include" -DNDEBUG -I/usr/local/include -fpic -g -O2 -Wall -c complex.c -o complex.o gcc -I"/home/biocbuild/bbs-3.14-bioc/R/include" -DNDEBUG -I/usr/local/include -fpic -g -O2 -Wall -c registerDynamicSymbol.c -o registerDynamicSymbol.o gcc -shared -L/home/biocbuild/bbs-3.14-bioc/R/lib -L/usr/local/lib -o miRSM.so complex.o registerDynamicSymbol.o -L/home/biocbuild/bbs-3.14-bioc/R/lib -lR installing to /home/biocbuild/bbs-3.14-bioc/R/library/00LOCK-miRSM/00new/miRSM/libs ** R ** data ** inst ** byte-compile and prepare package for lazy loading ** help *** installing help indices ** building package indices ** installing vignettes ** testing if installed package can be loaded from temporary location ** checking absolute paths in shared objects and dynamic libraries ** testing if installed package can be loaded from final location ** testing if installed package keeps a record of temporary installation path * DONE (miRSM)
miRSM.Rcheck/tests/test_miRSM.Rout
R version 4.1.3 (2022-03-10) -- "One Push-Up"
Copyright (C) 2022 The R Foundation for Statistical Computing
Platform: x86_64-pc-linux-gnu (64-bit)
R is free software and comes with ABSOLUTELY NO WARRANTY.
You are welcome to redistribute it under certain conditions.
Type 'license()' or 'licence()' for distribution details.
R is a collaborative project with many contributors.
Type 'contributors()' for more information and
'citation()' on how to cite R or R packages in publications.
Type 'demo()' for some demos, 'help()' for on-line help, or
'help.start()' for an HTML browser interface to help.
Type 'q()' to quit R.
> library(testthat)
> library(GSEABase)
Loading required package: BiocGenerics
Attaching package: 'BiocGenerics'
The following objects are masked from 'package:stats':
IQR, mad, sd, var, xtabs
The following objects are masked from 'package:base':
Filter, Find, Map, Position, Reduce, anyDuplicated, append,
as.data.frame, basename, cbind, colnames, dirname, do.call,
duplicated, eval, evalq, get, grep, grepl, intersect, is.unsorted,
lapply, mapply, match, mget, order, paste, pmax, pmax.int, pmin,
pmin.int, rank, rbind, rownames, sapply, setdiff, sort, table,
tapply, union, unique, unsplit, which.max, which.min
Loading required package: Biobase
Welcome to Bioconductor
Vignettes contain introductory material; view with
'browseVignettes()'. To cite Bioconductor, see
'citation("Biobase")', and for packages 'citation("pkgname")'.
Loading required package: annotate
Loading required package: AnnotationDbi
Loading required package: stats4
Loading required package: IRanges
Loading required package: S4Vectors
Attaching package: 'S4Vectors'
The following objects are masked from 'package:base':
I, expand.grid, unname
Loading required package: XML
Loading required package: graph
Attaching package: 'graph'
The following object is masked from 'package:XML':
addNode
> library(miRSM)
+----------------------------+
|............................|
|............................|
|..............########......| ####### # ###### ### #
|..............########......| # # # # # # # #
|.....####.....########......| # # # # # # # #
|.....####.....########......| ##### # # ###### # # #
|.....####...................| # ####### # # # #######
|.....####...........###.....| # # # # # # # #
|....................###.....| # # # ###### ### # #
|....................###.....|
|............................|
+----------------------------+
Citation: S. Hochreiter et al.,
FABIA: Factor Analysis for Bicluster Acquisition,
Bioinformatics 26(12):1520-1527, 2010.
BibTex: enter 'toBibtex(citation("fabia"))'
Homepage: http://www.bioinf.jku.at/software/fabia/fabia.html
FABIA Package Version 2.40.0
>
> # Load datasets
> data(BRCASampleData)
>
> # Identify gene co-expression modules using igraph method
> modulegenes_igraph <- module_igraph(ceRExp[, seq_len(10)],
+ mRExp[, seq_len(10)])
>
>
> test_that("Test miRSM", {
+ expect_equal(geneIds(module_igraph(ceRExp[, seq_len(10)],
+ mRExp[, seq_len(10)])), geneIds(modulegenes_igraph))
+ })
Test passed 🥳
>
> proc.time()
user system elapsed
12.026 0.735 12.732
miRSM.Rcheck/miRSM-Ex.timings
| name | user | system | elapsed | |
| cor_binary | 0.279 | 0.016 | 0.296 | |
| miRSM | 0.236 | 0.007 | 0.244 | |
| module_CEA | 3.933 | 0.128 | 4.057 | |
| module_Coexpress | 3.151 | 0.088 | 3.236 | |
| module_FA | 0 | 0 | 0 | |
| module_GFA | 3.120 | 0.103 | 3.222 | |
| module_NMF | 2.722 | 0.227 | 2.960 | |
| module_ProNet | 0.151 | 0.008 | 0.159 | |
| module_Validate | 2.472 | 0.021 | 2.490 | |
| module_WGCNA | 1.804 | 0.035 | 1.839 | |
| module_biclust | 0.377 | 0.005 | 0.381 | |
| module_clust | 0.130 | 0.007 | 0.138 | |
| module_igraph | 0.125 | 0.001 | 0.125 | |
| module_miRdistribute | 2.486 | 0.123 | 2.606 | |
| module_miRsponge | 2.654 | 0.136 | 2.786 | |
| module_miRtarget | 2.604 | 0.068 | 2.668 | |
| share_miRs | 2.586 | 0.072 | 2.655 | |