| Back to Multiple platform build/check report for BioC 3.14 |
|
This page was generated on 2022-04-13 12:05:35 -0400 (Wed, 13 Apr 2022).
| Hostname | OS | Arch (*) | R version | Installed pkgs |
|---|---|---|---|---|
| nebbiolo2 | Linux (Ubuntu 20.04.4 LTS) | x86_64 | 4.1.3 (2022-03-10) -- "One Push-Up" | 4324 |
| tokay2 | Windows Server 2012 R2 Standard | x64 | 4.1.3 (2022-03-10) -- "One Push-Up" | 4077 |
| machv2 | macOS 10.14.6 Mojave | x86_64 | 4.1.3 (2022-03-10) -- "One Push-Up" | 4137 |
| Click on any hostname to see more info about the system (e.g. compilers) (*) as reported by 'uname -p', except on Windows and Mac OS X | ||||
|
To the developers/maintainers of the metagene package: - Please allow up to 24 hours (and sometimes 48 hours) for your latest push to git@git.bioconductor.org:packages/metagene.git to reflect on this report. See How and When does the builder pull? When will my changes propagate? for more information. - Make sure to use the following settings in order to reproduce any error or warning you see on this page. |
| Package 1097/2083 | Hostname | OS / Arch | INSTALL | BUILD | CHECK | BUILD BIN | ||||||||
| metagene 2.26.0 (landing page) Charles Joly Beauparlant
| nebbiolo2 | Linux (Ubuntu 20.04.4 LTS) / x86_64 | OK | OK | OK | |||||||||
| tokay2 | Windows Server 2012 R2 Standard / x64 | OK | OK | OK | OK | |||||||||
| machv2 | macOS 10.14.6 Mojave / x86_64 | OK | OK | OK | OK | |||||||||
| Package: metagene |
| Version: 2.26.0 |
| Command: /home/biocbuild/bbs-3.14-bioc/R/bin/R CMD check --install=check:metagene.install-out.txt --library=/home/biocbuild/bbs-3.14-bioc/R/library --no-vignettes --timings metagene_2.26.0.tar.gz |
| StartedAt: 2022-04-12 08:08:21 -0400 (Tue, 12 Apr 2022) |
| EndedAt: 2022-04-12 08:13:26 -0400 (Tue, 12 Apr 2022) |
| EllapsedTime: 305.2 seconds |
| RetCode: 0 |
| Status: OK |
| CheckDir: metagene.Rcheck |
| Warnings: 0 |
##############################################################################
##############################################################################
###
### Running command:
###
### /home/biocbuild/bbs-3.14-bioc/R/bin/R CMD check --install=check:metagene.install-out.txt --library=/home/biocbuild/bbs-3.14-bioc/R/library --no-vignettes --timings metagene_2.26.0.tar.gz
###
##############################################################################
##############################################################################
* using log directory ‘/home/biocbuild/bbs-3.14-bioc/meat/metagene.Rcheck’
* using R version 4.1.3 (2022-03-10)
* using platform: x86_64-pc-linux-gnu (64-bit)
* using session charset: UTF-8
* using option ‘--no-vignettes’
* checking for file ‘metagene/DESCRIPTION’ ... OK
* this is package ‘metagene’ version ‘2.26.0’
* checking package namespace information ... OK
* checking package dependencies ... OK
* checking if this is a source package ... OK
* checking if there is a namespace ... OK
* checking for hidden files and directories ... OK
* checking for portable file names ... OK
* checking for sufficient/correct file permissions ... OK
* checking whether package ‘metagene’ can be installed ... OK
* checking installed package size ... NOTE
installed size is 7.2Mb
sub-directories of 1Mb or more:
extdata 5.4Mb
* checking package directory ... OK
* checking ‘build’ directory ... OK
* checking DESCRIPTION meta-information ... NOTE
Package listed in more than one of Depends, Imports, Suggests, Enhances:
‘similaRpeak’
A package should be listed in only one of these fields.
* checking top-level files ... OK
* checking for left-over files ... OK
* checking index information ... OK
* checking package subdirectories ... OK
* checking R files for non-ASCII characters ... OK
* checking R files for syntax errors ... OK
* checking whether the package can be loaded ... OK
* checking whether the package can be loaded with stated dependencies ... OK
* checking whether the package can be unloaded cleanly ... OK
* checking whether the namespace can be loaded with stated dependencies ... OK
* checking whether the namespace can be unloaded cleanly ... OK
* checking dependencies in R code ... OK
* checking S3 generic/method consistency ... OK
* checking replacement functions ... OK
* checking foreign function calls ... OK
* checking R code for possible problems ... NOTE
NCIS.internal: no visible global function definition for
'est.norm.med.search'
avoid_gaps_update: no visible binding for global variable 'value'
avoid_gaps_update: no visible binding for global variable 'bam'
avoid_gaps_update: no visible binding for global variable 'tab'
avoid_gaps_update: no visible binding for global variable 'nuc'
bin.data: no visible global function definition for 'hist'
permutation_test: no visible global function definition for '.'
permutation_test: no visible binding for global variable 'value'
plot_metagene: no visible binding for global variable 'bin'
plot_metagene: no visible binding for global variable 'value'
plot_metagene: no visible binding for global variable 'qinf'
plot_metagene: no visible binding for global variable 'qsup'
plot_metagene: no visible binding for global variable 'group'
plot_metagene: no visible binding for global variable 'nuc'
plot_metagene: no visible binding for global variable 'design'
plot_metagene: no visible binding for global variable 'nuctot'
Undefined global functions or variables:
. bam bin design est.norm.med.search group hist nuc nuctot qinf qsup
tab value
Consider adding
importFrom("graphics", "hist")
to your NAMESPACE file.
* checking Rd files ... OK
* checking Rd metadata ... OK
* checking Rd cross-references ... OK
* checking for missing documentation entries ... OK
* checking for code/documentation mismatches ... OK
* checking Rd \usage sections ... OK
* checking Rd contents ... OK
* checking for unstated dependencies in examples ... OK
* checking contents of ‘data’ directory ... OK
* checking data for non-ASCII characters ... OK
* checking LazyData ... OK
* checking data for ASCII and uncompressed saves ... OK
* checking R/sysdata.rda ... OK
* checking line endings in Makefiles ... OK
* checking for GNU extensions in Makefiles ... OK
* checking include directives in Makefiles ... OK
* checking files in ‘vignettes’ ... OK
* checking examples ... OK
* checking for unstated dependencies in ‘tests’ ... OK
* checking tests ...
Running ‘runTests.R’
OK
* checking for unstated dependencies in vignettes ... OK
* checking package vignettes in ‘inst/doc’ ... OK
* checking running R code from vignettes ... SKIPPED
* checking re-building of vignette outputs ... SKIPPED
* checking PDF version of manual ... OK
* DONE
Status: 3 NOTEs
See
‘/home/biocbuild/bbs-3.14-bioc/meat/metagene.Rcheck/00check.log’
for details.
metagene.Rcheck/00install.out
############################################################################## ############################################################################## ### ### Running command: ### ### /home/biocbuild/bbs-3.14-bioc/R/bin/R CMD INSTALL metagene ### ############################################################################## ############################################################################## * installing to library ‘/home/biocbuild/bbs-3.14-bioc/R/library’ * installing *source* package ‘metagene’ ... ** using staged installation ** R ** data *** moving datasets to lazyload DB ** inst ** byte-compile and prepare package for lazy loading ** help *** installing help indices ** building package indices ** installing vignettes ** testing if installed package can be loaded from temporary location ** testing if installed package can be loaded from final location ** testing if installed package keeps a record of temporary installation path * DONE (metagene)
metagene.Rcheck/tests/runTests.Rout
R version 4.1.3 (2022-03-10) -- "One Push-Up"
Copyright (C) 2022 The R Foundation for Statistical Computing
Platform: x86_64-pc-linux-gnu (64-bit)
R is free software and comes with ABSOLUTELY NO WARRANTY.
You are welcome to redistribute it under certain conditions.
Type 'license()' or 'licence()' for distribution details.
R is a collaborative project with many contributors.
Type 'contributors()' for more information and
'citation()' on how to cite R or R packages in publications.
Type 'demo()' for some demos, 'help()' for on-line help, or
'help.start()' for an HTML browser interface to help.
Type 'q()' to quit R.
> ## Run all tests in the metagene package
> BiocGenerics:::testPackage("metagene")
Attaching package: 'BiocGenerics'
The following objects are masked from 'package:stats':
IQR, mad, sd, var, xtabs
The following objects are masked from 'package:base':
Filter, Find, Map, Position, Reduce, anyDuplicated, append,
as.data.frame, basename, cbind, colnames, dirname, do.call,
duplicated, eval, evalq, get, grep, grepl, intersect, is.unsorted,
lapply, mapply, match, mget, order, paste, pmax, pmax.int, pmin,
pmin.int, rank, rbind, rownames, sapply, setdiff, sort, table,
tapply, union, unique, unsplit, which.max, which.min
Attaching package: 'S4Vectors'
The following objects are masked from 'package:base':
I, expand.grid, unname
produce data table : ChIP-Seq
produce data frame : ChIP-Seq
produce data table : ChIP-Seq
produce data frame : ChIP-Seq
produce data table : ChIP-Seq
produce data frame : ChIP-Seq
produce data table : ChIP-Seq
produce data frame : ChIP-Seq
produce data table : ChIP-Seq
produce data frame : ChIP-Seq
produce data table : ChIP-Seq
produce data frame : ChIP-Seq
produce data table : ChIP-Seq
produce data frame : ChIP-Seq
produce data table : ChIP-Seq
produce data frame : ChIP-Seq
produce data table : ChIP-Seq
produce data frame : ChIP-Seq
produce data table : ChIP-Seq
produce data frame : ChIP-Seq
produce data table : ChIP-Seq
produce data frame : ChIP-Seq
produce data table : ChIP-Seq
produce data frame : ChIP-Seq
produce data table : ChIP-Seq
produce data table : ChIP-Seq
produce data table : ChIP-Seq
produce data table : ChIP-Seq
produce data frame : ChIP-Seq
[1] TRUE
produce data table : ChIP-Seq
produce data table : ChIP-Seq
produce data table : ChIP-Seq
produce data table : ChIP-Seq
produce data table : ChIP-Seq
produce data table : ChIP-Seq
ChIP-Seq flip/unflip
Normalization done
produce data table : ChIP-Seq
[1] TRUE
produce data table : ChIP-Seq
[1] TRUE
produce data table : ChIP-Seq
[1] TRUE
produce data table : ChIP-Seq
[1] TRUE
produce data table : ChIP-Seq
[1] TRUE
produce data table : ChIP-Seq
produce data table : ChIP-Seq
ChIP-Seq flip/unflip
ChIP-Seq flip/unflip
produce data table : ChIP-Seq
produce data table : ChIP-Seq
produce data table : ChIP-Seq
produce data table : ChIP-Seq
produce data table : ChIP-Seq
produce data table : ChIP-Seq
produce data table : ChIP-Seq
produce data table : ChIP-Seq
produce data table : ChIP-Seq
produce data table : ChIP-Seq
[1] TRUE
RUNIT TEST PROTOCOL -- Tue Apr 12 08:13:24 2022
***********************************************
Number of test functions: 218
Number of errors: 0
Number of failures: 0
1 Test Suite :
metagene RUnit Tests - 218 test functions, 0 errors, 0 failures
Number of test functions: 218
Number of errors: 0
Number of failures: 0
There were 13 warnings (use warnings() to see them)
>
> proc.time()
user system elapsed
70.114 2.069 70.934
metagene.Rcheck/metagene-Ex.timings
| name | user | system | elapsed | |
| Bam_Handler | 0.101 | 0.001 | 0.103 | |
| avoid_gaps_update | 0 | 0 | 0 | |
| bed_file_filter | 0 | 0 | 0 | |
| exon_by_gene_with_observed_transcripts | 0.000 | 0.000 | 0.001 | |
| get_demo_bam_files | 0.000 | 0.002 | 0.002 | |
| get_demo_design | 0.000 | 0.002 | 0.002 | |
| get_demo_metagene | 1.611 | 0.094 | 1.708 | |
| get_demo_regions | 0.001 | 0.000 | 0.001 | |
| get_promoters_txdb | 0 | 0 | 0 | |
| metagene | 0.297 | 0.004 | 0.301 | |
| permutation_test | 0.001 | 0.000 | 0.000 | |
| plot_metagene | 1.633 | 0.084 | 1.694 | |
| promoters_hg18 | 0.002 | 0.000 | 0.002 | |
| promoters_hg19 | 0.001 | 0.000 | 0.000 | |
| promoters_mm10 | 0.001 | 0.000 | 0.000 | |
| promoters_mm9 | 0.001 | 0.000 | 0.001 | |
| write_bed_file_filter_result | 0 | 0 | 0 | |