| Back to Multiple platform build/check report for BioC 3.14 |
|
This page was generated on 2022-04-13 12:05:34 -0400 (Wed, 13 Apr 2022).
| Hostname | OS | Arch (*) | R version | Installed pkgs |
|---|---|---|---|---|
| nebbiolo2 | Linux (Ubuntu 20.04.4 LTS) | x86_64 | 4.1.3 (2022-03-10) -- "One Push-Up" | 4324 |
| tokay2 | Windows Server 2012 R2 Standard | x64 | 4.1.3 (2022-03-10) -- "One Push-Up" | 4077 |
| machv2 | macOS 10.14.6 Mojave | x86_64 | 4.1.3 (2022-03-10) -- "One Push-Up" | 4137 |
| Click on any hostname to see more info about the system (e.g. compilers) (*) as reported by 'uname -p', except on Windows and Mac OS X | ||||
|
To the developers/maintainers of the memes package: - Please allow up to 24 hours (and sometimes 48 hours) for your latest push to git@git.bioconductor.org:packages/memes.git to reflect on this report. See How and When does the builder pull? When will my changes propagate? for more information. - Make sure to use the following settings in order to reproduce any error or warning you see on this page. |
| Package 1082/2083 | Hostname | OS / Arch | INSTALL | BUILD | CHECK | BUILD BIN | ||||||||
| memes 1.2.5 (landing page) Spencer Nystrom
| nebbiolo2 | Linux (Ubuntu 20.04.4 LTS) / x86_64 | OK | OK | OK | |||||||||
| tokay2 | Windows Server 2012 R2 Standard / x64 | OK | OK | OK | OK | |||||||||
| machv2 | macOS 10.14.6 Mojave / x86_64 | OK | OK | OK | OK | |||||||||
| Package: memes |
| Version: 1.2.5 |
| Command: /home/biocbuild/bbs-3.14-bioc/R/bin/R CMD check --install=check:memes.install-out.txt --library=/home/biocbuild/bbs-3.14-bioc/R/library --no-vignettes --timings memes_1.2.5.tar.gz |
| StartedAt: 2022-04-12 08:06:47 -0400 (Tue, 12 Apr 2022) |
| EndedAt: 2022-04-12 08:08:32 -0400 (Tue, 12 Apr 2022) |
| EllapsedTime: 104.9 seconds |
| RetCode: 0 |
| Status: OK |
| CheckDir: memes.Rcheck |
| Warnings: 0 |
##############################################################################
##############################################################################
###
### Running command:
###
### /home/biocbuild/bbs-3.14-bioc/R/bin/R CMD check --install=check:memes.install-out.txt --library=/home/biocbuild/bbs-3.14-bioc/R/library --no-vignettes --timings memes_1.2.5.tar.gz
###
##############################################################################
##############################################################################
* using log directory ‘/home/biocbuild/bbs-3.14-bioc/meat/memes.Rcheck’
* using R version 4.1.3 (2022-03-10)
* using platform: x86_64-pc-linux-gnu (64-bit)
* using session charset: UTF-8
* using option ‘--no-vignettes’
* checking for file ‘memes/DESCRIPTION’ ... OK
* checking extension type ... Package
* this is package ‘memes’ version ‘1.2.5’
* package encoding: UTF-8
* checking package namespace information ... OK
* checking package dependencies ... OK
* checking if this is a source package ... OK
* checking if there is a namespace ... OK
* checking for hidden files and directories ... OK
* checking for portable file names ... OK
* checking for sufficient/correct file permissions ... OK
* checking whether package ‘memes’ can be installed ... OK
* checking installed package size ... OK
* checking package directory ... OK
* checking ‘build’ directory ... OK
* checking DESCRIPTION meta-information ... OK
* checking top-level files ... OK
* checking for left-over files ... OK
* checking index information ... OK
* checking package subdirectories ... OK
* checking R files for non-ASCII characters ... OK
* checking R files for syntax errors ... OK
* checking whether the package can be loaded ... OK
* checking whether the package can be loaded with stated dependencies ... OK
* checking whether the package can be unloaded cleanly ... OK
* checking whether the namespace can be loaded with stated dependencies ... OK
* checking whether the namespace can be unloaded cleanly ... OK
* checking dependencies in R code ... OK
* checking S3 generic/method consistency ... OK
* checking replacement functions ... OK
* checking foreign function calls ... OK
* checking R code for possible problems ... OK
* checking Rd files ... OK
* checking Rd metadata ... OK
* checking Rd cross-references ... OK
* checking for missing documentation entries ... OK
* checking for code/documentation mismatches ... OK
* checking Rd \usage sections ... OK
* checking Rd contents ... OK
* checking for unstated dependencies in examples ... OK
* checking contents of ‘data’ directory ... OK
* checking data for non-ASCII characters ... OK
* checking LazyData ... OK
* checking data for ASCII and uncompressed saves ... OK
* checking files in ‘vignettes’ ... OK
* checking examples ... OK
Examples with CPU (user + system) or elapsed time > 5s
user system elapsed
add_sequence 6.552 0.284 6.836
* checking for unstated dependencies in vignettes ... OK
* checking package vignettes in ‘inst/doc’ ... OK
* checking running R code from vignettes ... SKIPPED
* checking re-building of vignette outputs ... SKIPPED
* checking PDF version of manual ... OK
* DONE
Status: OK
memes.Rcheck/00install.out
############################################################################## ############################################################################## ### ### Running command: ### ### /home/biocbuild/bbs-3.14-bioc/R/bin/R CMD INSTALL memes ### ############################################################################## ############################################################################## * installing to library ‘/home/biocbuild/bbs-3.14-bioc/R/library’ * installing *source* package ‘memes’ ... ** using staged installation ** R ** data *** moving datasets to lazyload DB ** inst ** byte-compile and prepare package for lazy loading ** help *** installing help indices *** copying figures ** building package indices ** installing vignettes ** testing if installed package can be loaded from temporary location ** testing if installed package can be loaded from final location ** testing if installed package keeps a record of temporary installation path * DONE (memes)
memes.Rcheck/memes-Ex.timings
| name | user | system | elapsed | |
| add_sequence | 6.552 | 0.284 | 6.836 | |
| ame_compare_heatmap_methods | 0.680 | 0.095 | 0.776 | |
| check_meme_install | 0.345 | 0.043 | 0.389 | |
| drop_best_match | 0.006 | 0.001 | 0.006 | |
| example_ame | 0.049 | 0.003 | 0.053 | |
| example_ame_large | 0.049 | 0.004 | 0.053 | |
| force_best_match | 0.010 | 0.003 | 0.014 | |
| get_sequence | 0.357 | 0.020 | 0.384 | |
| has_duplicate_motifs | 0.158 | 0.008 | 0.166 | |
| importAme | 0.175 | 0.057 | 0.229 | |
| importDremeXML | 0.241 | 0.008 | 0.249 | |
| importFimo | 0.067 | 0.020 | 0.078 | |
| importMeme | 0.105 | 0.003 | 0.109 | |
| importStremeXML | 0.169 | 0.000 | 0.170 | |
| importTomTomXML | 0.339 | 0.004 | 0.343 | |
| meme_is_installed | 0.013 | 0.000 | 0.013 | |
| nest_tomtom | 0.013 | 0.000 | 0.013 | |
| plot_ame_heatmap | 0.278 | 0.000 | 0.278 | |
| plot_sequence_heatmap | 2.287 | 0.028 | 2.315 | |
| remove_duplicate_motifs | 0.003 | 0.000 | 0.003 | |
| runAme | 0.016 | 0.000 | 0.016 | |
| runDreme | 0.015 | 0.000 | 0.015 | |
| runFimo | 0.011 | 0.004 | 0.015 | |
| runMeme | 0.014 | 0.000 | 0.015 | |
| runTomTom | 0.015 | 0.000 | 0.014 | |
| update_best_match | 0.099 | 0.000 | 0.099 | |
| view_tomtom_hits | 0.773 | 0.000 | 0.773 | |
| write_fasta | 0.003 | 0.000 | 0.003 | |