| Back to Multiple platform build/check report for BioC 3.14 |
|
This page was generated on 2022-04-13 12:05:34 -0400 (Wed, 13 Apr 2022).
| Hostname | OS | Arch (*) | R version | Installed pkgs |
|---|---|---|---|---|
| nebbiolo2 | Linux (Ubuntu 20.04.4 LTS) | x86_64 | 4.1.3 (2022-03-10) -- "One Push-Up" | 4324 |
| tokay2 | Windows Server 2012 R2 Standard | x64 | 4.1.3 (2022-03-10) -- "One Push-Up" | 4077 |
| machv2 | macOS 10.14.6 Mojave | x86_64 | 4.1.3 (2022-03-10) -- "One Push-Up" | 4137 |
| Click on any hostname to see more info about the system (e.g. compilers) (*) as reported by 'uname -p', except on Windows and Mac OS X | ||||
|
To the developers/maintainers of the mbkmeans package: - Please allow up to 24 hours (and sometimes 48 hours) for your latest push to git@git.bioconductor.org:packages/mbkmeans.git to reflect on this report. See How and When does the builder pull? When will my changes propagate? for more information. - Make sure to use the following settings in order to reproduce any error or warning you see on this page. |
| Package 1064/2083 | Hostname | OS / Arch | INSTALL | BUILD | CHECK | BUILD BIN | ||||||||
| mbkmeans 1.10.0 (landing page) Davide Risso
| nebbiolo2 | Linux (Ubuntu 20.04.4 LTS) / x86_64 | OK | OK | OK | |||||||||
| tokay2 | Windows Server 2012 R2 Standard / x64 | OK | OK | OK | OK | |||||||||
| machv2 | macOS 10.14.6 Mojave / x86_64 | OK | OK | OK | OK | |||||||||
| Package: mbkmeans |
| Version: 1.10.0 |
| Command: /home/biocbuild/bbs-3.14-bioc/R/bin/R CMD INSTALL mbkmeans |
| StartedAt: 2022-04-12 03:24:27 -0400 (Tue, 12 Apr 2022) |
| EndedAt: 2022-04-12 03:25:18 -0400 (Tue, 12 Apr 2022) |
| EllapsedTime: 51.0 seconds |
| RetCode: 0 |
| Status: OK |
##############################################################################
##############################################################################
###
### Running command:
###
### /home/biocbuild/bbs-3.14-bioc/R/bin/R CMD INSTALL mbkmeans
###
##############################################################################
##############################################################################
* installing to library ‘/home/biocbuild/bbs-3.14-bioc/R/library’
* installing *source* package ‘mbkmeans’ ...
** using staged installation
** libs
g++ -std=gnu++11 -I"/home/biocbuild/bbs-3.14-bioc/R/include" -DNDEBUG -I'/home/biocbuild/bbs-3.14-bioc/R/library/Rcpp/include' -I'/home/biocbuild/bbs-3.14-bioc/R/library/RcppArmadillo/include' -I'/home/biocbuild/bbs-3.14-bioc/R/library/Rhdf5lib/include' -I'/home/biocbuild/bbs-3.14-bioc/R/library/beachmat/include' -I'/home/biocbuild/bbs-3.14-bioc/R/library/ClusterR/include' -I/usr/local/include -fpic -g -O2 -Wall -c RcppExports.cpp -o RcppExports.o
g++ -std=gnu++11 -I"/home/biocbuild/bbs-3.14-bioc/R/include" -DNDEBUG -I'/home/biocbuild/bbs-3.14-bioc/R/library/Rcpp/include' -I'/home/biocbuild/bbs-3.14-bioc/R/library/RcppArmadillo/include' -I'/home/biocbuild/bbs-3.14-bioc/R/library/Rhdf5lib/include' -I'/home/biocbuild/bbs-3.14-bioc/R/library/beachmat/include' -I'/home/biocbuild/bbs-3.14-bioc/R/library/ClusterR/include' -I/usr/local/include -fpic -g -O2 -Wall -c mini_batch.cpp -o mini_batch.o
In file included from mini_batch.cpp:3:
/home/biocbuild/bbs-3.14-bioc/R/library/ClusterR/include/ClusterRHeader.h: In member function ‘arma::mat clustR::ClustHeader::KMEANS_arma(arma::mat&, int, int, bool, std::string, Rcpp::Nullable<Rcpp::Matrix<14> >, int)’:
/home/biocbuild/bbs-3.14-bioc/R/library/ClusterR/include/ClusterRHeader.h:926:14: warning: variable ‘status’ set but not used [-Wunused-but-set-variable]
926 | bool status;
| ^~~~~~
/home/biocbuild/bbs-3.14-bioc/R/library/ClusterR/include/ClusterRHeader.h: In member function ‘Rcpp::List clustR::ClustHeader::GMM_arma(arma::mat&, int, std::string, std::string, int, int, bool, double, int)’:
/home/biocbuild/bbs-3.14-bioc/R/library/ClusterR/include/ClusterRHeader.h:1522:14: warning: variable ‘status’ set but not used [-Wunused-but-set-variable]
1522 | bool status;
| ^~~~~~
g++ -std=gnu++11 -shared -L/home/biocbuild/bbs-3.14-bioc/R/lib -L/usr/local/lib -o mbkmeans.so RcppExports.o mini_batch.o -L/home/biocbuild/bbs-3.14-bioc/R/lib -lR
installing to /home/biocbuild/bbs-3.14-bioc/R/library/00LOCK-mbkmeans/00new/mbkmeans/libs
** R
** inst
** byte-compile and prepare package for lazy loading
** help
*** installing help indices
** building package indices
** installing vignettes
** testing if installed package can be loaded from temporary location
** checking absolute paths in shared objects and dynamic libraries
** testing if installed package can be loaded from final location
** testing if installed package keeps a record of temporary installation path
* DONE (mbkmeans)