| Back to Multiple platform build/check report for BioC 3.14 | 
 | 
This page was generated on 2022-04-13 12:06:49 -0400 (Wed, 13 Apr 2022).
| Hostname | OS | Arch (*) | R version | Installed pkgs | 
|---|---|---|---|---|
| nebbiolo2 | Linux (Ubuntu 20.04.4 LTS) | x86_64 | 4.1.3 (2022-03-10) -- "One Push-Up" | 4324 | 
| tokay2 | Windows Server 2012 R2 Standard | x64 | 4.1.3 (2022-03-10) -- "One Push-Up" | 4077 | 
| machv2 | macOS 10.14.6 Mojave | x86_64 | 4.1.3 (2022-03-10) -- "One Push-Up" | 4137 | 
| Click on any hostname to see more info about the system (e.g. compilers) (*) as reported by 'uname -p', except on Windows and Mac OS X | ||||
| To the developers/maintainers of the marr package: - Please allow up to 24 hours (and sometimes 48 hours) for your latest push to git@git.bioconductor.org:packages/marr.git to reflect on this report. See How and When does the builder pull? When will my changes propagate? for more information. - Make sure to use the following settings in order to reproduce any error or warning you see on this page. | 
| Package 1046/2083 | Hostname | OS / Arch | INSTALL | BUILD | CHECK | BUILD BIN | ||||||||
| marr 1.4.0  (landing page) Tusharkanti Ghosh 
 | nebbiolo2 | Linux (Ubuntu 20.04.4 LTS) / x86_64 | OK | OK | OK |  | ||||||||
| tokay2 | Windows Server 2012 R2 Standard / x64 | OK | OK | OK | OK |  | ||||||||
| machv2 | macOS 10.14.6 Mojave / x86_64 | OK | OK | OK | OK |  | ||||||||
| Package: marr | 
| Version: 1.4.0 | 
| Command: rm -rf marr.buildbin-libdir && mkdir marr.buildbin-libdir && C:\Users\biocbuild\bbs-3.14-bioc\R\bin\R.exe CMD INSTALL --merge-multiarch --build --library=marr.buildbin-libdir marr_1.4.0.tar.gz | 
| StartedAt: 2022-04-13 06:31:07 -0400 (Wed, 13 Apr 2022) | 
| EndedAt: 2022-04-13 06:32:10 -0400 (Wed, 13 Apr 2022) | 
| EllapsedTime: 63.1 seconds | 
| RetCode: 0 | 
| Status: OK | 
| PackageFile: marr_1.4.0.zip | 
| PackageFileSize: 1.434 MiB | 
##############################################################################
##############################################################################
###
### Running command:
###
###   rm -rf marr.buildbin-libdir && mkdir marr.buildbin-libdir && C:\Users\biocbuild\bbs-3.14-bioc\R\bin\R.exe CMD INSTALL --merge-multiarch --build --library=marr.buildbin-libdir marr_1.4.0.tar.gz
###
##############################################################################
##############################################################################
install for i386
* installing *source* package 'marr' ...
** using staged installation
** libs
"C:/rtools40/mingw32/bin/"g++ -std=gnu++11  -I"C:/Users/BIOCBU~1/BBS-3~1.14-/R/include" -DNDEBUG  -I'C:/Users/biocbuild/bbs-3.14-bioc/R/library/Rcpp/include'   -I"C:/extsoft/include"     -O2 -Wall  -mfpmath=sse -msse2 -mstackrealign  -c RcppExports.cpp -o RcppExports.o
"C:/rtools40/mingw32/bin/"g++ -std=gnu++11  -I"C:/Users/BIOCBU~1/BBS-3~1.14-/R/include" -DNDEBUG  -I'C:/Users/biocbuild/bbs-3.14-bioc/R/library/Rcpp/include'   -I"C:/extsoft/include"     -O2 -Wall  -mfpmath=sse -msse2 -mstackrealign  -c marrUtility.cpp -o marrUtility.o
marrUtility.cpp: In function 'Rcpp::NumericVector getSS(Rcpp::NumericVector)':
marrUtility.cpp:75:7: warning: variable 'i' set but not used [-Wunused-but-set-variable]
   int i=0;
       ^
C:/rtools40/mingw32/bin/g++ -std=gnu++11 -shared -s -static-libgcc -o marr.dll tmp.def RcppExports.o marrUtility.o -LC:/extsoft/lib/i386 -LC:/extsoft/lib -LC:/Users/BIOCBU~1/BBS-3~1.14-/R/bin/i386 -lR
installing to C:/Users/biocbuild/bbs-3.14-bioc/meat/marr.buildbin-libdir/00LOCK-marr/00new/marr/libs/i386
** R
** data
** inst
** byte-compile and prepare package for lazy loading
** help
*** installing help indices
  converting help for package 'marr'
    finding HTML links ... done
    Marr-class                              html  
    Marr                                    html  
    MarrAlpha                               html  
    MarrData                                html  
    MarrFeatureVars                         html  
    MarrFeatures                            html  
    MarrFeaturesfiltered                    html  
    MarrFilterData                          html  
    MarrPFeatures                           html  
    MarrPSamplepairs                        html  
    MarrPlotFeatures                        html  
    MarrPlotSamplepairs                     html  
    MarrProc                                html  
    MarrSamplepairs                         html  
    MarrSamplepairsfiltered                 html  
    data.frameORSummarizedExperiment-class
                                            html  
    msprepCOPD                              html  
    vectorORNull-class                      html  
** building package indices
** installing vignettes
** testing if installed package can be loaded from temporary location
** testing if installed package can be loaded from final location
** testing if installed package keeps a record of temporary installation path
install for x64
* installing *source* package 'marr' ...
** libs
"C:/rtools40/mingw64/bin/"g++ -std=gnu++11  -I"C:/Users/BIOCBU~1/BBS-3~1.14-/R/include" -DNDEBUG  -I'C:/Users/biocbuild/bbs-3.14-bioc/R/library/Rcpp/include'   -I"C:/extsoft/include"     -O2 -Wall  -mfpmath=sse -msse2 -mstackrealign  -c RcppExports.cpp -o RcppExports.o
"C:/rtools40/mingw64/bin/"g++ -std=gnu++11  -I"C:/Users/BIOCBU~1/BBS-3~1.14-/R/include" -DNDEBUG  -I'C:/Users/biocbuild/bbs-3.14-bioc/R/library/Rcpp/include'   -I"C:/extsoft/include"     -O2 -Wall  -mfpmath=sse -msse2 -mstackrealign  -c marrUtility.cpp -o marrUtility.o
marrUtility.cpp: In function 'Rcpp::NumericVector getSS(Rcpp::NumericVector)':
marrUtility.cpp:75:7: warning: variable 'i' set but not used [-Wunused-but-set-variable]
   int i=0;
       ^
C:/rtools40/mingw64/bin/g++ -std=gnu++11 -shared -s -static-libgcc -o marr.dll tmp.def RcppExports.o marrUtility.o -LC:/extsoft/lib/x64 -LC:/extsoft/lib -LC:/Users/BIOCBU~1/BBS-3~1.14-/R/bin/x64 -lR
installing to C:/Users/biocbuild/bbs-3.14-bioc/meat/marr.buildbin-libdir/marr/libs/x64
** testing if installed package can be loaded
* MD5 sums
packaged installation of 'marr' as marr_1.4.0.zip
* DONE (marr)