| Back to Multiple platform build/check report for BioC 3.14 |
|
This page was generated on 2022-04-13 12:06:49 -0400 (Wed, 13 Apr 2022).
| Hostname | OS | Arch (*) | R version | Installed pkgs |
|---|---|---|---|---|
| nebbiolo2 | Linux (Ubuntu 20.04.4 LTS) | x86_64 | 4.1.3 (2022-03-10) -- "One Push-Up" | 4324 |
| tokay2 | Windows Server 2012 R2 Standard | x64 | 4.1.3 (2022-03-10) -- "One Push-Up" | 4077 |
| machv2 | macOS 10.14.6 Mojave | x86_64 | 4.1.3 (2022-03-10) -- "One Push-Up" | 4137 |
| Click on any hostname to see more info about the system (e.g. compilers) (*) as reported by 'uname -p', except on Windows and Mac OS X | ||||
|
To the developers/maintainers of the maSigPro package: - Please allow up to 24 hours (and sometimes 48 hours) for your latest push to git@git.bioconductor.org:packages/maSigPro.git to reflect on this report. See How and When does the builder pull? When will my changes propagate? for more information. - Make sure to use the following settings in order to reproduce any error or warning you see on this page. |
| Package 1050/2083 | Hostname | OS / Arch | INSTALL | BUILD | CHECK | BUILD BIN | ||||||||
| maSigPro 1.66.0 (landing page) Maria Jose Nueda
| nebbiolo2 | Linux (Ubuntu 20.04.4 LTS) / x86_64 | OK | OK | OK | |||||||||
| tokay2 | Windows Server 2012 R2 Standard / x64 | OK | OK | OK | OK | |||||||||
| machv2 | macOS 10.14.6 Mojave / x86_64 | OK | OK | OK | OK | |||||||||
| Package: maSigPro |
| Version: 1.66.0 |
| Command: rm -rf maSigPro.buildbin-libdir && mkdir maSigPro.buildbin-libdir && C:\Users\biocbuild\bbs-3.14-bioc\R\bin\R.exe CMD INSTALL --merge-multiarch --build --library=maSigPro.buildbin-libdir maSigPro_1.66.0.tar.gz |
| StartedAt: 2022-04-13 06:31:17 -0400 (Wed, 13 Apr 2022) |
| EndedAt: 2022-04-13 06:31:30 -0400 (Wed, 13 Apr 2022) |
| EllapsedTime: 12.9 seconds |
| RetCode: 0 |
| Status: OK |
| PackageFile: maSigPro_1.66.0.zip |
| PackageFileSize: 1.71 MiB |
##############################################################################
##############################################################################
###
### Running command:
###
### rm -rf maSigPro.buildbin-libdir && mkdir maSigPro.buildbin-libdir && C:\Users\biocbuild\bbs-3.14-bioc\R\bin\R.exe CMD INSTALL --merge-multiarch --build --library=maSigPro.buildbin-libdir maSigPro_1.66.0.tar.gz
###
##############################################################################
##############################################################################
install for i386
* installing *source* package 'maSigPro' ...
** using staged installation
** R
** data
** inst
** byte-compile and prepare package for lazy loading
** help
*** installing help indices
converting help for package 'maSigPro'
finding HTML links ... done
ISOdata html
ISOdesign html
IsoModel html
IsoPlot html
NBdata html
NBdesign html
PlotGroups html
PlotProfiles html
PodiumChange html
T.fit html
average.rows html
data.abiotic html
edesign.abiotic html
edesignCT html
edesignDR html
get.siggenes html
getDS html
getDSPatterns html
i.rank html
maSigProUsersGuide html
make.design.matrix html
p.vector html
position html
reg.coeffs html
see.genes html
seeDS html
stepback html
stepfor html
suma2Venn html
tableDS html
two.ways.stepback html
two.ways.stepfor html
** building package indices
** installing vignettes
** testing if installed package can be loaded from temporary location
** testing if installed package can be loaded from final location
** testing if installed package keeps a record of temporary installation path
install for x64
* installing *source* package 'maSigPro' ...
** testing if installed package can be loaded
* MD5 sums
packaged installation of 'maSigPro' as maSigPro_1.66.0.zip
* DONE (maSigPro)