| Back to Multiple platform build/check report for BioC 3.14 |
|
This page was generated on 2022-04-13 12:06:47 -0400 (Wed, 13 Apr 2022).
| Hostname | OS | Arch (*) | R version | Installed pkgs |
|---|---|---|---|---|
| nebbiolo2 | Linux (Ubuntu 20.04.4 LTS) | x86_64 | 4.1.3 (2022-03-10) -- "One Push-Up" | 4324 |
| tokay2 | Windows Server 2012 R2 Standard | x64 | 4.1.3 (2022-03-10) -- "One Push-Up" | 4077 |
| machv2 | macOS 10.14.6 Mojave | x86_64 | 4.1.3 (2022-03-10) -- "One Push-Up" | 4137 |
| Click on any hostname to see more info about the system (e.g. compilers) (*) as reported by 'uname -p', except on Windows and Mac OS X | ||||
|
To the developers/maintainers of the limma package: - Please allow up to 24 hours (and sometimes 48 hours) for your latest push to git@git.bioconductor.org:packages/limma.git to reflect on this report. See How and When does the builder pull? When will my changes propagate? for more information. - Make sure to use the following settings in order to reproduce any error or warning you see on this page. |
| Package 997/2083 | Hostname | OS / Arch | INSTALL | BUILD | CHECK | BUILD BIN | ||||||||
| limma 3.50.3 (landing page) Gordon Smyth
| nebbiolo2 | Linux (Ubuntu 20.04.4 LTS) / x86_64 | OK | OK | OK | |||||||||
| tokay2 | Windows Server 2012 R2 Standard / x64 | OK | OK | OK | OK | |||||||||
| machv2 | macOS 10.14.6 Mojave / x86_64 | OK | OK | OK | OK | |||||||||
| Package: limma |
| Version: 3.50.3 |
| Command: rm -rf limma.buildbin-libdir && mkdir limma.buildbin-libdir && C:\Users\biocbuild\bbs-3.14-bioc\R\bin\R.exe CMD INSTALL --merge-multiarch --build --library=limma.buildbin-libdir limma_3.50.3.tar.gz |
| StartedAt: 2022-04-13 06:29:28 -0400 (Wed, 13 Apr 2022) |
| EndedAt: 2022-04-13 06:30:09 -0400 (Wed, 13 Apr 2022) |
| EllapsedTime: 41.0 seconds |
| RetCode: 0 |
| Status: OK |
| PackageFile: limma_3.50.3.zip |
| PackageFileSize: 3.153 MiB |
##############################################################################
##############################################################################
###
### Running command:
###
### rm -rf limma.buildbin-libdir && mkdir limma.buildbin-libdir && C:\Users\biocbuild\bbs-3.14-bioc\R\bin\R.exe CMD INSTALL --merge-multiarch --build --library=limma.buildbin-libdir limma_3.50.3.tar.gz
###
##############################################################################
##############################################################################
install for i386
* installing *source* package 'limma' ...
** using staged installation
** libs
"C:/rtools40/mingw32/bin/"gcc -I"C:/Users/BIOCBU~1/BBS-3~1.14-/R/include" -DNDEBUG -I"C:/extsoft/include" -O2 -Wall -std=gnu99 -mfpmath=sse -msse2 -mstackrealign -c init.c -o init.o
"C:/rtools40/mingw32/bin/"gcc -I"C:/Users/BIOCBU~1/BBS-3~1.14-/R/include" -DNDEBUG -I"C:/extsoft/include" -O2 -Wall -std=gnu99 -mfpmath=sse -msse2 -mstackrealign -c normexp.c -o normexp.o
"C:/rtools40/mingw32/bin/"gcc -I"C:/Users/BIOCBU~1/BBS-3~1.14-/R/include" -DNDEBUG -I"C:/extsoft/include" -O2 -Wall -std=gnu99 -mfpmath=sse -msse2 -mstackrealign -c weighted_lowess.c -o weighted_lowess.o
C:/rtools40/mingw32/bin/gcc -shared -s -static-libgcc -o limma.dll tmp.def init.o normexp.o weighted_lowess.o -LC:/extsoft/lib/i386 -LC:/extsoft/lib -LC:/Users/BIOCBU~1/BBS-3~1.14-/R/bin/i386 -lR
installing to C:/Users/biocbuild/bbs-3.14-bioc/meat/limma.buildbin-libdir/00LOCK-limma/00new/limma/libs/i386
** R
** inst
** byte-compile and prepare package for lazy loading
** help
*** installing help indices
converting help for package 'limma'
finding HTML links ... done
01Introduction html
02classes html
03reading html
04Background html
05Normalization html
06linearmodels html
07SingleChannel html
08Tests html
09Diagnostics html
10GeneSetTests html
11RNAseq html
EList html
LargeDataObject html
PrintLayout html
TestResults html
alias2Symbol html
anova-method html
arrayWeights html
arrayWeightsQuick html
asMatrixWeights html
asdataframe html
asmalist html
asmatrix html
auROC html
avearrays html
avedups html
avereps html
backgroundcorrect html
barcodeplot html
beadCountWeights html
blockDiag html
bwss html
bwss.matrix html
camera html
cbind html
changelog html
channel2M html
chooseLowessSpan html
classifytestsF html
contrastAsCoef html
contrasts.fit html
controlStatus html
coolmap html
cumOverlap html
decideTests html
detectionPValue html
diffSplice html
dim html
dimnames html
dupcor html
ebayes html
exprsMA html
fitGammaIntercept html
fitfdist html
fitmixture html
fitted.MArrayLM html
genas html
geneSetTest html
getEAWP html
getSpacing html
getlayout html
gls.series html
goana html
gridspotrc html
head html
heatdiagram html
REDIRECT:topic Previous alias or file overwritten by alias: C:/Users/biocbuild/bbs-3.14-bioc/meat/limma.buildbin-libdir/00LOCK-limma/00new/limma/help/heatDiagram.html
helpMethods html
ids2indices html
imageplot html
imageplot3by2 html
intraspotCorrelation html
isfullrank html
isnumeric html
kooperberg html
limmaUsersGuide html
lm.series html
lmFit html
lmscFit html
loessfit html
logcosh html
logsumexp html
ma3x3 html
makeContrasts html
makeunique html
malist html
marraylm html
mdplot html
merge html
mergeScansRG html
modelMatrix html
modifyWeights html
mrlm html
nec html
normalizeCyclicLoess html
normalizeMedianAbsValues html
normalizeRobustSpline html
normalizeVSN html
normalizeWithinArrays html
normalizebetweenarrays html
normalizeprintorder html
normalizequantiles html
normexpfit html
normexpfitcontrol html
normexpfitdetectionp html
normexpsignal html
plotDensities html
plotExonJunc html
plotExons html
plotFB html
plotMD html
plotMDS html
plotRLDF html
plotSA html
plotSplice html
plotWithHighlights html
plotlines html
plotma html
plotma3by2 html
plotprinttiploess html
poolvar html
predFCm html
printHead html
printorder html
printtipWeights html
propTrueNull html
propexpr html
protectMetachar html
qqt html
qualwt html
rankSumTestwithCorrelation html
read.columns html
read.idat html
read.ilmn html
read.ilmn.targets html
read.maimages html
readGPRHeader html
readImaGeneHeader html
readSampleInfoFromGEO html
readSpotTypes html
readTargets html
readgal html
removeBatchEffect html
removeext html
residuals.MArrayLM html
rglist html
roast html
romer html
selectmodel html
squeezeVar html
strsplit2 html
subsetting html
summary html
targetsA2C html
tmixture html
topGO html
topRomer html
topSplice html
toptable html
tricubeMovingAverage html
trigammainverse html
trimWhiteSpace html
uniquegenelist html
unwrapdups html
venn html
volcanoplot html
voom html
voomWithQualityWeights html
vooma html
weightedLowess html
weightedmedian html
writefit html
wsva html
zscore html
zscoreT html
** building package indices
** installing vignettes
** testing if installed package can be loaded from temporary location
** testing if installed package can be loaded from final location
** testing if installed package keeps a record of temporary installation path
install for x64
* installing *source* package 'limma' ...
** libs
"C:/rtools40/mingw64/bin/"gcc -I"C:/Users/BIOCBU~1/BBS-3~1.14-/R/include" -DNDEBUG -I"C:/extsoft/include" -O2 -Wall -std=gnu99 -mfpmath=sse -msse2 -mstackrealign -c init.c -o init.o
"C:/rtools40/mingw64/bin/"gcc -I"C:/Users/BIOCBU~1/BBS-3~1.14-/R/include" -DNDEBUG -I"C:/extsoft/include" -O2 -Wall -std=gnu99 -mfpmath=sse -msse2 -mstackrealign -c normexp.c -o normexp.o
"C:/rtools40/mingw64/bin/"gcc -I"C:/Users/BIOCBU~1/BBS-3~1.14-/R/include" -DNDEBUG -I"C:/extsoft/include" -O2 -Wall -std=gnu99 -mfpmath=sse -msse2 -mstackrealign -c weighted_lowess.c -o weighted_lowess.o
C:/rtools40/mingw64/bin/gcc -shared -s -static-libgcc -o limma.dll tmp.def init.o normexp.o weighted_lowess.o -LC:/extsoft/lib/x64 -LC:/extsoft/lib -LC:/Users/BIOCBU~1/BBS-3~1.14-/R/bin/x64 -lR
installing to C:/Users/biocbuild/bbs-3.14-bioc/meat/limma.buildbin-libdir/limma/libs/x64
** testing if installed package can be loaded
* MD5 sums
packaged installation of 'limma' as limma_3.50.3.zip
* DONE (limma)