| Back to Multiple platform build/check report for BioC 3.14 | 
 | 
This page was generated on 2022-04-13 12:06:45 -0400 (Wed, 13 Apr 2022).
| Hostname | OS | Arch (*) | R version | Installed pkgs | 
|---|---|---|---|---|
| nebbiolo2 | Linux (Ubuntu 20.04.4 LTS) | x86_64 | 4.1.3 (2022-03-10) -- "One Push-Up" | 4324 | 
| tokay2 | Windows Server 2012 R2 Standard | x64 | 4.1.3 (2022-03-10) -- "One Push-Up" | 4077 | 
| machv2 | macOS 10.14.6 Mojave | x86_64 | 4.1.3 (2022-03-10) -- "One Push-Up" | 4137 | 
| Click on any hostname to see more info about the system (e.g. compilers) (*) as reported by 'uname -p', except on Windows and Mac OS X | ||||
| To the developers/maintainers of the interacCircos package: - Please allow up to 24 hours (and sometimes 48 hours) for your latest push to git@git.bioconductor.org:packages/interacCircos.git to reflect on this report. See How and When does the builder pull? When will my changes propagate? for more information. - Make sure to use the following settings in order to reproduce any error or warning you see on this page. | 
| Package 939/2083 | Hostname | OS / Arch | INSTALL | BUILD | CHECK | BUILD BIN | ||||||||
| interacCircos 1.4.0  (landing page) Zhe Cui 
 | nebbiolo2 | Linux (Ubuntu 20.04.4 LTS) / x86_64 | OK | OK | OK |  | ||||||||
| tokay2 | Windows Server 2012 R2 Standard / x64 | OK | OK | OK | OK |  | ||||||||
| machv2 | macOS 10.14.6 Mojave / x86_64 | OK | OK | OK | OK |  | ||||||||
| Package: interacCircos | 
| Version: 1.4.0 | 
| Command: rm -rf interacCircos.buildbin-libdir && mkdir interacCircos.buildbin-libdir && C:\Users\biocbuild\bbs-3.14-bioc\R\bin\R.exe CMD INSTALL --merge-multiarch --build --library=interacCircos.buildbin-libdir interacCircos_1.4.0.tar.gz | 
| StartedAt: 2022-04-13 06:27:07 -0400 (Wed, 13 Apr 2022) | 
| EndedAt: 2022-04-13 06:27:21 -0400 (Wed, 13 Apr 2022) | 
| EllapsedTime: 13.3 seconds | 
| RetCode: 0 | 
| Status: OK | 
| PackageFile: interacCircos_1.4.0.zip | 
| PackageFileSize: 899.3 KiB | 
##############################################################################
##############################################################################
###
### Running command:
###
###   rm -rf interacCircos.buildbin-libdir && mkdir interacCircos.buildbin-libdir && C:\Users\biocbuild\bbs-3.14-bioc\R\bin\R.exe CMD INSTALL --merge-multiarch --build --library=interacCircos.buildbin-libdir interacCircos_1.4.0.tar.gz
###
##############################################################################
##############################################################################
install for i386
* installing *source* package 'interacCircos' ...
** using staged installation
** R
** data
*** moving datasets to lazyload DB
** inst
** byte-compile and prepare package for lazy loading
** help
*** installing help indices
  converting help for package 'interacCircos'
    finding HTML links ... done
    Circos                                  html  
    CircosArc                               html  
    CircosAuxLine                           html  
    CircosBackground                        html  
    CircosBubble                            html  
    CircosChord                             html  
    CircosChord.p                           html  
    CircosCnv                               html  
    CircosGene                              html  
    CircosHeatmap                           html  
    CircosHistogram                         html  
    CircosLegend                            html  
    CircosLine                              html  
    CircosLink                              html  
    CircosLollipop                          html  
    CircosModuleList                        html  
    CircosScatter                           html  
    CircosSnp                               html  
    CircosText                              html  
    CircosWig                               html  
    arcExample                              html  
    bubbleExample                           html  
    chord.pExample                          html  
    chordExample                            html  
    cnvExample                              html  
    geneExample                             html  
    heatmapExample                          html  
    hg19_ideogram                           html  
    histogramExample                        html  
    lineExample                             html  
    linkExample                             html  
    lollipopExample                         html  
    scatterExample                          html  
    snpExample                              html  
    wigExample                              html  
** building package indices
** installing vignettes
** testing if installed package can be loaded from temporary location
** testing if installed package can be loaded from final location
** testing if installed package keeps a record of temporary installation path
install for x64
* installing *source* package 'interacCircos' ...
** testing if installed package can be loaded
* MD5 sums
packaged installation of 'interacCircos' as interacCircos_1.4.0.zip
* DONE (interacCircos)