| Back to Multiple platform build/check report for BioC 3.14 |
|
This page was generated on 2022-04-13 12:06:44 -0400 (Wed, 13 Apr 2022).
| Hostname | OS | Arch (*) | R version | Installed pkgs |
|---|---|---|---|---|
| nebbiolo2 | Linux (Ubuntu 20.04.4 LTS) | x86_64 | 4.1.3 (2022-03-10) -- "One Push-Up" | 4324 |
| tokay2 | Windows Server 2012 R2 Standard | x64 | 4.1.3 (2022-03-10) -- "One Push-Up" | 4077 |
| machv2 | macOS 10.14.6 Mojave | x86_64 | 4.1.3 (2022-03-10) -- "One Push-Up" | 4137 |
| Click on any hostname to see more info about the system (e.g. compilers) (*) as reported by 'uname -p', except on Windows and Mac OS X | ||||
|
To the developers/maintainers of the immunotation package: - Please allow up to 24 hours (and sometimes 48 hours) for your latest push to git@git.bioconductor.org:packages/immunotation.git to reflect on this report. See How and When does the builder pull? When will my changes propagate? for more information. - Make sure to use the following settings in order to reproduce any error or warning you see on this page. |
| Package 927/2083 | Hostname | OS / Arch | INSTALL | BUILD | CHECK | BUILD BIN | ||||||||
| immunotation 1.2.0 (landing page) Katharina Imkeller
| nebbiolo2 | Linux (Ubuntu 20.04.4 LTS) / x86_64 | OK | OK | OK | |||||||||
| tokay2 | Windows Server 2012 R2 Standard / x64 | OK | OK | OK | OK | |||||||||
| machv2 | macOS 10.14.6 Mojave / x86_64 | OK | OK | OK | OK | |||||||||
| Package: immunotation |
| Version: 1.2.0 |
| Command: rm -rf immunotation.buildbin-libdir && mkdir immunotation.buildbin-libdir && C:\Users\biocbuild\bbs-3.14-bioc\R\bin\R.exe CMD INSTALL --merge-multiarch --build --library=immunotation.buildbin-libdir immunotation_1.2.0.tar.gz |
| StartedAt: 2022-04-13 06:26:38 -0400 (Wed, 13 Apr 2022) |
| EndedAt: 2022-04-13 06:27:53 -0400 (Wed, 13 Apr 2022) |
| EllapsedTime: 74.6 seconds |
| RetCode: 0 |
| Status: OK |
| PackageFile: immunotation_1.2.0.zip |
| PackageFileSize: 4.013 MiB |
##############################################################################
##############################################################################
###
### Running command:
###
### rm -rf immunotation.buildbin-libdir && mkdir immunotation.buildbin-libdir && C:\Users\biocbuild\bbs-3.14-bioc\R\bin\R.exe CMD INSTALL --merge-multiarch --build --library=immunotation.buildbin-libdir immunotation_1.2.0.tar.gz
###
##############################################################################
##############################################################################
install for i386
* installing *source* package 'immunotation' ...
** using staged installation
** R
** inst
** byte-compile and prepare package for lazy loading
** help
*** installing help indices
converting help for package 'immunotation'
finding HTML links ... done
assemble_protein_complex html
build_allele_group html
check_geographics html
check_hla_locus html
check_hla_selection html
check_population html
check_sample_size html
check_standard html
create_encode_handle html
decode_MAC html
encode_MAC html
extract_population_id html
extract_population_info html
extract_population_name html
extract_sample_info html
fetch_encoded_MAC html
getURL html
get_G_group html
get_P_group html
get_external_file html
get_mhcpan_input html
get_nb_pages html
get_serotypes html
get_valid_geographics html
get_valid_organisms html
human_protein_complex_table html
load_mro html
mro.obo html
parse_allele_freq_html html
parse_haplotype_freq_html html
plot_allele_frequency html
query_allele_frequencies html
query_haplotype_frequencies html
query_population_detail html
read_complete_freq_table html
read_population_detail html
retrieve_chain_lookup_table html
verify_parameters html
** building package indices
** installing vignettes
** testing if installed package can be loaded from temporary location
** testing if installed package can be loaded from final location
** testing if installed package keeps a record of temporary installation path
install for x64
* installing *source* package 'immunotation' ...
** testing if installed package can be loaded
* MD5 sums
packaged installation of 'immunotation' as immunotation_1.2.0.zip
* DONE (immunotation)