| Back to Multiple platform build/check report for BioC 3.14 | 
  | 
This page was generated on 2022-04-13 12:08:10 -0400 (Wed, 13 Apr 2022).
| Hostname | OS | Arch (*) | R version | Installed pkgs | 
|---|---|---|---|---|
| nebbiolo2 | Linux (Ubuntu 20.04.4 LTS) | x86_64 | 4.1.3 (2022-03-10) -- "One Push-Up" | 4324 | 
| tokay2 | Windows Server 2012 R2 Standard | x64 | 4.1.3 (2022-03-10) -- "One Push-Up" | 4077 | 
| machv2 | macOS 10.14.6 Mojave | x86_64 | 4.1.3 (2022-03-10) -- "One Push-Up" | 4137 | 
| Click on any hostname to see more info about the system (e.g. compilers) (*) as reported by 'uname -p', except on Windows and Mac OS X | ||||
| 
To the developers/maintainers of the icetea package: - Please allow up to 24 hours (and sometimes 48 hours) for your latest push to git@git.bioconductor.org:packages/icetea.git to reflect on this report. See How and When does the builder pull? When will my changes propagate? for more information. - Make sure to use the following settings in order to reproduce any error or warning you see on this page.  | 
| Package 904/2083 | Hostname | OS / Arch | INSTALL | BUILD | CHECK | BUILD BIN | ||||||||
| icetea 1.12.0  (landing page) Vivek Bhardwaj 
  | nebbiolo2 | Linux (Ubuntu 20.04.4 LTS) / x86_64 | OK | OK | OK | |||||||||
| tokay2 | Windows Server 2012 R2 Standard / x64 | TIMEOUT | OK | ERROR | OK | |||||||||
| machv2 | macOS 10.14.6 Mojave / x86_64 | OK | OK | OK | OK | |||||||||
| Package: icetea | 
| Version: 1.12.0 | 
| Command: /Library/Frameworks/R.framework/Resources/bin/R CMD check --install=check:icetea.install-out.txt --library=/Library/Frameworks/R.framework/Resources/library --no-vignettes --timings icetea_1.12.0.tar.gz | 
| StartedAt: 2022-04-12 14:22:22 -0400 (Tue, 12 Apr 2022) | 
| EndedAt: 2022-04-12 14:31:04 -0400 (Tue, 12 Apr 2022) | 
| EllapsedTime: 521.7 seconds | 
| RetCode: 0 | 
| Status: OK | 
| CheckDir: icetea.Rcheck | 
| Warnings: 0 | 
##############################################################################
##############################################################################
###
### Running command:
###
###   /Library/Frameworks/R.framework/Resources/bin/R CMD check --install=check:icetea.install-out.txt --library=/Library/Frameworks/R.framework/Resources/library --no-vignettes --timings icetea_1.12.0.tar.gz
###
##############################################################################
##############################################################################
* using log directory ‘/Users/biocbuild/bbs-3.14-bioc/meat/icetea.Rcheck’
* using R version 4.1.3 (2022-03-10)
* using platform: x86_64-apple-darwin17.0 (64-bit)
* using session charset: UTF-8
* using option ‘--no-vignettes’
* checking for file ‘icetea/DESCRIPTION’ ... OK
* checking extension type ... Package
* this is package ‘icetea’ version ‘1.12.0’
* package encoding: UTF-8
* checking package namespace information ... OK
* checking package dependencies ... OK
* checking if this is a source package ... OK
* checking if there is a namespace ... OK
* checking for hidden files and directories ... OK
* checking for portable file names ... OK
* checking for sufficient/correct file permissions ... OK
* checking whether package ‘icetea’ can be installed ... OK
* checking installed package size ... OK
* checking package directory ... OK
* checking ‘build’ directory ... OK
* checking DESCRIPTION meta-information ... OK
* checking top-level files ... OK
* checking for left-over files ... OK
* checking index information ... OK
* checking package subdirectories ... OK
* checking R files for non-ASCII characters ... OK
* checking R files for syntax errors ... OK
* checking whether the package can be loaded ... OK
* checking whether the package can be loaded with stated dependencies ... OK
* checking whether the package can be unloaded cleanly ... OK
* checking whether the namespace can be loaded with stated dependencies ... OK
* checking whether the namespace can be unloaded cleanly ... OK
* checking dependencies in R code ... OK
* checking S3 generic/method consistency ... OK
* checking replacement functions ... OK
* checking foreign function calls ... OK
* checking R code for possible problems ... NOTE
detectTSS,CapSet : <anonymous>: no visible binding for global variable
  ‘logFC’
fitDiffTSS,CapSet: no visible binding for global variable ‘ResizeReads’
Undefined global functions or variables:
  ResizeReads logFC
* checking Rd files ... OK
* checking Rd metadata ... OK
* checking Rd cross-references ... OK
* checking for missing documentation entries ... OK
* checking for code/documentation mismatches ... OK
* checking Rd \usage sections ... OK
* checking Rd contents ... OK
* checking for unstated dependencies in examples ... OK
* checking files in ‘vignettes’ ... OK
* checking examples ... OK
Examples with CPU (user + system) or elapsed time > 5s
              user system elapsed
detectTSS   21.500  1.875  22.213
annotateTSS 15.518  0.425  16.189
* checking for unstated dependencies in ‘tests’ ... OK
* checking tests ...
  Running ‘testthat.R’
 OK
* checking for unstated dependencies in vignettes ... OK
* checking package vignettes in ‘inst/doc’ ... OK
* checking running R code from vignettes ... SKIPPED
* checking re-building of vignette outputs ... SKIPPED
* checking PDF version of manual ... OK
* DONE
Status: 1 NOTE
See
  ‘/Users/biocbuild/bbs-3.14-bioc/meat/icetea.Rcheck/00check.log’
for details.
icetea.Rcheck/00install.out
############################################################################## ############################################################################## ### ### Running command: ### ### /Library/Frameworks/R.framework/Resources/bin/R CMD INSTALL icetea ### ############################################################################## ############################################################################## * installing to library ‘/Library/Frameworks/R.framework/Versions/4.1/Resources/library’ * installing *source* package ‘icetea’ ... ** using staged installation ** R ** inst ** byte-compile and prepare package for lazy loading ** help *** installing help indices ** building package indices ** installing vignettes ** testing if installed package can be loaded from temporary location ** testing if installed package can be loaded from final location ** testing if installed package keeps a record of temporary installation path * DONE (icetea)
icetea.Rcheck/tests/testthat.Rout
R version 4.1.3 (2022-03-10) -- "One Push-Up"
Copyright (C) 2022 The R Foundation for Statistical Computing
Platform: x86_64-apple-darwin17.0 (64-bit)
R is free software and comes with ABSOLUTELY NO WARRANTY.
You are welcome to redistribute it under certain conditions.
Type 'license()' or 'licence()' for distribution details.
R is a collaborative project with many contributors.
Type 'contributors()' for more information and
'citation()' on how to cite R or R packages in publications.
Type 'demo()' for some demos, 'help()' for on-line help, or
'help.start()' for an HTML browser interface to help.
Type 'q()' to quit R.
> library(testthat)
> library(icetea)
> 
> test_check("icetea")
[ FAIL 0 | WARN 0 | SKIP 0 | PASS 17 ]
> 
> proc.time()
   user  system elapsed 
 59.612   2.779  61.239 
icetea.Rcheck/icetea-Ex.timings
| name | user | system | elapsed | |
| annotateTSS | 15.518 | 0.425 | 16.189 | |
| demultiplexFASTQ | 2.446 | 0.090 | 2.544 | |
| detectDiffTSS | 0.001 | 0.000 | 0.001 | |
| detectTSS | 21.500 | 1.875 | 22.213 | |
| exampleCSobject | 0.182 | 0.022 | 0.204 | |
| exportTSS | 0.353 | 0.036 | 0.390 | |
| filterDuplicates | 2.735 | 0.271 | 3.013 | |
| fitDiffTSS | 0 | 0 | 0 | |
| getGeneCounts | 3.175 | 0.131 | 3.312 | |
| getNormFactors | 2.688 | 0.950 | 2.145 | |
| mapCaps | 0.000 | 0.001 | 0.001 | |
| newCapSet | 0.091 | 0.013 | 0.104 | |
| plotReadStats | 0.575 | 0.070 | 0.651 | |
| plotTSSprecision | 3.695 | 0.217 | 3.926 | |
| sampleInfo | 0.185 | 0.007 | 0.193 | |
| splitBAM_byIndex | 0.368 | 0.051 | 0.419 | |
| splitBAM_byRepindex | 0.347 | 0.044 | 0.391 | |