| Back to Multiple platform build/check report for BioC 3.14 |
|
This page was generated on 2022-04-13 12:06:46 -0400 (Wed, 13 Apr 2022).
| Hostname | OS | Arch (*) | R version | Installed pkgs |
|---|---|---|---|---|
| nebbiolo2 | Linux (Ubuntu 20.04.4 LTS) | x86_64 | 4.1.3 (2022-03-10) -- "One Push-Up" | 4324 |
| tokay2 | Windows Server 2012 R2 Standard | x64 | 4.1.3 (2022-03-10) -- "One Push-Up" | 4077 |
| machv2 | macOS 10.14.6 Mojave | x86_64 | 4.1.3 (2022-03-10) -- "One Push-Up" | 4137 |
| Click on any hostname to see more info about the system (e.g. compilers) (*) as reported by 'uname -p', except on Windows and Mac OS X | ||||
|
To the developers/maintainers of the iSeq package: - Please allow up to 24 hours (and sometimes 48 hours) for your latest push to git@git.bioconductor.org:packages/iSeq.git to reflect on this report. See How and When does the builder pull? When will my changes propagate? for more information. - Make sure to use the following settings in order to reproduce any error or warning you see on this page. |
| Package 959/2083 | Hostname | OS / Arch | INSTALL | BUILD | CHECK | BUILD BIN | ||||||||
| iSeq 1.46.0 (landing page) Qianxing Mo
| nebbiolo2 | Linux (Ubuntu 20.04.4 LTS) / x86_64 | OK | OK | OK | |||||||||
| tokay2 | Windows Server 2012 R2 Standard / x64 | OK | OK | OK | OK | |||||||||
| machv2 | macOS 10.14.6 Mojave / x86_64 | OK | OK | OK | OK | |||||||||
| Package: iSeq |
| Version: 1.46.0 |
| Command: rm -rf iSeq.buildbin-libdir && mkdir iSeq.buildbin-libdir && C:\Users\biocbuild\bbs-3.14-bioc\R\bin\R.exe CMD INSTALL --merge-multiarch --build --library=iSeq.buildbin-libdir iSeq_1.46.0.tar.gz |
| StartedAt: 2022-04-13 06:28:04 -0400 (Wed, 13 Apr 2022) |
| EndedAt: 2022-04-13 06:28:15 -0400 (Wed, 13 Apr 2022) |
| EllapsedTime: 11.4 seconds |
| RetCode: 0 |
| Status: OK |
| PackageFile: iSeq_1.46.0.zip |
| PackageFileSize: 1.632 MiB |
##############################################################################
##############################################################################
###
### Running command:
###
### rm -rf iSeq.buildbin-libdir && mkdir iSeq.buildbin-libdir && C:\Users\biocbuild\bbs-3.14-bioc\R\bin\R.exe CMD INSTALL --merge-multiarch --build --library=iSeq.buildbin-libdir iSeq_1.46.0.tar.gz
###
##############################################################################
##############################################################################
install for i386
* installing *source* package 'iSeq' ...
** using staged installation
** libs
"C:/rtools40/mingw32/bin/"gcc -I"C:/Users/BIOCBU~1/BBS-3~1.14-/R/include" -DNDEBUG -I"C:/extsoft/include" -O2 -Wall -std=gnu99 -mfpmath=sse -msse2 -mstackrealign -c iSeq.c -o iSeq.o
C:/rtools40/mingw32/bin/gcc -shared -s -static-libgcc -o iSeq.dll tmp.def iSeq.o -LC:/extsoft/lib/i386 -LC:/extsoft/lib -LC:/Users/BIOCBU~1/BBS-3~1.14-/R/bin/i386 -lR
installing to C:/Users/biocbuild/bbs-3.14-bioc/meat/iSeq.buildbin-libdir/00LOCK-iSeq/00new/iSeq/libs/i386
** R
** data
*** moving datasets to lazyload DB
** demo
** inst
** byte-compile and prepare package for lazy loading
** help
*** installing help indices
converting help for package 'iSeq'
finding HTML links ... done
iSeq1 html
iSeq2 html
mergetag html
nrsf html
peakreg html
plotreg html
** building package indices
** installing vignettes
** testing if installed package can be loaded from temporary location
** testing if installed package can be loaded from final location
** testing if installed package keeps a record of temporary installation path
install for x64
* installing *source* package 'iSeq' ...
** libs
"C:/rtools40/mingw64/bin/"gcc -I"C:/Users/BIOCBU~1/BBS-3~1.14-/R/include" -DNDEBUG -I"C:/extsoft/include" -O2 -Wall -std=gnu99 -mfpmath=sse -msse2 -mstackrealign -c iSeq.c -o iSeq.o
C:/rtools40/mingw64/bin/gcc -shared -s -static-libgcc -o iSeq.dll tmp.def iSeq.o -LC:/extsoft/lib/x64 -LC:/extsoft/lib -LC:/Users/BIOCBU~1/BBS-3~1.14-/R/bin/x64 -lR
installing to C:/Users/biocbuild/bbs-3.14-bioc/meat/iSeq.buildbin-libdir/iSeq/libs/x64
** testing if installed package can be loaded
* MD5 sums
packaged installation of 'iSeq' as iSeq_1.46.0.zip
* DONE (iSeq)