| Back to Multiple platform build/check report for BioC 3.14 | 
  | 
This page was generated on 2022-04-13 12:06:43 -0400 (Wed, 13 Apr 2022).
| Hostname | OS | Arch (*) | R version | Installed pkgs | 
|---|---|---|---|---|
| nebbiolo2 | Linux (Ubuntu 20.04.4 LTS) | x86_64 | 4.1.3 (2022-03-10) -- "One Push-Up" | 4324 | 
| tokay2 | Windows Server 2012 R2 Standard | x64 | 4.1.3 (2022-03-10) -- "One Push-Up" | 4077 | 
| machv2 | macOS 10.14.6 Mojave | x86_64 | 4.1.3 (2022-03-10) -- "One Push-Up" | 4137 | 
| Click on any hostname to see more info about the system (e.g. compilers) (*) as reported by 'uname -p', except on Windows and Mac OS X | ||||
| 
To the developers/maintainers of the iCheck package: - Please allow up to 24 hours (and sometimes 48 hours) for your latest push to git@git.bioconductor.org:packages/iCheck.git to reflect on this report. See How and When does the builder pull? When will my changes propagate? for more information. - Make sure to use the following settings in order to reproduce any error or warning you see on this page.  | 
| Package 905/2083 | Hostname | OS / Arch | INSTALL | BUILD | CHECK | BUILD BIN | ||||||||
| iCheck 1.24.0  (landing page) Weiliang Qiu 
  | nebbiolo2 | Linux (Ubuntu 20.04.4 LTS) / x86_64 | OK | OK | OK | |||||||||
| tokay2 | Windows Server 2012 R2 Standard / x64 | OK | OK | OK | OK | |||||||||
| machv2 | macOS 10.14.6 Mojave / x86_64 | OK | OK | OK | OK | |||||||||
| Package: iCheck | 
| Version: 1.24.0 | 
| Command: rm -rf iCheck.buildbin-libdir && mkdir iCheck.buildbin-libdir && C:\Users\biocbuild\bbs-3.14-bioc\R\bin\R.exe CMD INSTALL --merge-multiarch --build --library=iCheck.buildbin-libdir iCheck_1.24.0.tar.gz | 
| StartedAt: 2022-04-13 06:26:05 -0400 (Wed, 13 Apr 2022) | 
| EndedAt: 2022-04-13 06:27:19 -0400 (Wed, 13 Apr 2022) | 
| EllapsedTime: 74.2 seconds | 
| RetCode: 0 | 
| Status: OK | 
| PackageFile: iCheck_1.24.0.zip | 
| PackageFileSize: 686 KiB | 
##############################################################################
##############################################################################
###
### Running command:
###
###   rm -rf iCheck.buildbin-libdir && mkdir iCheck.buildbin-libdir && C:\Users\biocbuild\bbs-3.14-bioc\R\bin\R.exe CMD INSTALL --merge-multiarch --build --library=iCheck.buildbin-libdir iCheck_1.24.0.tar.gz
###
##############################################################################
##############################################################################
install for i386
* installing *source* package 'iCheck' ...
** using staged installation
** R
** inst
** byte-compile and prepare package for lazy loading
No methods found in package 'RSQLite' for request: 'dbListFields' when loading 'lumi'
** help
*** installing help indices
  converting help for package 'iCheck'
    finding HTML links ... done
    LumiBatch2Table                         html  
    R2PlotFunc                              html  
    finding level-2 HTML links ... done
    boxPlots                                html  
    densityPlots                            html  
    genExprSet                              html  
    genSimData.BayesNormal                  html  
    getPCAFunc                              html  
    glmWrapper                              html  
    lkhrWrapper                             html  
    lmFitPaired                             html  
    lmFitWrapper                            html  
    pca2DPlot                               html  
    pca3DPlot                               html  
    plotCurves                              html  
    plotQCCurves                            html  
    plotSamplep95p05                        html  
    quantilePlot                            html  
    scatterPlots                            html  
    sortExpressionSet                       html  
** building package indices
** installing vignettes
** testing if installed package can be loaded from temporary location
No methods found in package 'RSQLite' for request: 'dbListFields' when loading 'lumi'
** testing if installed package can be loaded from final location
No methods found in package 'RSQLite' for request: 'dbListFields' when loading 'lumi'
** testing if installed package keeps a record of temporary installation path
install for x64
* installing *source* package 'iCheck' ...
** testing if installed package can be loaded
No methods found in package 'RSQLite' for request: 'dbListFields' when loading 'lumi'
* MD5 sums
packaged installation of 'iCheck' as iCheck_1.24.0.zip
* DONE (iCheck)